BEGIN:VCALENDAR
VERSION:2.0
PRODID:-//Community Reporter - ECPv6.15.20//NONSGML v1.0//EN
CALSCALE:GREGORIAN
METHOD:PUBLISH
X-ORIGINAL-URL:https://communityreporter.org
X-WR-CALDESC:Events for Community Reporter
REFRESH-INTERVAL;VALUE=DURATION:PT1H
X-Robots-Tag:noindex
X-PUBLISHED-TTL:PT1H
BEGIN:VTIMEZONE
TZID:America/Chicago
BEGIN:DAYLIGHT
TZOFFSETFROM:-0600
TZOFFSETTO:-0500
TZNAME:CDT
DTSTART:20220313T080000
END:DAYLIGHT
BEGIN:STANDARD
TZOFFSETFROM:-0500
TZOFFSETTO:-0600
TZNAME:CST
DTSTART:20221106T070000
END:STANDARD
BEGIN:DAYLIGHT
TZOFFSETFROM:-0600
TZOFFSETTO:-0500
TZNAME:CDT
DTSTART:20230312T080000
END:DAYLIGHT
BEGIN:STANDARD
TZOFFSETFROM:-0500
TZOFFSETTO:-0600
TZNAME:CST
DTSTART:20231105T070000
END:STANDARD
BEGIN:DAYLIGHT
TZOFFSETFROM:-0600
TZOFFSETTO:-0500
TZNAME:CDT
DTSTART:20240310T080000
END:DAYLIGHT
BEGIN:STANDARD
TZOFFSETFROM:-0500
TZOFFSETTO:-0600
TZNAME:CST
DTSTART:20241103T070000
END:STANDARD
BEGIN:DAYLIGHT
TZOFFSETFROM:-0600
TZOFFSETTO:-0500
TZNAME:CDT
DTSTART:20250309T080000
END:DAYLIGHT
BEGIN:STANDARD
TZOFFSETFROM:-0500
TZOFFSETTO:-0600
TZNAME:CST
DTSTART:20251102T070000
END:STANDARD
END:VTIMEZONE
BEGIN:VEVENT
DTSTART;TZID=America/Chicago:20231104T100000
DTEND;TZID=America/Chicago:20240524T160000
DTSTAMP:20260422T045604
CREATED:20231129T164558Z
LAST-MODIFIED:20231129T164558Z
UID:7403-1699092000-1716566400@communityreporter.org
SUMMARY:Hazel Belvo: For Love
DESCRIPTION:November 4\, 2023–May 24\, 2024. Minnesota Museum of American Art \nHazel Belvo is a significant American artist\, art educator and feminist leader. This series of exquisite artworks\, representing couples in positions of intimacy\, tenderness\, and reciprocity\, began in 1967 as a counter to the dry and shame-inducing sex education her son was receiving in school and continued until 1982. The Love Drawings are about so much more than intimacy and pleasure\, although these are important themes. They are exquisite representations of loving connections\, tenderness\, and reciprocity—a call for love and respect instead of war and violence\, dignity and joy instead of shame and insensitivity.   \nLearn more at mmaa.org/hazel-belvo-for-love 
URL:https://communityreporter.org/event/hazel-belvo-for-love/
LOCATION:Minnesota Museum of American Art
END:VEVENT
BEGIN:VEVENT
DTSTART;VALUE=DATE:20240405
DTEND;VALUE=DATE:20240526
DTSTAMP:20260422T045604
CREATED:20240503T193521Z
LAST-MODIFIED:20240503T193521Z
UID:8749-1712275200-1716681599@communityreporter.org
SUMMARY:Local and National Book Arts Exhibition in West 7th’s Arts District
DESCRIPTION:April 5-May 25. Friedli Gallery. Free \nFriedli Gallery’s 3rd Annual Book Arts Exhibition showcases Book Arts in a one of a kind exhibition curated by nationally acclaimed book artist Erin Maurelli.  Featuring artists from across the United States\, Friedli Gallery’s Book Arts Exhibition highlights artist explorations of the idea of a book as an art object. \nThis year’s submissions to the Friedli Gallery’s Book Arts Exhibition seeks to expand viewer knowledge of the book arts here in the Twin Cities Metro and beyond\, broadening artist reach to collectors\, artists and art appreciators.  \nFriedli Gallery’s Book Arts Exhibition Opening Reception is Friday April 5th  from 6-8pm. Learn more about this event on the Gallery website at 3rd Annual Book Arts Exhibition- friedliartsgallery.com/classes-and-events-2/3rd-annual-book-arts-exhibition
URL:https://communityreporter.org/event/local-and-national-book-arts-exhibition-in-west-7ths-arts-district/
LOCATION:Friedli Gallery
END:VEVENT
BEGIN:VEVENT
DTSTART;TZID=America/Chicago:20240504T100000
DTEND;TZID=America/Chicago:20240504T170000
DTSTAMP:20260422T045604
CREATED:20240416T192543Z
LAST-MODIFIED:20240416T192543Z
UID:8673-1714816800-1714842000@communityreporter.org
SUMMARY:St Paul’s Westside Cinco de Mayo
DESCRIPTION:May 4. 10:00 a.m. – 5:00 p.m. Cesar Chavez St.\nEmbark on a remarkable experience with us on May 4th as we bring the vibrant and lively spirit of Mexico to the Westside of St. Paul. A day filled with boundless joy\, infectious laughter\, and unforgettably blissful moments awaits you. We wholeheartedly invite you to be a part of this magical affair and celebrate life to the fullest! Join us and discover the true essence of the Mexican culture as we create cherished memories that will linger in your heart forever. Are you ready to experience the beauty of Mexico right here in the Westside of St. Paul? We cannot wait to have you join us for this memorable celebration! \nLearn more at westsidecincodemayo.com.
URL:https://communityreporter.org/event/st-pauls-westside-cinco-de-mayo/
LOCATION:Cesar Chavez St.
ATTACH;FMTTYPE=image/png:https://communityreporter.org/wp-content/uploads/2024/04/Cinco-de-Mayo.png
END:VEVENT
BEGIN:VEVENT
DTSTART;TZID=America/Chicago:20240504T100000
DTEND;TZID=America/Chicago:20240504T170000
DTSTAMP:20260422T045604
CREATED:20240503T193057Z
LAST-MODIFIED:20240503T193057Z
UID:8744-1714816800-1714842000@communityreporter.org
SUMMARY:Celebrating Black Composers Concert with the SPCO
DESCRIPTION:May 4\, 2:00 – 3:30 p.m. Minnesota History Center. $10-$15  \nJoin members of the St. Paul Chamber Orchestra for a concert highlighting the work of African American composers from the late 19th century to the present day. In the decades after Emancipation\, Black American culture and music flourished alongside the continued fight for full citizenship\, including within the world of classical music. Come listen to the artistic achievements of Black Americans who have pushed the bounds of social and artistic inclusion for over a century. The program will feature guest pianist Timothy Lovelace and works by Florence Price and Robert Nathaniel Dett. \nFor tickets and more information\, visit mnhs.org/events/1472. 
URL:https://communityreporter.org/event/celebrating-black-composers-concert-with-the-spco/
LOCATION:Minnesota History Center
ATTACH;FMTTYPE=image/jpeg:https://communityreporter.org/wp-content/uploads/2024/05/24_mhc_spco_calendar.jpg
END:VEVENT
BEGIN:VEVENT
DTSTART;TZID=America/Chicago:20240508T130000
DTEND;TZID=America/Chicago:20240508T170000
DTSTAMP:20260422T045604
CREATED:20240503T192247Z
LAST-MODIFIED:20240503T192247Z
UID:8739-1715173200-1715187600@communityreporter.org
SUMMARY:Trade Ideas Block Party
DESCRIPTION:May 8\, 1:00 – 5:00 p.m. Urban Boatbuilders.  \nUrban Boatbuilders is hosting a Trade Ideas Block Party\, May 8th from 1 – 5 p.m.\, that connects young people\, career training\, trade and workforce development organizations\, and a supportive community to help uplift and celebrate the journey of getting paid\, stable employment. \nThis free block party is by the Urban Boatbuilders woodshop\, located at 2288 University Ave W\, St. Paul\, MN 55114. It will feature virtual reality activities from the Big Ideas Trailer and the Finishing Institute of the Upper Midwest\, there will be engagement activities from trade and workforce organizations\, and snacks and refreshments will be flowing freely! \nLearn more at urbanboatbuilders.org/events/trade-ideas-block-party. 
URL:https://communityreporter.org/event/trade-ideas-block-party/
LOCATION:Urban Boat Builders
ATTACH;FMTTYPE=image/webp:https://communityreporter.org/wp-content/uploads/2024/05/ubb-trade-ideas.webp
END:VEVENT
BEGIN:VEVENT
DTSTART;TZID=America/Chicago:20240509T160000
DTEND;TZID=America/Chicago:20240509T170000
DTSTAMP:20260422T045604
CREATED:20240501T153651Z
LAST-MODIFIED:20240501T153651Z
UID:8737-1715270400-1715274000@communityreporter.org
SUMMARY:Community Conversations with Councilmember Rebecca Noecker
DESCRIPTION:May 9\, 4-5:00 p.m. Palace Recreation Center. \nCommunity Conversations are an opportunity for anyone to drop by\, ask questions\, follow up on concerns\, and get to know other Ward 2 neighbors. \nConversation with special guest Parks Director Andy Rodriguez \nMay 9\, 4-5 pm\nPalace Rec Center\n781 Palace Avenue
URL:https://communityreporter.org/event/community-conversations-with-councilmember-rebecca-noecker-2/
LOCATION:Palace Community Center
ATTACH;FMTTYPE=image/jpeg:https://communityreporter.org/wp-content/uploads/2019/10/19-October-Rebecca-Noecker-1-e1699464348868.jpg
END:VEVENT
BEGIN:VEVENT
DTSTART;TZID=America/Chicago:20240512T130000
DTEND;TZID=America/Chicago:20240512T150000
DTSTAMP:20260422T045604
CREATED:20240501T153427Z
LAST-MODIFIED:20240501T153427Z
UID:8734-1715518800-1715526000@communityreporter.org
SUMMARY:St. Paul Civic Symphony’s Annual Mother’s Day Concert
DESCRIPTION:May 12\, 1:00 pm. Landmark Center. Free \nThe St. Paul Civic Symphony always fills up their Mother’s Day concert as the music chosen for this event is always popular. Bring your family for a beautiful and heartfelt concert. \nLearn more at landmarkcenter.org/event/st-paul-civic-symphonys-annual-mothers-day-concert-2/
URL:https://communityreporter.org/event/st-paul-civic-symphonys-annual-mothers-day-concert/
LOCATION:Landmark Center
ATTACH;FMTTYPE=image/jpeg:https://communityreporter.org/wp-content/uploads/2024/05/hero-spcs-wintercarnival-2018.jpg
END:VEVENT
BEGIN:VEVENT
DTSTART;TZID=America/Chicago:20240512T160000
DTEND;TZID=America/Chicago:20240512T180000
DTSTAMP:20260422T045604
CREATED:20240501T153046Z
LAST-MODIFIED:20240501T153046Z
UID:8729-1715529600-1715536800@communityreporter.org
SUMMARY:Music in Irvine Park
DESCRIPTION:May 12\, 4:00 pm. Irvine Park. Free \nThe Historic Irvine Park Association presents Music In Irvine Park throughout the summer. Their first concert will be May 12 at 4:00 p.m. and feature Grant West.
URL:https://communityreporter.org/event/music-in-irvine-park/
LOCATION:Irvine Park
ATTACH;FMTTYPE=image/png:https://communityreporter.org/wp-content/uploads/2024/05/music-in-irvine-park.png
END:VEVENT
BEGIN:VEVENT
DTSTART;TZID=America/Chicago:20240514T190000
DTEND;TZID=America/Chicago:20240514T203000
DTSTAMP:20260422T045604
CREATED:20240501T152705Z
LAST-MODIFIED:20240501T152705Z
UID:8727-1715713200-1715718600@communityreporter.org
SUMMARY:Genocides on Trial – Israel\, Russia\, China\, Myanmar\, and Serbia
DESCRIPTION:May 14\, 7:00 – 8:30 p.m. Online. $5-$25 \nAllegations of genocide are being brought against a number of countries at the International Court of Justice in The Hague\, Netherlands. This webinar\, with speaker Dr. Ellen J. Kennedy\, Executive Director\, World Without Genocide\, examines the apparent impunity of China\, and charges against Israel\, Russia\, and Myanmar in a precedent set years ago in a case against Serbia. \nRegistration is required by Tuesday\, May 14\, 5:00 p.m. Learn more and register at worldwithoutgenocide.org/trial.
URL:https://communityreporter.org/event/genocides-on-trial-israel-russia-china-myanmar-and-serbia/
LOCATION:Online
END:VEVENT
BEGIN:VEVENT
DTSTART;TZID=America/Chicago:20240516T170000
DTEND;TZID=America/Chicago:20240516T183000
DTSTAMP:20260422T045604
CREATED:20240501T152257Z
LAST-MODIFIED:20240501T152353Z
UID:8723-1715878800-1715884200@communityreporter.org
SUMMARY:Celebrate Bike to Work Week with a Group Ride in Downtown St. Paul
DESCRIPTION:May 16\, 5:00-6:30 p.m.\, Union Depot \nBike to Work Week is May 13 through May 17 — and we’re celebrating on May 16 in St. Paul with a casual ride around downtown on the newly completed first phase of the Kellogg Boulevard Capital City Bikeway! Meet us at the Union Depot (214 4th St E\, St. Paul\, MN  55101) for a mellow-paced group ride on the non-dedicated lanes on Wabasha Street\, tracing the path of the future\, fully protected bikeway. We will take a short jaunt along the Samuel Morgan Trail\, and then end with an optional social gathering to connect and celebrate after the ride. The total route is 3 miles and will highlight great bicycle infrastructure being developed in downtown St. Paul. Questions? Reach out to Max at maxs@movemn.org.   \nRSVP and learn more at movemn.org/event/summer-group-bike-ride-kellogg-capital-city-bikeway.
URL:https://communityreporter.org/event/celebrate-bike-to-work-week-with-a-group-ride-in-downtown-st-paul/
LOCATION:Union Depot
ATTACH;FMTTYPE=image/png:https://communityreporter.org/wp-content/uploads/2024/05/Bike-to-Work-Week-Ride.png
END:VEVENT
BEGIN:VEVENT
DTSTART;TZID=America/Chicago:20240518T110000
DTEND;TZID=America/Chicago:20240519T180000
DTSTAMP:20260422T045604
CREATED:20240501T151743Z
LAST-MODIFIED:20240501T151838Z
UID:8717-1716030000-1716141600@communityreporter.org
SUMMARY:Minnesota Songkran Festival
DESCRIPTION:May 18 11 a.m. – 9 p.m. and May 19\, 11 a.m. – 6 p.m. Minnesota State Capital \nSongkran celebrates Thai New Year and will draw thousands of Minnesotans and Midwesterners to experience Thai culture\, with guests from every nationality and background celebrating the beauty of cultural diversity and embracing optimism for the new year. \n \nLearn more at thaiculturemn.us. \n  \n 
URL:https://communityreporter.org/event/minnesota-songkran-festival/
LOCATION:Minnesota State Capitol
ATTACH;FMTTYPE=image/jpeg:https://communityreporter.org/wp-content/uploads/2024/05/Minnesota-Songkran-Festival-e1714576545340.jpg
END:VEVENT
BEGIN:VEVENT
DTSTART;TZID=America/Chicago:20240519T170000
DTEND;TZID=America/Chicago:20240519T200000
DTSTAMP:20260422T045604
CREATED:20240501T150808Z
LAST-MODIFIED:20240501T151927Z
UID:8713-1716138000-1716148800@communityreporter.org
SUMMARY:8th JFS Annual Celebration of Service
DESCRIPTION:May 19\, 5:00-8:00 p.m. Mendakota Country Club. $125. \nThe event will honor Jim Scheib\, recipient of the Anita and Jim Dinerstein Community Service Award\, who  donated more than 254 hours of volunteer service to JFS in 2023.   \nThe Celebration of Service will be hosted by former JFS board member Bruce Goodman. He has made an  inspiring lead gift to support all JFS services that benefit Holocaust survivors. The dinner table for several Holocaust survivors who are joining the Celebration is being underwritten in honor of the Bruce  Goodman Read in Color Little Free Library at JFS.  \nA live auction will allow guests to bid on several exciting packages including private meals\, tickets to sporting  events\, fine jewelry and national vacation experiences.  \nTickets are $125. For more information and tickets\, visit jfssp.org/events.   \n 
URL:https://communityreporter.org/event/8th-jfs-annual-celebration-of-service/
LOCATION:Mendakota Country Club
ATTACH;FMTTYPE=image/jpeg:https://communityreporter.org/wp-content/uploads/2021/04/jewish-family-services.jpg
END:VEVENT
BEGIN:VEVENT
DTSTART;TZID=America/Chicago:20240529T090000
DTEND;TZID=America/Chicago:20240601T170000
DTSTAMP:20260422T045604
CREATED:20240501T150414Z
LAST-MODIFIED:20240501T150414Z
UID:8708-1716973200-1717261200@communityreporter.org
SUMMARY:Flint Hills Family Festival
DESCRIPTION:May 29-June 1. Rice Park. Free with some paid performances. \nDance\, discover\, and dream at the 2024 Flint Hills Family Festival! At this annual event\, kids can dance to local and nationally renowned artists like Davina and the Vagabonds; 123 Andres!; NOOMA\, an opera for babies; and Cirque Kalabanté with low-priced tickets. Plus\, local music and dance groups\, including fan favorites B2wins and Salsa del Soul\, will give FREE performances on two outdoor stages Friday night and Saturday. \nThe whole family can discover all that St. Paul has to offer by creating their own adventure through Rice Park\, enjoying interactive artmaking activities with Festival Partners including Children’s Theatre Company\, Hoang Anh Vietnamese Dance Group\, George Latimer Central Library\, Math Happens and so many more. With free crafts\, STEAM activities\, henna artists\, face painting\, balloon artists\, and so much more\, there is something for everyone! \nLearn more at ordway.org/festival.
URL:https://communityreporter.org/event/flint-hills-family-festival/
LOCATION:Ordway Center for the Performing Arts
ATTACH;FMTTYPE=image/webp:https://communityreporter.org/wp-content/uploads/2024/02/FlintHills2023-7281032_-e1708794323204.webp
END:VEVENT
END:VCALENDAR