BEGIN:VCALENDAR
VERSION:2.0
PRODID:-//Community Reporter - ECPv6.15.20//NONSGML v1.0//EN
CALSCALE:GREGORIAN
METHOD:PUBLISH
X-WR-CALNAME:Community Reporter
X-ORIGINAL-URL:https://communityreporter.org
X-WR-CALDESC:Events for Community Reporter
REFRESH-INTERVAL;VALUE=DURATION:PT1H
X-Robots-Tag:noindex
X-PUBLISHED-TTL:PT1H
BEGIN:VTIMEZONE
TZID:America/Chicago
BEGIN:DAYLIGHT
TZOFFSETFROM:-0600
TZOFFSETTO:-0500
TZNAME:CDT
DTSTART:20220313T080000
END:DAYLIGHT
BEGIN:STANDARD
TZOFFSETFROM:-0500
TZOFFSETTO:-0600
TZNAME:CST
DTSTART:20221106T070000
END:STANDARD
BEGIN:DAYLIGHT
TZOFFSETFROM:-0600
TZOFFSETTO:-0500
TZNAME:CDT
DTSTART:20230312T080000
END:DAYLIGHT
BEGIN:STANDARD
TZOFFSETFROM:-0500
TZOFFSETTO:-0600
TZNAME:CST
DTSTART:20231105T070000
END:STANDARD
BEGIN:DAYLIGHT
TZOFFSETFROM:-0600
TZOFFSETTO:-0500
TZNAME:CDT
DTSTART:20240310T080000
END:DAYLIGHT
BEGIN:STANDARD
TZOFFSETFROM:-0500
TZOFFSETTO:-0600
TZNAME:CST
DTSTART:20241103T070000
END:STANDARD
BEGIN:DAYLIGHT
TZOFFSETFROM:-0600
TZOFFSETTO:-0500
TZNAME:CDT
DTSTART:20250309T080000
END:DAYLIGHT
BEGIN:STANDARD
TZOFFSETFROM:-0500
TZOFFSETTO:-0600
TZNAME:CST
DTSTART:20251102T070000
END:STANDARD
END:VTIMEZONE
BEGIN:VEVENT
DTSTART;TZID=America/Chicago:20231101T193000
DTEND;TZID=America/Chicago:20231119T213000
DTSTAMP:20260422T135656
CREATED:20231023T165422Z
LAST-MODIFIED:20231025T191414Z
UID:7001-1698867000-1700429400@communityreporter.org
SUMMARY:ANON(YMOUS)
DESCRIPTION:November 1-19\, Park Square Theater\, Pay as you are able \nTempest-tossed and lost at sea\, a young refugee called Anon embarks on a harrowing journey across the United States to find his mother. Based on Homer’s epic poem\, The Odyssey\, Anon(ymous) weaves together ancient truths and contemporary realities about re-membering one’s identity and finding home in a strange new land. The fair market price per ticket is $35\, but every performance of Anon(ymous) is pay as you are able. Learn more and purchase tickets at fullcircletheatermn.org/tickets.
URL:https://communityreporter.org/event/anonymous/
LOCATION:Park Square Theater
CATEGORIES:Cultural Events,Theater
ATTACH;FMTTYPE=image/jpeg:https://communityreporter.org/wp-content/uploads/2023/10/Anonymous-IMAGE.jpeg
END:VEVENT
BEGIN:VEVENT
DTSTART;TZID=America/Chicago:20231102T080000
DTEND;TZID=America/Chicago:20231102T120000
DTSTAMP:20260422T135656
CREATED:20231023T165604Z
LAST-MODIFIED:20231023T171001Z
UID:7004-1698912000-1698926400@communityreporter.org
SUMMARY:Sweater Vest Fest
DESCRIPTION:November 2\, 8:00 a.m.-12:00 p.m.\, Break Bread \nSweater vest cookies! New seasonal drink menu! Who wore it vest? Photo collection! Plus\, wear your sweater vest and get 10% off your order. Learn more and pre-order your sweater vest cookies at brakebread.com.
URL:https://communityreporter.org/event/sweater-vest-fest/
LOCATION:Brake Bread
CATEGORIES:Food
ATTACH;FMTTYPE=image/png:https://communityreporter.org/wp-content/uploads/2023/10/unnamed-1.png
END:VEVENT
BEGIN:VEVENT
DTSTART;VALUE=DATE:20231103
DTEND;VALUE=DATE:20240101
DTSTAMP:20260422T135656
CREATED:20231023T165928Z
LAST-MODIFIED:20231124T204601Z
UID:7010-1698969600-1704067199@communityreporter.org
SUMMARY:“We Are Still Here” Indigenous Art Showcase at Friedli Gallery
DESCRIPTION:Opening Reception November 3\, 6:00 – 8:00 p.m. Friedli Gallery\n“We Are Still Here” moves into its fourth year at Friedli Gallery. Featuring native artists from across Turtle Island\, “We Are Still Here” brings to the fore the life\, histories and politics of what it means to be Indigenous in the 21st Century. Artists featured in this year’s show include Jennifer Adams\, Armond Antonio\, Tamara Aupaumut\, Racquel Banaszak\, Aiyana Beaulieu\, Carly Bordeau\, Jamie Z Brown\, Awanigiizhik Bruce\, Shaun Chosa\, Robert DesJarlait\, Kent Estey\, Gidinatiy Hartman\, Madeline Hernandez\, Rayshele Kamke\, Chanti Manon-Ferguson\, Niki Pico\, Abby Sunde. Tammy Villegas\, and Sam Zimmerman. “We Are Still Here” Opening Reception is Friday November 3rd from 6-8pm. Learn more about this event at friedliartsgallery.com.
URL:https://communityreporter.org/event/we-are-still-here-indigenous-art-showcase-at-friedli-gallery/
LOCATION:Friedli Gallery
CATEGORIES:Cultural Events
ATTACH;FMTTYPE=image/jpeg:https://communityreporter.org/wp-content/uploads/2023/10/we-are-still-here.jpg
END:VEVENT
BEGIN:VEVENT
DTSTART;TZID=America/Chicago:20231103T173000
DTEND;TZID=America/Chicago:20231103T213000
DTSTAMP:20260422T135656
CREATED:20231023T165746Z
LAST-MODIFIED:20231023T165746Z
UID:7007-1699032600-1699047000@communityreporter.org
SUMMARY:Once Upon a Time Gala
DESCRIPTION:November 3\, 5:30-9:30 p.m.\, Landmark Center\, $150 \nThe Once Upon A Time Gala is a vibrant celebration in support of Landmark Center and its free and inclusive arts and cultural community programming. Embarking on a new age for thier annual fundraiser\, Landmark Center is transitioning from celebrating decades to immersing guests in the cultures of various countries and cities\, much like our popular Urban Expedition program series. The first city of focus will be Paris – The City of Lights! Learn more and purchase tickets at landmarkcenter.org/once-upon-a-time-gala.
URL:https://communityreporter.org/event/once-upon-a-time-gala/
LOCATION:Landmark Center
CATEGORIES:Cultural Events,Museum
END:VEVENT
BEGIN:VEVENT
DTSTART;TZID=America/Chicago:20231104T100000
DTEND;TZID=America/Chicago:20240524T160000
DTSTAMP:20260422T135656
CREATED:20231129T164558Z
LAST-MODIFIED:20231129T164558Z
UID:7403-1699092000-1716566400@communityreporter.org
SUMMARY:Hazel Belvo: For Love
DESCRIPTION:November 4\, 2023–May 24\, 2024. Minnesota Museum of American Art \nHazel Belvo is a significant American artist\, art educator and feminist leader. This series of exquisite artworks\, representing couples in positions of intimacy\, tenderness\, and reciprocity\, began in 1967 as a counter to the dry and shame-inducing sex education her son was receiving in school and continued until 1982. The Love Drawings are about so much more than intimacy and pleasure\, although these are important themes. They are exquisite representations of loving connections\, tenderness\, and reciprocity—a call for love and respect instead of war and violence\, dignity and joy instead of shame and insensitivity.   \nLearn more at mmaa.org/hazel-belvo-for-love 
URL:https://communityreporter.org/event/hazel-belvo-for-love/
LOCATION:Minnesota Museum of American Art
END:VEVENT
BEGIN:VEVENT
DTSTART;TZID=America/Chicago:20231104T173000
DTEND;TZID=America/Chicago:20231104T203000
DTSTAMP:20260422T135656
CREATED:20231023T170107Z
LAST-MODIFIED:20231026T144811Z
UID:7013-1699119000-1699129800@communityreporter.org
SUMMARY:Women’s Drum Center Annual Concert
DESCRIPTION:November 4\, 5:30 – 8:30 p.m.\, Concordia University \nWDC’s annual concert and silent auction is being held Saturday\, November 4 at Buetow Music Center\, Concordia University\, 1282 Concordia Avenue\, St. Paul. This popular event showcases the best of the best of our music and performers. Gahu will be the showcase finale\, including a dynamic dance performance. 5:30 pm: Silent auction opens and special surprise pre-show performances. 7:00 to 8:30pm: Concert featuring drumHeart\, Women Who Groove\, Djembe Diyamu\, Taikollaborative and special guest Earthtones Chorus. Learn more and purchase tickets at womensdrumcenter.org/upcoming-performances.
URL:https://communityreporter.org/event/womens-drum-center-annual-concert/
LOCATION:Concordia University
CATEGORIES:Music
ATTACH;FMTTYPE=image/jpeg:https://communityreporter.org/wp-content/uploads/2023/10/WDC-annaul-concert.jpg
END:VEVENT
BEGIN:VEVENT
DTSTART;TZID=America/Chicago:20231108T190000
DTEND;TZID=America/Chicago:20231108T220000
DTSTAMP:20260422T135656
CREATED:20231023T170237Z
LAST-MODIFIED:20231026T144919Z
UID:7016-1699470000-1699480800@communityreporter.org
SUMMARY:St. Paul Comedy All-Stars
DESCRIPTION:November 8\, Camp Bar\, 7:00 p.m. \nSt. Paul’s finest comedians converge in downtown to Love / Roast / Honor the city and its storied comic history. The St. Paul Comedy All-Stars show promises an unforgettable evening of side-splitting and self-deprecating humor. The show features St. Paul comics\, including Elise Cole\, Jimmie Davis\, Maggie Faris\, Ali Hormann\, Jesse Jacobs\, Malory Manderfield\, Tiffany Norton\, and Jeff Pfoser. Each bringing their unique style\, sarcasm\, wit\, and hot takes on our fine city. Learn more and purchase tickets at eventbrite.com/e/saint-paul-comedy-all-stars-tickets-712556133577
URL:https://communityreporter.org/event/st-paul-comedy-all-stars/
LOCATION:Laugh Camp Comedy Club
CATEGORIES:Cultural Events,Misc
ATTACH;FMTTYPE=image/jpeg:https://communityreporter.org/wp-content/uploads/2023/10/FB_IMG_1698274125027.jpg
END:VEVENT
BEGIN:VEVENT
DTSTART;TZID=America/Chicago:20231117T190000
DTEND;TZID=America/Chicago:20231117T210000
DTSTAMP:20260422T135656
CREATED:20231023T170359Z
LAST-MODIFIED:20231023T170359Z
UID:7019-1700247600-1700254800@communityreporter.org
SUMMARY:Figuration and Fragmentation in Preclassic Mesoamerica
DESCRIPTION:November 17\, 7:00 p.m.\, Hamline University \nThis talk explores the significance of acts of human representation in Preclassic Mesoamerica from 1800 BCE to CE 250. It considers monumental stone sculptures\, like the famous colossal heads of the Olmec\, but also small\, palm-sized\, hand modeled ceramic figurines. This event is part of the Maya Society of Minnesota’s 45th Anniversary Lecture Series. Learn more and register at mayasocietyofmn.org/events.
URL:https://communityreporter.org/event/figuration-and-fragmentation-in-preclassic-mesoamerica/
LOCATION:Hamline University
CATEGORIES:Cultural Events,Misc
END:VEVENT
BEGIN:VEVENT
DTSTART;TZID=America/Chicago:20231119T090000
DTEND;TZID=America/Chicago:20231119T130000
DTSTAMP:20260422T135656
CREATED:20231023T170531Z
LAST-MODIFIED:20231026T145044Z
UID:7021-1700384400-1700398800@communityreporter.org
SUMMARY:Holiday Breakfast / Craft and Kolace sale
DESCRIPTION:November 19\, 9:00 a.m. – 1:00 p.m.\, C.S.P.S. Hall\, $6-$30 \nPublic Welcome\, no reservations needed for a pancake breakfast with all the fixings. $10 adult\, $6 child\, $30 family of four. Order and pay for Kolace by Saturday\, November 11. $2 each. To reserve a craft table\, email activities@sokolmn.org. Learn more at sokolmn.org/fall-2023-events.
URL:https://communityreporter.org/event/holiday-breakfast-craft-and-kolace-sale/
LOCATION:C.S.P.S. Hall
CATEGORIES:Cultural Events,Food
ATTACH;FMTTYPE=image/jpeg:https://communityreporter.org/wp-content/uploads/2023/10/Fall-2023-Sokol-postcard-front.jpeg
END:VEVENT
BEGIN:VEVENT
DTSTART;TZID=America/Chicago:20231121T120000
DTEND;TZID=America/Chicago:20231121T130000
DTSTAMP:20260422T135656
CREATED:20231023T170701Z
LAST-MODIFIED:20231026T145220Z
UID:7024-1700568000-1700571600@communityreporter.org
SUMMARY:Ballet Tuesdays
DESCRIPTION:November 21\, 12:00-1:00 p.m. Landmark Center  \nBallet Tuesdays have returned! Join Landmark Center and Ballet Co. Laboratory\, once a month in October\, November\, February\, March\, and April for free ballet dance performances\, demonstrations\, and crafts! Performance dates November 21\, February 13\, March 12 and April 16. Learn more at landmarkcenter.org/ballet-tuesdays.
URL:https://communityreporter.org/event/ballet-tuesdays/
LOCATION:Landmark Center
CATEGORIES:Cultural Events,Music
ATTACH;FMTTYPE=image/webp:https://communityreporter.org/wp-content/uploads/2023/10/ballet-tuesdays.webp
END:VEVENT
END:VCALENDAR