BEGIN:VCALENDAR
VERSION:2.0
PRODID:-//Community Reporter - ECPv6.15.20//NONSGML v1.0//EN
CALSCALE:GREGORIAN
METHOD:PUBLISH
X-ORIGINAL-URL:https://communityreporter.org
X-WR-CALDESC:Events for Community Reporter
REFRESH-INTERVAL;VALUE=DURATION:PT1H
X-Robots-Tag:noindex
X-PUBLISHED-TTL:PT1H
BEGIN:VTIMEZONE
TZID:America/Chicago
BEGIN:DAYLIGHT
TZOFFSETFROM:-0600
TZOFFSETTO:-0500
TZNAME:CDT
DTSTART:20220313T080000
END:DAYLIGHT
BEGIN:STANDARD
TZOFFSETFROM:-0500
TZOFFSETTO:-0600
TZNAME:CST
DTSTART:20221106T070000
END:STANDARD
BEGIN:DAYLIGHT
TZOFFSETFROM:-0600
TZOFFSETTO:-0500
TZNAME:CDT
DTSTART:20230312T080000
END:DAYLIGHT
BEGIN:STANDARD
TZOFFSETFROM:-0500
TZOFFSETTO:-0600
TZNAME:CST
DTSTART:20231105T070000
END:STANDARD
BEGIN:DAYLIGHT
TZOFFSETFROM:-0600
TZOFFSETTO:-0500
TZNAME:CDT
DTSTART:20240310T080000
END:DAYLIGHT
BEGIN:STANDARD
TZOFFSETFROM:-0500
TZOFFSETTO:-0600
TZNAME:CST
DTSTART:20241103T070000
END:STANDARD
END:VTIMEZONE
BEGIN:VEVENT
DTSTART;VALUE=DATE:20230929
DTEND;VALUE=DATE:20231002
DTSTAMP:20260422T164807
CREATED:20230921T193127Z
LAST-MODIFIED:20231009T184514Z
UID:6496-1695945600-1696204799@communityreporter.org
SUMMARY:Medtronic Twin Cities Marathon weekend
DESCRIPTION:Medtronic Twin Cities Marathon Weekend is the community’s signature running and fitness celebration. Entering its fifth decade\, the weekend features runs for participants of all ages and paces. The community-inclusive event also includes live art\, course entertainment\, the Summit Beer Garden\, and welcomes non-participants to join the 300\,000+ cheering spectators who line the race courses each year. Learn more at tcmevents.org/events/medtronic-twin-cities-marathon-weekend-2023
URL:https://communityreporter.org/event/medtronic-twin-cities-marathon-weekend/
CATEGORIES:Cultural Events
ATTACH;FMTTYPE=image/png:https://communityreporter.org/wp-content/uploads/2023/09/TCMarathon_Header.png
END:VEVENT
BEGIN:VEVENT
DTSTART;TZID=America/Chicago:20230929T190000
DTEND;TZID=America/Chicago:20231020T210000
DTSTAMP:20260422T164807
CREATED:20230921T193417Z
LAST-MODIFIED:20231009T184514Z
UID:6498-1696014000-1697835600@communityreporter.org
SUMMARY:Fall Movies in the Parks
DESCRIPTION:Get in the fall spirit with our fall Movies in the Parks Scary Movie series! All shows are free. Bring a blanket or lawn chair. Shows begin at dusk. Food trucks and pre-show activities will be available 1 hour before showtime. Costumes are encouraged! For a list of movies and to learn more\, visit stpaul.gov/departments/parks-and-recreation/activities-events/summer-activities-events/movies-parks
URL:https://communityreporter.org/event/fall-movies-in-the-parks/
CATEGORIES:Cultural Events
ATTACH;FMTTYPE=image/png:https://communityreporter.org/wp-content/uploads/2023/09/unnamed.png
END:VEVENT
BEGIN:VEVENT
DTSTART;TZID=America/Chicago:20231001T090000
DTEND;TZID=America/Chicago:20231015T120000
DTSTAMP:20260422T164807
CREATED:20230926T195242Z
LAST-MODIFIED:20231009T184514Z
UID:6607-1696150800-1697371200@communityreporter.org
SUMMARY:St. John’s-Holy Apostles Farmers’ Market
DESCRIPTION:The St. John’s-Holy Apostles Farmers’ Market runs in the parking lot of St. John’s every Sunday morning starting at 9am\, June through mid-October. \nThis joint effort brings farmers from the Hmong parish of Holy Apostles Episcopal Church to sell fresh produce each summer. Learn more at stjohnsstpaul.org/community/outreach/farmers-market-fields-to-families.
URL:https://communityreporter.org/event/st-johns-holy-apostles-farmers-market/
CATEGORIES:Food
END:VEVENT
BEGIN:VEVENT
DTSTART;TZID=America/Chicago:20231004T153000
DTEND;TZID=America/Chicago:20231004T170000
DTSTAMP:20260422T164807
CREATED:20230921T193758Z
LAST-MODIFIED:20231009T184513Z
UID:6502-1696433400-1696438800@communityreporter.org
SUMMARY:Zoning code public hearing
DESCRIPTION:The St. Paul City Council will hold a public hearing on proposed Zoning Code and Zoning Map amendments\, as well as other changes to the Legislative Code regarding additional zoning flexibility to support greater housing diversity in residential zoning districts\, on Wednesday\, October 4\, 2023\, at 3:30 p.m at St. Paul City Hall.   \nProposed amendments include new residential zoning districts to replace existing one-family districts\, adding two-family districts\, townhouse districts and lower-density planned development districts\, along with new standards regulating lot area\, height\, setbacks and lot coverage\, among others. \nFor those not able to attend\, comments can be submitted in writing to Contact-Council@ci.stpaul.mn.us or mailed to Office of the City Council\, 310 City Hall\, 15 Kellogg Blvd. West\, St. Paul\, MN 55102   \nLearn more at stpaul.gov/departments/planning-and-economic-development/planning/current-activities/1-4-unit-housing-study. 
URL:https://communityreporter.org/event/public-hearing/
LOCATION:St. Paul City Hall
CATEGORIES:Misc
ATTACH;FMTTYPE=image/png:https://communityreporter.org/wp-content/uploads/2023/09/stpaul-logo-vertical-3color_0.png
END:VEVENT
BEGIN:VEVENT
DTSTART;VALUE=DATE:20231006
DTEND;VALUE=DATE:20231009
DTSTAMP:20260422T164807
CREATED:20231002T164831Z
LAST-MODIFIED:20231009T184513Z
UID:6706-1696550400-1696809599@communityreporter.org
SUMMARY:2023 St. Paul Fall Art Crawl
DESCRIPTION:This year’s fall St. Paul Art Crawl takes place in over two-dozen locations around the city from October 6-8. The West End will be hosting events at Dual Studios\, Friedli Gallery\, Great River Gallery and The Schmidt Artist Lofts. \nHours vary by location. Find the list of locations\, hours\, activities and vendors at stpaulartcollective.org/art-crawl-events.
URL:https://communityreporter.org/event/2023-st-paul-fall-art-crawl/
ATTACH;FMTTYPE=image/jpeg:https://communityreporter.org/wp-content/uploads/2023/05/Art-Crawl-1-scaled-e1683784764822.jpeg
END:VEVENT
BEGIN:VEVENT
DTSTART;TZID=America/Chicago:20231007T163000
DTEND;TZID=America/Chicago:20231007T173000
DTSTAMP:20260422T164807
CREATED:20230926T194009Z
LAST-MODIFIED:20231009T184513Z
UID:6590-1696696200-1696699800@communityreporter.org
SUMMARY:HBS at Highland Park Harmonies
DESCRIPTION:October 7\, 4:30 – 5:30 p.m.\, Highland Park Picnic Pavilion \nThe Hell-Burnin’ Sinners are performing at Highland Park Harmonies on Sat. Oct. 7! Come out early and hear some great bands – music starts at noon\, with the Sinners taking the stage at 4:30. Learn more at hellburninsinners.com/event/5239814/651033205/hbs-at-highland-park-harmonies.
URL:https://communityreporter.org/event/hbs-at-highland-park-harmonies/
CATEGORIES:Cultural Events,Music
END:VEVENT
BEGIN:VEVENT
DTSTART;TZID=America/Chicago:20231013T190000
DTEND;TZID=America/Chicago:20231013T210000
DTSTAMP:20260422T164807
CREATED:20230926T194149Z
LAST-MODIFIED:20231009T184512Z
UID:6592-1697223600-1697230800@communityreporter.org
SUMMARY:Rematriating and Decolonizing Indigenous Studies
DESCRIPTION:October 13\, 7:00-9:00 p.m. Hamline University  \nThe Mayan Society of Minnesota presents a lecture by Dr. Roxanne Biidabinokwe Gould and Rebekah Crisanta de Ybarra on Rematriating and Decolonizing Indigenous Studies. This event is part of the Maya Society of Minnesota’s 45th Anniversary Lecture Series. Learn more and register at mayasocietyofmn.org/events/events-calendar.
URL:https://communityreporter.org/event/rematriating-and-decolonizing-indigenous-studies/
LOCATION:Hamline University
CATEGORIES:Cultural Events
END:VEVENT
BEGIN:VEVENT
DTSTART;TZID=America/Chicago:20231015T140000
DTEND;TZID=America/Chicago:20231015T163000
DTSTAMP:20260422T164807
CREATED:20230926T194343Z
LAST-MODIFIED:20231009T184512Z
UID:6595-1697378400-1697387400@communityreporter.org
SUMMARY:“Oh What a Night!” A musical tribute to Frankie Valli & The Four Seasons
DESCRIPTION:October 15\, 2:00 p.m.\, O’Shaughnessy Theater\nIf you love the music of Frankie Valli & the Four Seasons and “Jersey Boys\,” you won’t want to miss “Oh What a Night!” It’s more than just a tribute. It’s more than just a concert. It’s a flashy all-around feel-good experience that leaves audiences on their feet beggin’ for more. “Oh What a Night!” is an intimate\, family-friendly concert and celebration of one of the most enduring pop musical icons of our time\, Frankie Valli & the Four Seasons. For tickets and more information\, visit oshag.stkate.edu/event/oh-what-a-night/the-oshaughnessy-at-st-catherine-university/st-paul-minnesota.
URL:https://communityreporter.org/event/oh-what-a-night-a-musical-tribute-to-frankie-valli-the-four-seasons/
LOCATION:O’Shaughnessy Theater
CATEGORIES:Music,Theater
END:VEVENT
BEGIN:VEVENT
DTSTART;TZID=America/Chicago:20231018T183000
DTEND;TZID=America/Chicago:20231018T193000
DTSTAMP:20260422T164807
CREATED:20230926T194531Z
LAST-MODIFIED:20231009T184512Z
UID:6598-1697653800-1697657400@communityreporter.org
SUMMARY:New Grief Support and Education series begins in October
DESCRIPTION:Beginning October 18\, 6:30 p.m. Jewish Family Services \nJewish Family Service of St. Paul is offering a new series focused on education\,  support and hope for any adult grieving the death of a loved one\, “Grief: A Natural Disaster of the Heart\,”  Wednesday evenings from 6:30 to 8:00 p.m. at JFS October 18\, November 1\, November 15 and November 29.  \nThe four sessions will cover topics including what is normal grief; coping with the holidays; “Tasks of Grief”  by William Worden; hints for rebuilding; and behavioral and physical reactions to grief. Email JFS  Community Programs Coordinator Anne Myers at amyers@jfssp.org or phone her at (651) 359-7775 to register  to attend.
URL:https://communityreporter.org/event/new-grief-support-and-education-series-begins-in-october/
LOCATION:Jewish Family Services
CATEGORIES:Misc
END:VEVENT
BEGIN:VEVENT
DTSTART;TZID=America/Chicago:20231019T120000
DTEND;TZID=America/Chicago:20231019T130000
DTSTAMP:20260422T164807
CREATED:20230926T195057Z
LAST-MODIFIED:20231009T184511Z
UID:6605-1697716800-1697720400@communityreporter.org
SUMMARY:Take a free tour of historical county buildings
DESCRIPTION:Come learn about the history of Saint Paul City Hall – Ramsey County Courthouse or Union Depot during an hour-long guided tour. Tours are free to attend and reservations are not required. Learn more at ramseycounty.us/content/public-tours-available-union-depot-and-saint-paul-city-hall-ramsey-county-courthouse.
URL:https://communityreporter.org/event/take-a-free-tour-of-historical-county-buildings/
CATEGORIES:Misc
END:VEVENT
BEGIN:VEVENT
DTSTART;TZID=America/Chicago:20231028T150000
DTEND;TZID=America/Chicago:20231028T160000
DTSTAMP:20260422T164807
CREATED:20230926T194804Z
LAST-MODIFIED:20231009T184511Z
UID:6601-1698505200-1698508800@communityreporter.org
SUMMARY:Tickets available for Tamarack Trick or Treat
DESCRIPTION:October 28\, 3:00-4:00 p.m.\, Tamarack Nature Center \nBring your favorite little gremlin to a Halloween party on Oct. 28 designed just for them. This low-key\, non-spooky event includes games\, old fashioned hand-pressed cider and close encounters with live animals. Friendly\, costumed characters hand out treats along our paved prairie loop trail. Learn more and register at ramseycounty.us/residents/parks-recreation/tamarack-nature-center/programs-events/fee-based-programs. 
URL:https://communityreporter.org/event/tickets-available-for-tamarack-trick-or-treat/
LOCATION:Tamarack Nature Center
CATEGORIES:Cultural Events
ATTACH;FMTTYPE=image/jpeg:https://communityreporter.org/wp-content/uploads/2023/09/Trick-or-Treat-Banner.jpg
END:VEVENT
END:VCALENDAR