BEGIN:VCALENDAR
VERSION:2.0
PRODID:-//Community Reporter - ECPv6.15.20//NONSGML v1.0//EN
CALSCALE:GREGORIAN
METHOD:PUBLISH
X-ORIGINAL-URL:https://communityreporter.org
X-WR-CALDESC:Events for Community Reporter
REFRESH-INTERVAL;VALUE=DURATION:PT1H
X-Robots-Tag:noindex
X-PUBLISHED-TTL:PT1H
BEGIN:VTIMEZONE
TZID:America/Chicago
BEGIN:DAYLIGHT
TZOFFSETFROM:-0600
TZOFFSETTO:-0500
TZNAME:CDT
DTSTART:20220313T080000
END:DAYLIGHT
BEGIN:STANDARD
TZOFFSETFROM:-0500
TZOFFSETTO:-0600
TZNAME:CST
DTSTART:20221106T070000
END:STANDARD
BEGIN:DAYLIGHT
TZOFFSETFROM:-0600
TZOFFSETTO:-0500
TZNAME:CDT
DTSTART:20230312T080000
END:DAYLIGHT
BEGIN:STANDARD
TZOFFSETFROM:-0500
TZOFFSETTO:-0600
TZNAME:CST
DTSTART:20231105T070000
END:STANDARD
BEGIN:DAYLIGHT
TZOFFSETFROM:-0600
TZOFFSETTO:-0500
TZNAME:CDT
DTSTART:20240310T080000
END:DAYLIGHT
BEGIN:STANDARD
TZOFFSETFROM:-0500
TZOFFSETTO:-0600
TZNAME:CST
DTSTART:20241103T070000
END:STANDARD
END:VTIMEZONE
BEGIN:VEVENT
DTSTART;TZID=America/Chicago:20230917T130000
DTEND;TZID=America/Chicago:20230917T150000
DTSTAMP:20260422T164804
CREATED:20230921T193619Z
LAST-MODIFIED:20231009T184515Z
UID:6500-1694955600-1694962800@communityreporter.org
SUMMARY:Sundays at Landmark kicks Off 2023-2024 season
DESCRIPTION:Landmark Center’s Sundays at Landmark series of community events returns this fall with exciting new and annual favorites. The 2023-2024 season is a full calendar of art\, cultural and holiday celebrations. It kicks off September 17 with the Southeast Asian-based Mid-Autumn Moon Festival\, a yearly tradition featuring the crowd favorite “Lion Dance” into Rice Park. For more information visit landmarkcenter.org/sundays-at-landmark.
URL:https://communityreporter.org/event/sundays-at-landmark-kicks-off-2023-2024-season/
END:VEVENT
BEGIN:VEVENT
DTSTART;TZID=America/Chicago:20230924T110000
DTEND;TZID=America/Chicago:20230924T170000
DTSTAMP:20260422T164804
CREATED:20230911T161505Z
LAST-MODIFIED:20231009T184515Z
UID:5701-1695553200-1695574800@communityreporter.org
SUMMARY:34th Annual Czech and Slovak Festival
DESCRIPTION:Come for the food and Czech-style beer\, and stay for the live music\, dance performances\, children’s games\, vendors\, exhibits and more. 9/24\, 11 a.m.-5 p.m. C.S.P.S. Hall\, 383 W. Michigan St.\, St. Paul. Free\, public welcome. Free admission. Public welcome to their accessible friendly event.
URL:https://communityreporter.org/event/34th-annual-czech-and-slovak-festival/
ATTACH;FMTTYPE=image/png:https://communityreporter.org/wp-content/uploads/2020/12/Sokol-image.png
END:VEVENT
BEGIN:VEVENT
DTSTART;TZID=America/Chicago:20230926T173000
DTEND;TZID=America/Chicago:20230926T203000
DTSTAMP:20260422T164804
CREATED:20230911T161223Z
LAST-MODIFIED:20231009T184514Z
UID:5699-1695749400-1695760200@communityreporter.org
SUMMARY:2023 Keys to Success Gala
DESCRIPTION:Gather with your Keystone community\, family and friends to bring more food to more tables for our neighbors at the 2023 Keys to Success Gala\, September 26 at Allianz Field! At the Keys to Success dinner table\, with your support we will raise money to fill every corner of our new Community Food Center with food and supplies for the very first time! Will you join us in setting the table together with food and love for our community? Please contact Keystone staff at 651-645-0349 with any questions or visit keystoneservices.org/donate/keys-to-success-gala.
URL:https://communityreporter.org/event/2023-keys-to-success-gala/
ATTACH;FMTTYPE=image/png:https://communityreporter.org/wp-content/uploads/2021/10/keystone-event-web-header-1200x550-1-1200x550-1-e1633224176889.png
END:VEVENT
BEGIN:VEVENT
DTSTART;VALUE=DATE:20230929
DTEND;VALUE=DATE:20231002
DTSTAMP:20260422T164804
CREATED:20230921T193127Z
LAST-MODIFIED:20231009T184514Z
UID:6496-1695945600-1696204799@communityreporter.org
SUMMARY:Medtronic Twin Cities Marathon weekend
DESCRIPTION:Medtronic Twin Cities Marathon Weekend is the community’s signature running and fitness celebration. Entering its fifth decade\, the weekend features runs for participants of all ages and paces. The community-inclusive event also includes live art\, course entertainment\, the Summit Beer Garden\, and welcomes non-participants to join the 300\,000+ cheering spectators who line the race courses each year. Learn more at tcmevents.org/events/medtronic-twin-cities-marathon-weekend-2023
URL:https://communityreporter.org/event/medtronic-twin-cities-marathon-weekend/
CATEGORIES:Cultural Events
ATTACH;FMTTYPE=image/png:https://communityreporter.org/wp-content/uploads/2023/09/TCMarathon_Header.png
END:VEVENT
BEGIN:VEVENT
DTSTART;TZID=America/Chicago:20230929T190000
DTEND;TZID=America/Chicago:20231020T210000
DTSTAMP:20260422T164804
CREATED:20230921T193417Z
LAST-MODIFIED:20231009T184514Z
UID:6498-1696014000-1697835600@communityreporter.org
SUMMARY:Fall Movies in the Parks
DESCRIPTION:Get in the fall spirit with our fall Movies in the Parks Scary Movie series! All shows are free. Bring a blanket or lawn chair. Shows begin at dusk. Food trucks and pre-show activities will be available 1 hour before showtime. Costumes are encouraged! For a list of movies and to learn more\, visit stpaul.gov/departments/parks-and-recreation/activities-events/summer-activities-events/movies-parks
URL:https://communityreporter.org/event/fall-movies-in-the-parks/
CATEGORIES:Cultural Events
ATTACH;FMTTYPE=image/png:https://communityreporter.org/wp-content/uploads/2023/09/unnamed.png
END:VEVENT
END:VCALENDAR