BEGIN:VCALENDAR
VERSION:2.0
PRODID:-//Community Reporter - ECPv6.15.20//NONSGML v1.0//EN
CALSCALE:GREGORIAN
METHOD:PUBLISH
X-WR-CALNAME:Community Reporter
X-ORIGINAL-URL:https://communityreporter.org
X-WR-CALDESC:Events for Community Reporter
REFRESH-INTERVAL;VALUE=DURATION:PT1H
X-Robots-Tag:noindex
X-PUBLISHED-TTL:PT1H
BEGIN:VTIMEZONE
TZID:America/Chicago
BEGIN:DAYLIGHT
TZOFFSETFROM:-0600
TZOFFSETTO:-0500
TZNAME:CDT
DTSTART:20250309T080000
END:DAYLIGHT
BEGIN:STANDARD
TZOFFSETFROM:-0500
TZOFFSETTO:-0600
TZNAME:CST
DTSTART:20251102T070000
END:STANDARD
BEGIN:DAYLIGHT
TZOFFSETFROM:-0600
TZOFFSETTO:-0500
TZNAME:CDT
DTSTART:20260308T080000
END:DAYLIGHT
BEGIN:STANDARD
TZOFFSETFROM:-0500
TZOFFSETTO:-0600
TZNAME:CST
DTSTART:20261101T070000
END:STANDARD
BEGIN:DAYLIGHT
TZOFFSETFROM:-0600
TZOFFSETTO:-0500
TZNAME:CDT
DTSTART:20270314T080000
END:DAYLIGHT
BEGIN:STANDARD
TZOFFSETFROM:-0500
TZOFFSETTO:-0600
TZNAME:CST
DTSTART:20271107T070000
END:STANDARD
END:VTIMEZONE
BEGIN:VEVENT
DTSTART;TZID=America/Chicago:20260424T073000
DTEND;TZID=America/Chicago:20260509T220000
DTSTAMP:20260424T014845
CREATED:20260325T181414Z
LAST-MODIFIED:20260325T181422Z
UID:22418-1777015800-1778364000@communityreporter.org
SUMMARY:Shanty Boys of Pine County
DESCRIPTION:April 24–May 9. Art House North. $20–$50. \n\n\n\nBucket Brigade Theater premieres this original Minnesota musical written by Jeremiah Gamble. The production blends traditional Irish tunes and lumbercamp songs to tell the larger-than-life story of Irish immigrant lumberjack Michael Cassius Dean. Featuring storytellers Jeremiah Gamble and Nathan Cousins with live musicians\, the show explores the immigrant roots of Minnesota’s northwoods culture. \n\n\n\nPerformances run over three weekends\, including a Pay-As-You’re-Able show May 4. Opening weekend tickets are discounted to $20. The toe-tapping production is designed for audiences of all ages interested in regional history and folk music traditions. More info: bucketbrigadetheater.com
URL:https://communityreporter.org/event/shanty-boys-of-pine-county/
ATTACH;FMTTYPE=image/png:https://communityreporter.org/wp-content/uploads/2026/03/shanty-boys-of-pine-county.webp
END:VEVENT
END:VCALENDAR