BEGIN:VCALENDAR
VERSION:2.0
PRODID:-//Community Reporter - ECPv6.15.20//NONSGML v1.0//EN
CALSCALE:GREGORIAN
METHOD:PUBLISH
X-WR-CALNAME:Community Reporter
X-ORIGINAL-URL:https://communityreporter.org
X-WR-CALDESC:Events for Community Reporter
REFRESH-INTERVAL;VALUE=DURATION:PT1H
X-Robots-Tag:noindex
X-PUBLISHED-TTL:PT1H
BEGIN:VTIMEZONE
TZID:America/Chicago
BEGIN:DAYLIGHT
TZOFFSETFROM:-0600
TZOFFSETTO:-0500
TZNAME:CDT
DTSTART:20240310T080000
END:DAYLIGHT
BEGIN:STANDARD
TZOFFSETFROM:-0500
TZOFFSETTO:-0600
TZNAME:CST
DTSTART:20241103T070000
END:STANDARD
BEGIN:DAYLIGHT
TZOFFSETFROM:-0600
TZOFFSETTO:-0500
TZNAME:CDT
DTSTART:20250309T080000
END:DAYLIGHT
BEGIN:STANDARD
TZOFFSETFROM:-0500
TZOFFSETTO:-0600
TZNAME:CST
DTSTART:20251102T070000
END:STANDARD
BEGIN:DAYLIGHT
TZOFFSETFROM:-0600
TZOFFSETTO:-0500
TZNAME:CDT
DTSTART:20260308T080000
END:DAYLIGHT
BEGIN:STANDARD
TZOFFSETFROM:-0500
TZOFFSETTO:-0600
TZNAME:CST
DTSTART:20261101T070000
END:STANDARD
BEGIN:DAYLIGHT
TZOFFSETFROM:-0600
TZOFFSETTO:-0500
TZNAME:CDT
DTSTART:20270314T080000
END:DAYLIGHT
BEGIN:STANDARD
TZOFFSETFROM:-0500
TZOFFSETTO:-0600
TZNAME:CST
DTSTART:20271107T070000
END:STANDARD
END:VTIMEZONE
BEGIN:VEVENT
DTSTART;TZID=America/Chicago:20251004T000000
DTEND;TZID=America/Chicago:20251206T235959
DTSTAMP:20260421T045937
CREATED:20251127T161550Z
LAST-MODIFIED:20251127T161554Z
UID:20736-1759536000-1765065599@communityreporter.org
SUMMARY:Coat Drive
DESCRIPTION:October 4 – December 6 \n\n\n\nDonate new or gently used coats! Collection sites: \n\n\n\n\nThe Odd Couple Team – 1460 Grand Ave\n\n\n\nNina’s Cafe – 165 Western Ave\n\n\n\nJimmy John’s – Grand & Highland locations\n\n\n\n\nDonations will be given to Joseph’s Coat\, a local organization that provides goods to those in need. Learn more at theoddcoupleteam.com/about/doing-good-in-the-neighborhood. \n\n\n\n\n\n\n\n\n\n 
URL:https://communityreporter.org/event/coat-drive/
ATTACH;FMTTYPE=image/jpeg:https://communityreporter.org/wp-content/uploads/2025/11/Odd-Couple-Coat-Drive-Header-e1763844051410.webp
END:VEVENT
BEGIN:VEVENT
DTSTART;TZID=America/Chicago:20251118T070000
DTEND;TZID=America/Chicago:20251130T220000
DTSTAMP:20260421T045937
CREATED:20251030T191407Z
LAST-MODIFIED:20251031T144424Z
UID:18855-1763449200-1764540000@communityreporter.org
SUMMARY:The Notebook 
DESCRIPTION:Nov. 18-30. Ordway Center for the Performing Arts. $45-$146.  \nBased on the best-selling novel that inspired the iconic film\, The Notebook tells the story of Allie and Noah\, both from different worlds\, who share a lifetime of love despite the forces that threaten to pull them apart. “Full of butterfly-inducing highs and beautiful songs” (Entertainment Weekly)\, The Notebook is a deeply moving portrait of the enduring power of love\, and features music by singer-songwriter Ingrid Michaelson and a book by TV’s Bekah Brunstetter (“This Is Us”). Tickets and more at ordway.org/events/the-notebook.
URL:https://communityreporter.org/event/the-notebook/
LOCATION:Ordway Center for the Performing Arts
ATTACH;FMTTYPE=image/webp:https://communityreporter.org/wp-content/uploads/2025/10/Notebook_090525_1368-scaled-e1761851540128.webp
END:VEVENT
BEGIN:VEVENT
DTSTART;TZID=America/Chicago:20251120T000000
DTEND;TZID=America/Chicago:20260104T235959
DTSTAMP:20260421T045937
CREATED:20251223T180749Z
LAST-MODIFIED:20251223T180752Z
UID:20886-1763596800-1767571199@communityreporter.org
SUMMARY:GLOW Holiday Festival
DESCRIPTION:November 20-January 4. CHS Field. $17.58-$27.47 \n\n\n\nGLOW Holiday Festival is back! Bring the family to join in on the magic! Stroll through millions of lights and bask in the warmth of the holiday spirit.GLOW will shine bright at CHS Field in downtown St. Paul from Nov. 20-Jan. 4\, 2026\, on select days. Get tickets and more information at glowholiday.com.
URL:https://communityreporter.org/event/glow-holiday-festival-2/
LOCATION:CHS Field
ATTACH;FMTTYPE=image/webp:https://communityreporter.org/wp-content/uploads/2025/11/GLOW2024_web-e1764185156163.webp
END:VEVENT
BEGIN:VEVENT
DTSTART;TZID=America/Chicago:20251121T190000
DTEND;TZID=America/Chicago:20251214T160000
DTSTAMP:20260421T045937
CREATED:20251122T205906Z
LAST-MODIFIED:20251122T205909Z
UID:20741-1763751600-1765728000@communityreporter.org
SUMMARY:R.L. Stine's GOOSEBUMPS: Phantom of the Auditorium
DESCRIPTION:Nov. 21 – Dec. 14\, Park Square Theater. $15-$65. \n\n\n\nA spooktacular adventure filled with mystery\, laughs\, and just the right amount of chills! When Brooke and her best friend Zeke land the leads in their school’s new musical\, they’re thrilled – until strange things start happening around the theater. Whispers of an old legend resurface\, warning that the play might be cursed. \n\n\n\nAs opening night approaches and the tension rises\, Brooke and her friends race to uncover the truth behind the haunting before the final curtain falls.Featuring catchy songs\, unexpected twists\, and a story about friendship and courage\, Goosebumps: Phantom of the Auditorium invites audiences of all ages to join in the fun… if they dare!  \n\n\n\nTickets and more info at parksquaretheatre.org.
URL:https://communityreporter.org/event/r-l-stines-goosebumps-phantom-of-the-auditorium/
LOCATION:Park Square Theater
ATTACH;FMTTYPE=image/jpeg:https://communityreporter.org/wp-content/uploads/2025/11/goosebumps-phantom-of-the-auditorium-header-e1763845046975.webp
END:VEVENT
BEGIN:VEVENT
DTSTART;TZID=America/Chicago:20251122T190000
DTEND;TZID=America/Chicago:20251221T170000
DTSTAMP:20260421T045937
CREATED:20251127T020924Z
LAST-MODIFIED:20251127T150330Z
UID:20959-1763838000-1766336400@communityreporter.org
SUMMARY:Rollicking! A Winter Carnival Musical
DESCRIPTION:November 22 – December 21. History Theatre. $63-$78.A gust of icy wind changes everything! History Theatre proudly announces the cast for the world premiere of ROLLICKING! A WINTER CARNIVAL MUSICAL by Keith Hovis and Rachel Teagle. Plunging headfirst into the magnificent history and myth of the St. Paul Winter Carnival\, this spectacular new production is directed by HT Interim Artistic Director\, Laura Leffler. Running from November 22 to December 21\, 2025. Tickets and information about special events available at www.historytheatre.com. 
URL:https://communityreporter.org/event/rollicking-a-winter-carnival-musical/
LOCATION:History Theatre
ATTACH;FMTTYPE=image/jpeg:https://communityreporter.org/wp-content/uploads/2025/11/Rollicking_1791-e1764209103726.webp
END:VEVENT
BEGIN:VEVENT
DTSTART;TZID=America/Chicago:20251128T000000
DTEND;TZID=America/Chicago:20251221T235959
DTSTAMP:20260421T045937
CREATED:20251126T172403Z
LAST-MODIFIED:20251126T172407Z
UID:20851-1764288000-1766361599@communityreporter.org
SUMMARY:European Christmas Market
DESCRIPTION:November 28 – December 21. Union Depot. Free \n\n\n\nThe European Christmas Market returns to Union Depot for four festive Holiday weekends. Visit the largest authentic Christmas Market in Minnesota running through the advent season. The market opens on Friday\, November 28 and runs through Sunday\, December 21. Visit stpaulchristmasmarket.org for all event details\, and follow along on Facebook for updates.
URL:https://communityreporter.org/event/european-christmas-market-2/
LOCATION:Union Depot
ATTACH;FMTTYPE=image/jpeg:https://communityreporter.org/wp-content/uploads/2025/11/European-Christmas-market-e1764177737885.webp
END:VEVENT
END:VCALENDAR