BEGIN:VCALENDAR
VERSION:2.0
PRODID:-//Community Reporter - ECPv6.15.20//NONSGML v1.0//EN
CALSCALE:GREGORIAN
METHOD:PUBLISH
X-ORIGINAL-URL:https://communityreporter.org
X-WR-CALDESC:Events for Community Reporter
REFRESH-INTERVAL;VALUE=DURATION:PT1H
X-Robots-Tag:noindex
X-PUBLISHED-TTL:PT1H
BEGIN:VTIMEZONE
TZID:America/Chicago
BEGIN:DAYLIGHT
TZOFFSETFROM:-0600
TZOFFSETTO:-0500
TZNAME:CDT
DTSTART:20240310T080000
END:DAYLIGHT
BEGIN:STANDARD
TZOFFSETFROM:-0500
TZOFFSETTO:-0600
TZNAME:CST
DTSTART:20241103T070000
END:STANDARD
BEGIN:DAYLIGHT
TZOFFSETFROM:-0600
TZOFFSETTO:-0500
TZNAME:CDT
DTSTART:20250309T080000
END:DAYLIGHT
BEGIN:STANDARD
TZOFFSETFROM:-0500
TZOFFSETTO:-0600
TZNAME:CST
DTSTART:20251102T070000
END:STANDARD
BEGIN:DAYLIGHT
TZOFFSETFROM:-0600
TZOFFSETTO:-0500
TZNAME:CDT
DTSTART:20260308T080000
END:DAYLIGHT
BEGIN:STANDARD
TZOFFSETFROM:-0500
TZOFFSETTO:-0600
TZNAME:CST
DTSTART:20261101T070000
END:STANDARD
END:VTIMEZONE
BEGIN:VEVENT
DTSTART;TZID=America/Chicago:20251004T000000
DTEND;TZID=America/Chicago:20251206T235959
DTSTAMP:20260421T050407
CREATED:20251127T161550Z
LAST-MODIFIED:20251127T161554Z
UID:20736-1759536000-1765065599@communityreporter.org
SUMMARY:Coat Drive
DESCRIPTION:October 4 – December 6 \n\n\n\nDonate new or gently used coats! Collection sites: \n\n\n\n\nThe Odd Couple Team – 1460 Grand Ave\n\n\n\nNina’s Cafe – 165 Western Ave\n\n\n\nJimmy John’s – Grand & Highland locations\n\n\n\n\nDonations will be given to Joseph’s Coat\, a local organization that provides goods to those in need. Learn more at theoddcoupleteam.com/about/doing-good-in-the-neighborhood. \n\n\n\n\n\n\n\n\n\n 
URL:https://communityreporter.org/event/coat-drive/
ATTACH;FMTTYPE=image/jpeg:https://communityreporter.org/wp-content/uploads/2025/11/Odd-Couple-Coat-Drive-Header-e1763844051410.webp
END:VEVENT
BEGIN:VEVENT
DTSTART;VALUE=DATE:20251023
DTEND;VALUE=DATE:20251103
DTSTAMP:20260421T050407
CREATED:20251016T160917Z
LAST-MODIFIED:20251031T144607Z
UID:17756-1761177600-1762127999@communityreporter.org
SUMMARY:The Twin Cities Jewish Film Festival
DESCRIPTION:October 23-November 2. Various Venues.  \n This year’s festival presents 11 days of world-class cinema\, special guests\, and community conversation at venues across the Twin Cities. Opening Night kicks off with the Minnesota premiere of Midas Man on Thursday\, October 23\, while Closing Night concludes with the Minnesota premiere of Mazel Tov on Sunday\, November 2. Along the way\, audiences will enjoy U.S. and regional premieres\, spotlights on groundbreaking new voices\, and panels that deepen the conversation.  \nScreenings will be held at landmark venues across the Twin Cities\, including the Minnesota JCC Capp Center St. Paul and Sabes Center Minneapolis\, the Minneapolis Institute of Arts (MIA)\, Parkway Theater\, Riverview Theater\, Main Cinema\, Alliance Française and Open Book.  \nFor a full list of screenings & events and to purchase tickets\, visit www.TCJfilmfest.org. 
URL:https://communityreporter.org/event/the-twin-cities-jewish-film-festival/
LOCATION:Capp Center
ATTACH;FMTTYPE=image/jpeg:https://communityreporter.org/wp-content/uploads/2025/10/Twin-Cities-Jewish-Film-Festival-header-e1760630785539.webp
END:VEVENT
BEGIN:VEVENT
DTSTART;TZID=America/Chicago:20251024T193000
DTEND;TZID=America/Chicago:20251024T220000
DTSTAMP:20260421T050407
CREATED:20250926T191815Z
LAST-MODIFIED:20251031T144606Z
UID:16367-1761334200-1761343200@communityreporter.org
SUMMARY:Fall Scary Movie Series - The Sixth Sense
DESCRIPTION:Fridays through October\, Various St. Paul Parks. Free.  \nOur fall Movies in the Parks Scary Movie series kicks off this month! We are excited to continue on our 90s theme with the following line-up: \n\nFriday\, October 3 – Hocus Pocus at Como Midway Pavilion\nFriday\, October 10 – Scream at Hidden Falls Regional Park\nFriday\, October 17 – I Know What You Did Last Summer at Mears Park\nFriday\, October 24 – The Sixth Sense at Harriet Island Regional Park\n\nShows are free and all are welcome. Costumes are encouraged (especially for “Hocus Pocus”!) Rated R movies are 18+ events. Movies in the Parks are pet friendly events (unless otherwise noted)\, but pets must be kept on a leash no longer than 6ft at all times. See the full lineup at stpaul.gov/moviesintheparks. 
URL:https://communityreporter.org/event/fall-scary-movie-series-the-sixth-sense/
LOCATION:Harriet Island Pavilion
ATTACH;FMTTYPE=image/jpeg:https://communityreporter.org/wp-content/uploads/2025/09/St-Paul-movies-in-the-park.webp
END:VEVENT
END:VCALENDAR