BEGIN:VCALENDAR
VERSION:2.0
PRODID:-//Community Reporter - ECPv6.15.20//NONSGML v1.0//EN
CALSCALE:GREGORIAN
METHOD:PUBLISH
X-ORIGINAL-URL:https://communityreporter.org
X-WR-CALDESC:Events for Community Reporter
REFRESH-INTERVAL;VALUE=DURATION:PT1H
X-Robots-Tag:noindex
X-PUBLISHED-TTL:PT1H
BEGIN:VTIMEZONE
TZID:America/Chicago
BEGIN:DAYLIGHT
TZOFFSETFROM:-0600
TZOFFSETTO:-0500
TZNAME:CDT
DTSTART:20240310T080000
END:DAYLIGHT
BEGIN:STANDARD
TZOFFSETFROM:-0500
TZOFFSETTO:-0600
TZNAME:CST
DTSTART:20241103T070000
END:STANDARD
BEGIN:DAYLIGHT
TZOFFSETFROM:-0600
TZOFFSETTO:-0500
TZNAME:CDT
DTSTART:20250309T080000
END:DAYLIGHT
BEGIN:STANDARD
TZOFFSETFROM:-0500
TZOFFSETTO:-0600
TZNAME:CST
DTSTART:20251102T070000
END:STANDARD
BEGIN:DAYLIGHT
TZOFFSETFROM:-0600
TZOFFSETTO:-0500
TZNAME:CDT
DTSTART:20260308T080000
END:DAYLIGHT
BEGIN:STANDARD
TZOFFSETFROM:-0500
TZOFFSETTO:-0600
TZNAME:CST
DTSTART:20261101T070000
END:STANDARD
END:VTIMEZONE
BEGIN:VEVENT
DTSTART;TZID=America/Chicago:20251004T000000
DTEND;TZID=America/Chicago:20251206T235959
DTSTAMP:20260421T050304
CREATED:20251127T161550Z
LAST-MODIFIED:20251127T161554Z
UID:20736-1759536000-1765065599@communityreporter.org
SUMMARY:Coat Drive
DESCRIPTION:October 4 – December 6 \n\n\n\nDonate new or gently used coats! Collection sites: \n\n\n\n\nThe Odd Couple Team – 1460 Grand Ave\n\n\n\nNina’s Cafe – 165 Western Ave\n\n\n\nJimmy John’s – Grand & Highland locations\n\n\n\n\nDonations will be given to Joseph’s Coat\, a local organization that provides goods to those in need. Learn more at theoddcoupleteam.com/about/doing-good-in-the-neighborhood. \n\n\n\n\n\n\n\n\n\n 
URL:https://communityreporter.org/event/coat-drive/
ATTACH;FMTTYPE=image/jpeg:https://communityreporter.org/wp-content/uploads/2025/11/Odd-Couple-Coat-Drive-Header-e1763844051410.webp
END:VEVENT
BEGIN:VEVENT
DTSTART;TZID=America/Chicago:20251016T120000
DTEND;TZID=America/Chicago:20251016T140000
DTSTAMP:20260421T050304
CREATED:20250924T153301Z
LAST-MODIFIED:20251031T144618Z
UID:16218-1760616000-1760623200@communityreporter.org
SUMMARY:Free Produce Distribution
DESCRIPTION:Every 1st and 3rd Thursday through October. Noon-2:00 p.m. Summit Brewing.  \nAll are welcome to pick up free fruits and vegetables at Neighborhood House’s bi-weekly distributions hosted at Summit Brewing. Every 1st and 3rd Thursday through October. August 7\, August 21\, September 4\, September 18\, October 2\, October 16. Noon – 2 p.m. (first come first served). Summit Brewing parking lot — 910 Montreal Circle\, St Paul\, MN 55102. These distributions are held outdoors and are farmer’s market style. No documentation or identification is required to participate.  Please consider bringing your own large\, reusable bags.  \nLearn more at neighborhoodhousemn.org/programs/food-support/fresh-produce-events. \nMore information (PDF)
URL:https://communityreporter.org/event/free-produce-distribution-2/
LOCATION:Summit Brewing
ATTACH;FMTTYPE=image/jpeg:https://communityreporter.org/wp-content/uploads/2025/09/NH-Food-Events-1-produce-distrobution-e1758727680266.webp
END:VEVENT
BEGIN:VEVENT
DTSTART;TZID=America/Chicago:20251016T163000
DTEND;TZID=America/Chicago:20251016T180000
DTSTAMP:20260421T050304
CREATED:20250730T194949Z
LAST-MODIFIED:20251031T144616Z
UID:13452-1760632200-1760637600@communityreporter.org
SUMMARY:Downtown Action Series
DESCRIPTION:October 16\, 4:30 – 6:30 p.m. Union Depot. \nJoin fellow neighbors for the launch of the Downtown Action Series\, a new initiative led by Council President Rebecca Noecker to bring community members together around the future of downtown St. Paul. \nThis series of public meetings is designed to keep you informed and engaged in the progress of Saint Paul’s Downtown Investment Strategy. Whether you’re a downtown resident\, business owner\, employee\, or simply care about downtown’s future—your engagement matters. \nAll meetings are held at Union Depot (214 4th Street East) from 4:30 – 6 PM.  \n\nThursday\, August 21\nThursday\, October 16\nThursday\, December 11\n\nRSVP here: https://forms.office.com/g/hpTbTkt92m?origin=lprLink \nTogether\, we’ll share updates\, collaborate across sectors\, and build momentum toward a more vibrant\, inclusive\, and thriving downtown. Please feel free to share this invitation and bring others who care about downtown’s future. The more people at the table\, the stronger our path forward. \nLet’s shape the future of downtown—together\, hope to see you there!
URL:https://communityreporter.org/event/downtown-action-series-2/
LOCATION:Union Depot
ATTACH;FMTTYPE=image/png:https://communityreporter.org/wp-content/uploads/2025/07/downtown-action-series-header-e1753904754558.webp
END:VEVENT
END:VCALENDAR