BEGIN:VCALENDAR
VERSION:2.0
PRODID:-//Community Reporter - ECPv6.15.20//NONSGML v1.0//EN
CALSCALE:GREGORIAN
METHOD:PUBLISH
X-WR-CALNAME:Community Reporter
X-ORIGINAL-URL:https://communityreporter.org
X-WR-CALDESC:Events for Community Reporter
REFRESH-INTERVAL;VALUE=DURATION:PT1H
X-Robots-Tag:noindex
X-PUBLISHED-TTL:PT1H
BEGIN:VTIMEZONE
TZID:America/Chicago
BEGIN:DAYLIGHT
TZOFFSETFROM:-0600
TZOFFSETTO:-0500
TZNAME:CDT
DTSTART:20240310T080000
END:DAYLIGHT
BEGIN:STANDARD
TZOFFSETFROM:-0500
TZOFFSETTO:-0600
TZNAME:CST
DTSTART:20241103T070000
END:STANDARD
BEGIN:DAYLIGHT
TZOFFSETFROM:-0600
TZOFFSETTO:-0500
TZNAME:CDT
DTSTART:20250309T080000
END:DAYLIGHT
BEGIN:STANDARD
TZOFFSETFROM:-0500
TZOFFSETTO:-0600
TZNAME:CST
DTSTART:20251102T070000
END:STANDARD
BEGIN:DAYLIGHT
TZOFFSETFROM:-0600
TZOFFSETTO:-0500
TZNAME:CDT
DTSTART:20260308T080000
END:DAYLIGHT
BEGIN:STANDARD
TZOFFSETFROM:-0500
TZOFFSETTO:-0600
TZNAME:CST
DTSTART:20261101T070000
END:STANDARD
END:VTIMEZONE
BEGIN:VEVENT
DTSTART;TZID=America/Chicago:20251004T000000
DTEND;TZID=America/Chicago:20251206T235959
DTSTAMP:20260421T053307
CREATED:20251127T161550Z
LAST-MODIFIED:20251127T161554Z
UID:20736-1759536000-1765065599@communityreporter.org
SUMMARY:Coat Drive
DESCRIPTION:October 4 – December 6 \n\n\n\nDonate new or gently used coats! Collection sites: \n\n\n\n\nThe Odd Couple Team – 1460 Grand Ave\n\n\n\nNina’s Cafe – 165 Western Ave\n\n\n\nJimmy John’s – Grand & Highland locations\n\n\n\n\nDonations will be given to Joseph’s Coat\, a local organization that provides goods to those in need. Learn more at theoddcoupleteam.com/about/doing-good-in-the-neighborhood. \n\n\n\n\n\n\n\n\n\n 
URL:https://communityreporter.org/event/coat-drive/
ATTACH;FMTTYPE=image/jpeg:https://communityreporter.org/wp-content/uploads/2025/11/Odd-Couple-Coat-Drive-Header-e1763844051410.webp
END:VEVENT
BEGIN:VEVENT
DTSTART;TZID=America/Chicago:20251010T180000
DTEND;TZID=America/Chicago:20251012T170000
DTSTAMP:20260421T053307
CREATED:20250926T200124Z
LAST-MODIFIED:20250926T200124Z
UID:16410-1760119200-1760288400@communityreporter.org
SUMMARY:Schmidt Fall Art Crawl
DESCRIPTION:October 10-12\, Schmidt Artists Lofts. Free \nFall Art Crawl at the Schmidt Artist Lofts will showcase the original work of over 80 local artists painters\, ceramics\, fiber artists\, jeweler’s\, wood & metal workers\, fashion designers\, illustrators\, found object art & so much more. They host an open pallet up on the rooftop where artists of all genres showcase their talents. Be one of the first 25 shoppers each day to spend over $100 in art\, and you’ll receive a FREE Schmidt tote bag! They’ll have coffee in the lobby and food trucks on the plaza to keep you fueled. Learn more at schmidtartists.com.
URL:https://communityreporter.org/event/schmidt-fall-art-crawl/
LOCATION:Schmidt Artists Lofts
ATTACH;FMTTYPE=image/webp:https://communityreporter.org/wp-content/uploads/2025/09/Schmidt-fall-Art-Crawl-header.webp
END:VEVENT
BEGIN:VEVENT
DTSTART;TZID=America/Chicago:20251010T180000
DTEND;TZID=America/Chicago:20251012T170000
DTSTAMP:20260421T053307
CREATED:20250926T200932Z
LAST-MODIFIED:20250926T200932Z
UID:16417-1760119200-1760288400@communityreporter.org
SUMMARY:St. Paul Art Crawl On The West Side 
DESCRIPTION:October 10-12\, F-O-K Studios at Farwell-on-Water. Free. \nVisitors can explore three floors of artist studios with over 50 artists throughout the weekend\, musicians and so much more. Discover a work of art to add to your life\, get an opportunity to converse directly with the artist who made it\, experience demonstrations and activities\, view The St. Paul Art Crawl Sample Exhibition\, enjoy an evening of Jazz on Friday\, experience a Trinidad Carnival on Saturday and find some wellness on Sunday with energy and astrology readings and books\, kid’s coloring contest and much more. All in the historic F-O-K Studios. Learn more at fokcreatives.square.site.
URL:https://communityreporter.org/event/st-paul-art-crawl-on-the-west-side/
LOCATION:F-O-K Studios
ATTACH;FMTTYPE=image/webp:https://communityreporter.org/wp-content/uploads/2025/09/Social-Square_freeparking_1756957219-e1758917199937.webp
END:VEVENT
BEGIN:VEVENT
DTSTART;TZID=America/Chicago:20251010T184500
DTEND;TZID=America/Chicago:20251010T213000
DTSTAMP:20260421T053307
CREATED:20250926T194342Z
LAST-MODIFIED:20250926T194342Z
UID:16398-1760121900-1760131800@communityreporter.org
SUMMARY:Landmark Live! - Davina Sowers
DESCRIPTION:October 10\, 6:45-9:30 p.m. Landmark Center. $25-30.  \nLandmark Center presents the 14th season of “Landmark Live” in the lovely F.K. Weyerhaeuser Auditorium\, featuring the best of Americana\, indie rock\, jazz and folk music\, with support from KFAI Radio and the Pioneer Press. Concerts begin at 7:30 pm and are preceded by a cocktail hour at 6:45 pm\, giving audiences an opportunity to enjoy complimentary refreshments and a cash bar. \n2025 Landmark Live Lineup  \nFriday\, October 10: Davina Sowers \nFriday\, November 14: Kiss the Tiger \nFriday\, December 12: Chastity Brown \nLearn more and purchase tickets at landmarkcenter.org/landmark-live. 
URL:https://communityreporter.org/event/landmark-live-davina-sowers/
LOCATION:Landmark Center
ATTACH;FMTTYPE=image/webp:https://communityreporter.org/wp-content/uploads/2025/09/Davina-Sowers-moon-scaled-1-e1758915776705.webp
END:VEVENT
BEGIN:VEVENT
DTSTART;TZID=America/Chicago:20251010T193000
DTEND;TZID=America/Chicago:20251010T220000
DTSTAMP:20260421T053307
CREATED:20250924T162447Z
LAST-MODIFIED:20250924T162447Z
UID:16233-1760124600-1760133600@communityreporter.org
SUMMARY:Fall Scary Movie Series - Scream
DESCRIPTION:Fridays through October\, Various St. Paul Parks. Free.  \nOur fall Movies in the Parks Scary Movie series kicks off this month! We are excited to continue on our 90s theme with the following line-up: \n\nFriday\, October 3 – Hocus Pocus at Como Midway Pavilion\nFriday\, October 10 – Scream at Hidden Falls Regional Park\nFriday\, October 17 – I Know What You Did Last Summer at Mears Park\nFriday\, October 24 – The Sixth Sense at Harriet Island Regional Park\n\nShows are free and all are welcome. Costumes are encouraged (especially for “Hocus Pocus”!) Rated R movies are 18+ events. Movies in the Parks are pet friendly events (unless otherwise noted)\, but pets must be kept on a leash no longer than 6ft at all times. See the full lineup at stpaul.gov/moviesintheparks. 
URL:https://communityreporter.org/event/fall-scary-movie-series-scream/
LOCATION:Hidden Falls Regional Park
ATTACH;FMTTYPE=image/jpeg:https://communityreporter.org/wp-content/uploads/2025/09/St-Paul-movies-in-the-park.webp
END:VEVENT
END:VCALENDAR