BEGIN:VCALENDAR
VERSION:2.0
PRODID:-//Community Reporter - ECPv6.15.20//NONSGML v1.0//EN
CALSCALE:GREGORIAN
METHOD:PUBLISH
X-ORIGINAL-URL:https://communityreporter.org
X-WR-CALDESC:Events for Community Reporter
REFRESH-INTERVAL;VALUE=DURATION:PT1H
X-Robots-Tag:noindex
X-PUBLISHED-TTL:PT1H
BEGIN:VTIMEZONE
TZID:America/Chicago
BEGIN:DAYLIGHT
TZOFFSETFROM:-0600
TZOFFSETTO:-0500
TZNAME:CDT
DTSTART:20240310T080000
END:DAYLIGHT
BEGIN:STANDARD
TZOFFSETFROM:-0500
TZOFFSETTO:-0600
TZNAME:CST
DTSTART:20241103T070000
END:STANDARD
BEGIN:DAYLIGHT
TZOFFSETFROM:-0600
TZOFFSETTO:-0500
TZNAME:CDT
DTSTART:20250309T080000
END:DAYLIGHT
BEGIN:STANDARD
TZOFFSETFROM:-0500
TZOFFSETTO:-0600
TZNAME:CST
DTSTART:20251102T070000
END:STANDARD
BEGIN:DAYLIGHT
TZOFFSETFROM:-0600
TZOFFSETTO:-0500
TZNAME:CDT
DTSTART:20260308T080000
END:DAYLIGHT
BEGIN:STANDARD
TZOFFSETFROM:-0500
TZOFFSETTO:-0600
TZNAME:CST
DTSTART:20261101T070000
END:STANDARD
END:VTIMEZONE
BEGIN:VEVENT
DTSTART;TZID=America/Chicago:20251002T190000
DTEND;TZID=America/Chicago:20251004T160000
DTSTAMP:20260421T050407
CREATED:20250924T153722Z
LAST-MODIFIED:20250924T153722Z
UID:16222-1759431600-1759593600@communityreporter.org
SUMMARY:History Play: Not in our Neighborhood
DESCRIPTION:October 2-4\, Thurs. & Fri. 7 p.m.\, Sat. 2 p.m. Landmark Center. $10 \nIn 1924 St. Paul\, Nellie and William Francis\, prominent African American leaders\, confront violent opposition after moving into an all-white neighborhood. Cross burnings\, threats\, and intimidation cannot shake their resolve. With the NAACP’s backing and eventual city action\, they challenged the neighborhood’s segregated barriers. This powerful play retraces their courage and lasting fight for justice. For tickets and more info\, visit ticketleap.events/events/landmarkcenter.
URL:https://communityreporter.org/event/history-play-not-in-our-neighborhood/
LOCATION:Landmark Center
ATTACH;FMTTYPE=image/png:https://communityreporter.org/wp-content/uploads/2025/09/not-in-hour-neighborhood-history-play-e1758728182240.webp
END:VEVENT
BEGIN:VEVENT
DTSTART;TZID=America/Chicago:20251003T193000
DTEND;TZID=America/Chicago:20251003T220000
DTSTAMP:20260421T050407
CREATED:20250924T154435Z
LAST-MODIFIED:20250924T154435Z
UID:16227-1759519800-1759528800@communityreporter.org
SUMMARY:Fall Scary Movie Series - Hocus Pocus
DESCRIPTION:Fridays through October\, Various St. Paul Parks. Free.  \nOur fall Movies in the Parks Scary Movie series kicks off this month! We are excited to continue on our 90s theme with the following line-up: \n\nFriday\, October 3 – Hocus Pocus at Como Midway Pavilion\nFriday\, October 10 – Scream at Hidden Falls Regional Park\nFriday\, October 17 – I Know What You Did Last Summer at Mears Park\nFriday\, October 24 – The Sixth Sense at Harriet Island Regional Park\n\nShows are free and all are welcome. Costumes are encouraged (especially for “Hocus Pocus”!) Rated R movies are 18+ events. Movies in the Parks are pet friendly events (unless otherwise noted)\, but pets must be kept on a leash no longer than 6ft at all times. See the full lineup at stpaul.gov/moviesintheparks. 
URL:https://communityreporter.org/event/fall-scary-movie-series-hocus-pocus/
LOCATION:Como Midway Pavillion
ATTACH;FMTTYPE=image/jpeg:https://communityreporter.org/wp-content/uploads/2025/09/St-Paul-movies-in-the-park.webp
END:VEVENT
END:VCALENDAR