BEGIN:VCALENDAR
VERSION:2.0
PRODID:-//Community Reporter - ECPv6.15.20//NONSGML v1.0//EN
CALSCALE:GREGORIAN
METHOD:PUBLISH
X-ORIGINAL-URL:https://communityreporter.org
X-WR-CALDESC:Events for Community Reporter
REFRESH-INTERVAL;VALUE=DURATION:PT1H
X-Robots-Tag:noindex
X-PUBLISHED-TTL:PT1H
BEGIN:VTIMEZONE
TZID:America/Chicago
BEGIN:DAYLIGHT
TZOFFSETFROM:-0600
TZOFFSETTO:-0500
TZNAME:CDT
DTSTART:20240310T080000
END:DAYLIGHT
BEGIN:STANDARD
TZOFFSETFROM:-0500
TZOFFSETTO:-0600
TZNAME:CST
DTSTART:20241103T070000
END:STANDARD
BEGIN:DAYLIGHT
TZOFFSETFROM:-0600
TZOFFSETTO:-0500
TZNAME:CDT
DTSTART:20250309T080000
END:DAYLIGHT
BEGIN:STANDARD
TZOFFSETFROM:-0500
TZOFFSETTO:-0600
TZNAME:CST
DTSTART:20251102T070000
END:STANDARD
BEGIN:DAYLIGHT
TZOFFSETFROM:-0600
TZOFFSETTO:-0500
TZNAME:CDT
DTSTART:20260308T080000
END:DAYLIGHT
BEGIN:STANDARD
TZOFFSETFROM:-0500
TZOFFSETTO:-0600
TZNAME:CST
DTSTART:20261101T070000
END:STANDARD
END:VTIMEZONE
BEGIN:VEVENT
DTSTART;TZID=America/Chicago:20250930T180000
DTEND;TZID=America/Chicago:20250930T193000
DTSTAMP:20260421T050345
CREATED:20250926T193041Z
LAST-MODIFIED:20250926T193041Z
UID:16379-1759255200-1759260600@communityreporter.org
SUMMARY:Fall Open Air Music
DESCRIPTION:Tuesdays through October 28\, 6:00-7:30 p.m. Victoria East Crossing. Free.  \nEnjoy an evening of live music at 857 Grand Avenue Outdoor Patio (Victoria East Crossing) featuring local bands. Come enjoy an evening of dining\, shopping\, and community! Thank you to Center of the Block\, Summit Hill Association\, and Afton Park Development for partnering on this event. Learn more at grandave.com/events.
URL:https://communityreporter.org/event/fall-open-air-music/
LOCATION:Victoria Crossing
ATTACH;FMTTYPE=image/jpeg:https://communityreporter.org/wp-content/uploads/2025/09/fall-open-Air-music-on-Grand-header.webp
END:VEVENT
END:VCALENDAR