BEGIN:VCALENDAR
VERSION:2.0
PRODID:-//Community Reporter - ECPv6.15.20//NONSGML v1.0//EN
CALSCALE:GREGORIAN
METHOD:PUBLISH
X-ORIGINAL-URL:https://communityreporter.org
X-WR-CALDESC:Events for Community Reporter
REFRESH-INTERVAL;VALUE=DURATION:PT1H
X-Robots-Tag:noindex
X-PUBLISHED-TTL:PT1H
BEGIN:VTIMEZONE
TZID:America/Chicago
BEGIN:DAYLIGHT
TZOFFSETFROM:-0600
TZOFFSETTO:-0500
TZNAME:CDT
DTSTART:20240310T080000
END:DAYLIGHT
BEGIN:STANDARD
TZOFFSETFROM:-0500
TZOFFSETTO:-0600
TZNAME:CST
DTSTART:20241103T070000
END:STANDARD
BEGIN:DAYLIGHT
TZOFFSETFROM:-0600
TZOFFSETTO:-0500
TZNAME:CDT
DTSTART:20250309T080000
END:DAYLIGHT
BEGIN:STANDARD
TZOFFSETFROM:-0500
TZOFFSETTO:-0600
TZNAME:CST
DTSTART:20251102T070000
END:STANDARD
BEGIN:DAYLIGHT
TZOFFSETFROM:-0600
TZOFFSETTO:-0500
TZNAME:CDT
DTSTART:20260308T080000
END:DAYLIGHT
BEGIN:STANDARD
TZOFFSETFROM:-0500
TZOFFSETTO:-0600
TZNAME:CST
DTSTART:20261101T070000
END:STANDARD
END:VTIMEZONE
BEGIN:VEVENT
DTSTART;TZID=America/Chicago:20250927T080000
DTEND;TZID=America/Chicago:20250927T130000
DTSTAMP:20260421T063428
CREATED:20250829T193620Z
LAST-MODIFIED:20250829T193645Z
UID:14806-1758960000-1758978000@communityreporter.org
SUMMARY:Farmers Market at St Luke’s Lutheran Church
DESCRIPTION:Saturdays through October 4\, 8:00 a.m.-1:00 p.m. St. Luke’s Lutheran Church. \nThe 2025 St. Luke’s Farmers’ Market is held Saturdays from 8 a.m. to 1 p.m from June 14 to Oct. 4.  Since 2015\, St. Luke has sponsored a farmers’ market in its parking lot in the Highland Park neighborhood of St. Paul. The vendors and selection varies throughout the season\, but these are some of the choices you can expect: \n\nLocally grown\, freshly picked fruits and vegetables\nA variety of artisan breads from St. Paul’s La Boulangerie Marguerite\nHand-crafted soaps\, candles\, and home decorations\n\nSNAP customers who use their EBT cards can get up to $10 in matching Market Bucks on SNAP-eligible purchases and up to another $10 in matching Produce Market Bucks on produce. \nLearn more at saintlukechurch.org/farmers-market.
URL:https://communityreporter.org/event/farmers-market-at-st-lukes-lutheran-church-5/
LOCATION:St. Luke Lutheran Church
ATTACH;FMTTYPE=image/avif:https://communityreporter.org/wp-content/uploads/2025/08/St.-Lukes-farmers-market-logo_rgb.avif
END:VEVENT
END:VCALENDAR