BEGIN:VCALENDAR
VERSION:2.0
PRODID:-//Community Reporter - ECPv6.15.20//NONSGML v1.0//EN
CALSCALE:GREGORIAN
METHOD:PUBLISH
X-WR-CALNAME:Community Reporter
X-ORIGINAL-URL:https://communityreporter.org
X-WR-CALDESC:Events for Community Reporter
REFRESH-INTERVAL;VALUE=DURATION:PT1H
X-Robots-Tag:noindex
X-PUBLISHED-TTL:PT1H
BEGIN:VTIMEZONE
TZID:America/Chicago
BEGIN:DAYLIGHT
TZOFFSETFROM:-0600
TZOFFSETTO:-0500
TZNAME:CDT
DTSTART:20240310T080000
END:DAYLIGHT
BEGIN:STANDARD
TZOFFSETFROM:-0500
TZOFFSETTO:-0600
TZNAME:CST
DTSTART:20241103T070000
END:STANDARD
BEGIN:DAYLIGHT
TZOFFSETFROM:-0600
TZOFFSETTO:-0500
TZNAME:CDT
DTSTART:20250309T080000
END:DAYLIGHT
BEGIN:STANDARD
TZOFFSETFROM:-0500
TZOFFSETTO:-0600
TZNAME:CST
DTSTART:20251102T070000
END:STANDARD
BEGIN:DAYLIGHT
TZOFFSETFROM:-0600
TZOFFSETTO:-0500
TZNAME:CDT
DTSTART:20260308T080000
END:DAYLIGHT
BEGIN:STANDARD
TZOFFSETFROM:-0500
TZOFFSETTO:-0600
TZNAME:CST
DTSTART:20261101T070000
END:STANDARD
END:VTIMEZONE
BEGIN:VEVENT
DTSTART;TZID=America/Chicago:20250923T180000
DTEND;TZID=America/Chicago:20250923T200000
DTSTAMP:20260421T063210
CREATED:20250829T204300Z
LAST-MODIFIED:20250829T204300Z
UID:14848-1758650400-1758657600@communityreporter.org
SUMMARY:Irvine Park Music Series: Chastity Brown
DESCRIPTION:September 23\, 6:00 p.m. Irvine Park. $15 suggested donation. \nJoin us for the final concert of the season with acclaimed singer-songwriter Chastity Brown\, whose music defies easy categorization—merging folk\, Americana\, soul\, and blues into a sound that’s both tender and explosive. \nBased in Minneapolis and celebrated across the U.S. and Europe\, Chastity brings raw emotion\, poetic songwriting\, and a powerful stage presence. Her songs speak to love\, struggle\, and resilience—with a voice that’s rich\, searching\, and unforgettable. It’s the perfect way to close out the summer—surrounded by neighbors\, music\, and the magic of Irvine Park at dusk. Bring a chair or blanket Pack a picnic. Suggested donation: $15 per person. All are welcome – no tickets required. Presented by the Historic Irvine Park Association\, a 501(c)3 organization. \nLearn more at https://www.facebook.com/irvineparkmusicseries. 
URL:https://communityreporter.org/event/irvine-park-music-series-chastity-brown/
LOCATION:Irvine Park
ATTACH;FMTTYPE=image/jpeg:https://communityreporter.org/wp-content/uploads/2025/08/chastity-brown-Irvine-park-e1756500154801.webp
END:VEVENT
BEGIN:VEVENT
DTSTART;TZID=America/Chicago:20250923T190000
DTEND;TZID=America/Chicago:20250923T210000
DTSTAMP:20260421T063210
CREATED:20250817T154134Z
LAST-MODIFIED:20250817T154134Z
UID:14338-1758654000-1758661200@communityreporter.org
SUMMARY:Music on the Patio
DESCRIPTION:Tuesdays through September 23. 7:00-9:00 p.m. Skinner’s Pub & Eatery. Free.  \nSkinner’s Pub is hosting live music on the patio every Tuesday all summer long\, rain or shine\, from 7-9 p.m. More at facebook.com/skinnerspub. 
URL:https://communityreporter.org/event/music-on-the-patio-17/
LOCATION:Skinner’s Pub
ATTACH;FMTTYPE=image/jpeg:https://communityreporter.org/wp-content/uploads/2025/05/Music-on-the-patio-skinners-e1748280738223.jpg
END:VEVENT
END:VCALENDAR