BEGIN:VCALENDAR
VERSION:2.0
PRODID:-//Community Reporter - ECPv6.15.20//NONSGML v1.0//EN
CALSCALE:GREGORIAN
METHOD:PUBLISH
X-ORIGINAL-URL:https://communityreporter.org
X-WR-CALDESC:Events for Community Reporter
REFRESH-INTERVAL;VALUE=DURATION:PT1H
X-Robots-Tag:noindex
X-PUBLISHED-TTL:PT1H
BEGIN:VTIMEZONE
TZID:America/Chicago
BEGIN:DAYLIGHT
TZOFFSETFROM:-0600
TZOFFSETTO:-0500
TZNAME:CDT
DTSTART:20240310T080000
END:DAYLIGHT
BEGIN:STANDARD
TZOFFSETFROM:-0500
TZOFFSETTO:-0600
TZNAME:CST
DTSTART:20241103T070000
END:STANDARD
BEGIN:DAYLIGHT
TZOFFSETFROM:-0600
TZOFFSETTO:-0500
TZNAME:CDT
DTSTART:20250309T080000
END:DAYLIGHT
BEGIN:STANDARD
TZOFFSETFROM:-0500
TZOFFSETTO:-0600
TZNAME:CST
DTSTART:20251102T070000
END:STANDARD
BEGIN:DAYLIGHT
TZOFFSETFROM:-0600
TZOFFSETTO:-0500
TZNAME:CDT
DTSTART:20260308T080000
END:DAYLIGHT
BEGIN:STANDARD
TZOFFSETFROM:-0500
TZOFFSETTO:-0600
TZNAME:CST
DTSTART:20261101T070000
END:STANDARD
END:VTIMEZONE
BEGIN:VEVENT
DTSTART;TZID=America/Chicago:20250912T170000
DTEND;TZID=America/Chicago:20250914T170000
DTSTAMP:20260421T063428
CREATED:20250829T213537Z
LAST-MODIFIED:20250829T213537Z
UID:14870-1757696400-1757869200@communityreporter.org
SUMMARY:24th Annual Selby Ave Jazzfest
DESCRIPTION:September 12-14. Selby Ave. Free. \nA full\, free day of great jazz from “just down the block\,” local\, regional\, national\, and international performing artists. Since 2002\, The Fest stage has featured over a dozen Grammy award winners and nominees as well as numerous national and regional award winners. \nSeptember 12 5:00 p.m.-8:00 p.m.  \nSeptember 13 11:00 a.m.-7:30 p.m.  \nSeptember 14 3:00 PM Free Special Masterclass with Cory Henry \nLearn more at selbyavejazzfest.com.
URL:https://communityreporter.org/event/24th-annual-selby-ave-jazzfest/
LOCATION:Selby Ave.
ATTACH;FMTTYPE=image/jpeg:https://communityreporter.org/wp-content/uploads/2025/08/Selby-Jazz-fest-header-e1756503283488.webp
END:VEVENT
BEGIN:VEVENT
DTSTART;TZID=America/Chicago:20250914T101500
DTEND;TZID=America/Chicago:20250914T114500
DTSTAMP:20260421T063428
CREATED:20250829T195714Z
LAST-MODIFIED:20250829T195746Z
UID:14826-1757844900-1757850300@communityreporter.org
SUMMARY:Irvine Park Walking Tour
DESCRIPTION:Thursdays and Sundays through September 25\, 10:15 AM – 11:45 a.m. Alexander Ramsey House. $0-$20. \nThe Irvine Park District was one of St. Paul’s first residential neighborhoods. Walk with our knowledgeable guides on a tour to learn about the history of the land and architecture. You’ll hear stories of the residents throughout time and take a deeper dive into the preservation efforts of this beautiful historic district. \nTours do not include house tours or self-guided access to building interiors. \nAll areas are accessible\, but some side streets are cobblestone and have historic stone curbs. \nTickets and more at mnhs.org/events.
URL:https://communityreporter.org/event/irvine-park-walking-tour-14/
LOCATION:Alexander Ramsey House
ATTACH;FMTTYPE=image/jpeg:https://communityreporter.org/wp-content/uploads/2025/05/Irvine-Park-Walking-Tour-e1748359548549.jpg
END:VEVENT
BEGIN:VEVENT
DTSTART;TZID=America/Chicago:20250914T130000
DTEND;TZID=America/Chicago:20250914T150000
DTSTAMP:20260421T063428
CREATED:20250829T204955Z
LAST-MODIFIED:20250829T205034Z
UID:14852-1757854800-1757862000@communityreporter.org
SUMMARY:Ward 2 Community Picnic
DESCRIPTION:September 14\, 1:00-3:00 p.m. Pedro Park. Free \nJoin us at Saint Paul’s newest Park for our yearly Ward 2 Picnic! \nFeaturing amazing food from across the ward\, lawn games\, face painting\, entertainment and fantastic conversations with your neighbors. Learn more at facebook.com/events/s/9th-annual-ward-2-community-pi/1677176966334776. 
URL:https://communityreporter.org/event/ward-2-community-picnic/
LOCATION:Pedro Park
ATTACH;FMTTYPE=image/jpeg:https://communityreporter.org/wp-content/uploads/2025/08/Ward-2-picnic.webp
END:VEVENT
BEGIN:VEVENT
DTSTART;TZID=America/Chicago:20250914T153000
DTEND;TZID=America/Chicago:20250914T170000
DTSTAMP:20260421T063428
CREATED:20250826T183357Z
LAST-MODIFIED:20250826T183357Z
UID:14662-1757863800-1757869200@communityreporter.org
SUMMARY:Nooks and Crannies Tour
DESCRIPTION:Sundays through November 16\, 3:30-5:00 p.m. James J. Hill House. $16-20.  \nGet a behind-the-scenes look at areas of the James J. Hill House that are not featured on the standard house tour including the attic theater space\, gate house and storage areas generally off-limits to visitors. Guides will highlight artifacts and fixtures in the home with personal stories from the Hill family and domestic workers. Tour runs 90 minutes. \nGet tickets and learn more at mnhs.org/events.
URL:https://communityreporter.org/event/nooks-and-crannies-tour-2/
LOCATION:James J. Hill House
ATTACH;FMTTYPE=image/webp:https://communityreporter.org/wp-content/uploads/2025/08/23_JJH_NooksCrannies_Calendar-3-e1756233089125.webp
END:VEVENT
END:VCALENDAR