BEGIN:VCALENDAR
VERSION:2.0
PRODID:-//Community Reporter - ECPv6.15.20//NONSGML v1.0//EN
CALSCALE:GREGORIAN
METHOD:PUBLISH
X-ORIGINAL-URL:https://communityreporter.org
X-WR-CALDESC:Events for Community Reporter
REFRESH-INTERVAL;VALUE=DURATION:PT1H
X-Robots-Tag:noindex
X-PUBLISHED-TTL:PT1H
BEGIN:VTIMEZONE
TZID:America/Chicago
BEGIN:DAYLIGHT
TZOFFSETFROM:-0600
TZOFFSETTO:-0500
TZNAME:CDT
DTSTART:20240310T080000
END:DAYLIGHT
BEGIN:STANDARD
TZOFFSETFROM:-0500
TZOFFSETTO:-0600
TZNAME:CST
DTSTART:20241103T070000
END:STANDARD
BEGIN:DAYLIGHT
TZOFFSETFROM:-0600
TZOFFSETTO:-0500
TZNAME:CDT
DTSTART:20250309T080000
END:DAYLIGHT
BEGIN:STANDARD
TZOFFSETFROM:-0500
TZOFFSETTO:-0600
TZNAME:CST
DTSTART:20251102T070000
END:STANDARD
BEGIN:DAYLIGHT
TZOFFSETFROM:-0600
TZOFFSETTO:-0500
TZNAME:CDT
DTSTART:20260308T080000
END:DAYLIGHT
BEGIN:STANDARD
TZOFFSETFROM:-0500
TZOFFSETTO:-0600
TZNAME:CST
DTSTART:20261101T070000
END:STANDARD
END:VTIMEZONE
BEGIN:VEVENT
DTSTART;TZID=America/Chicago:20250912T170000
DTEND;TZID=America/Chicago:20250914T170000
DTSTAMP:20260421T062927
CREATED:20250829T213537Z
LAST-MODIFIED:20250829T213537Z
UID:14870-1757696400-1757869200@communityreporter.org
SUMMARY:24th Annual Selby Ave Jazzfest
DESCRIPTION:September 12-14. Selby Ave. Free. \nA full\, free day of great jazz from “just down the block\,” local\, regional\, national\, and international performing artists. Since 2002\, The Fest stage has featured over a dozen Grammy award winners and nominees as well as numerous national and regional award winners. \nSeptember 12 5:00 p.m.-8:00 p.m.  \nSeptember 13 11:00 a.m.-7:30 p.m.  \nSeptember 14 3:00 PM Free Special Masterclass with Cory Henry \nLearn more at selbyavejazzfest.com.
URL:https://communityreporter.org/event/24th-annual-selby-ave-jazzfest/
LOCATION:Selby Ave.
ATTACH;FMTTYPE=image/jpeg:https://communityreporter.org/wp-content/uploads/2025/08/Selby-Jazz-fest-header-e1756503283488.webp
END:VEVENT
BEGIN:VEVENT
DTSTART;TZID=America/Chicago:20250913T080000
DTEND;TZID=America/Chicago:20250913T130000
DTSTAMP:20260421T062927
CREATED:20250829T193211Z
LAST-MODIFIED:20250829T193954Z
UID:14802-1757750400-1757768400@communityreporter.org
SUMMARY:Farmers Market at St Luke’s Lutheran Church
DESCRIPTION:Saturdays through October 4\, 8:00 a.m.-1:00 p.m. St. Luke’s Lutheran Church. \nThe 2025 St. Luke’s Farmers’ Market is held Saturdays from 8 a.m. to 1 p.m from June 14 to Oct. 4.  Since 2015\, St. Luke has sponsored a farmers’ market in its parking lot in the Highland Park neighborhood of St. Paul. The vendors and selection varies throughout the season\, but these are some of the choices you can expect: \n\nLocally grown\, freshly picked fruits and vegetables\nA variety of artisan breads from St. Paul’s La Boulangerie Marguerite\nHand-crafted soaps\, candles\, and home decorations\n\nSNAP customers who use their EBT cards can get up to $10 in matching Market Bucks on SNAP-eligible purchases and up to another $10 in matching Produce Market Bucks on produce. \nLearn more at saintlukechurch.org/farmers-market.
URL:https://communityreporter.org/event/farmers-market-at-st-lukes-lutheran-church-3/
LOCATION:St. Luke Lutheran Church
ATTACH;FMTTYPE=image/avif:https://communityreporter.org/wp-content/uploads/2025/08/St.-Lukes-farmers-market-logo_rgb.avif
END:VEVENT
BEGIN:VEVENT
DTSTART;TZID=America/Chicago:20250913T110000
DTEND;TZID=America/Chicago:20250913T123000
DTSTAMP:20260421T062927
CREATED:20250829T212954Z
LAST-MODIFIED:20250829T212954Z
UID:14867-1757761200-1757766600@communityreporter.org
SUMMARY:West End Food & History Tour
DESCRIPTION:September 13\, 11:00 a.m. – 12:30 p.m. Forepaugh’s Restaurant. $45. \nExplore past and present culinary traditions along the West End\, one of St. Paul’s oldest neighborhoods\, built along one of the city’s oldest roads. From the early days of the Upper Landing to today’s bustling West 7th Street\, this neighborhood has a unique story to tell through food! Learn about the diverse culinary traditions of the people who have lived and worked here and sample food from some of the best restaurants the West End has to offer. \nLearn more and purchase tickets at mnhs.org/events.
URL:https://communityreporter.org/event/west-end-food-history-tour-2/
LOCATION:Forepaugh’s
ATTACH;FMTTYPE=image/webp:https://communityreporter.org/wp-content/uploads/2025/08/West-End-Food-and-History-Tour-e1756498254184.webp
END:VEVENT
BEGIN:VEVENT
DTSTART;TZID=America/Chicago:20250913T110000
DTEND;TZID=America/Chicago:20250913T180000
DTSTAMP:20260421T062927
CREATED:20250829T212732Z
LAST-MODIFIED:20250829T212732Z
UID:14861-1757761200-1757786400@communityreporter.org
SUMMARY:Capital City Fest 2025
DESCRIPTION:September 13\, 11:00 a.m.-6:00 p.m. 425 Rice Street. Free. \nCapital City Fest\, the Twin Cities’ premier outdoor community celebration\, returns on Saturday\, September 13\, 2025\, at the historic Sears Lot – 425 Rice St\, St. Paul\, MN. Now in its biggest year yet\, this free\, all-ages event will bring together local music\, food\, art\, cars\, and community organizations for a high-energy\, family-friendly day in the heart of Minnesota’s capital. Learn more at CapitalCityFest.com.
URL:https://communityreporter.org/event/capital-city-fest-2025/
LOCATION:425 Rice Street
ATTACH;FMTTYPE=image/jpeg:https://communityreporter.org/wp-content/uploads/2025/08/capital-City-fest-header-e1756502760617.webp
END:VEVENT
END:VCALENDAR