BEGIN:VCALENDAR
VERSION:2.0
PRODID:-//Community Reporter - ECPv6.15.20//NONSGML v1.0//EN
CALSCALE:GREGORIAN
METHOD:PUBLISH
X-ORIGINAL-URL:https://communityreporter.org
X-WR-CALDESC:Events for Community Reporter
REFRESH-INTERVAL;VALUE=DURATION:PT1H
X-Robots-Tag:noindex
X-PUBLISHED-TTL:PT1H
BEGIN:VTIMEZONE
TZID:America/Chicago
BEGIN:DAYLIGHT
TZOFFSETFROM:-0600
TZOFFSETTO:-0500
TZNAME:CDT
DTSTART:20240310T080000
END:DAYLIGHT
BEGIN:STANDARD
TZOFFSETFROM:-0500
TZOFFSETTO:-0600
TZNAME:CST
DTSTART:20241103T070000
END:STANDARD
BEGIN:DAYLIGHT
TZOFFSETFROM:-0600
TZOFFSETTO:-0500
TZNAME:CDT
DTSTART:20250309T080000
END:DAYLIGHT
BEGIN:STANDARD
TZOFFSETFROM:-0500
TZOFFSETTO:-0600
TZNAME:CST
DTSTART:20251102T070000
END:STANDARD
BEGIN:DAYLIGHT
TZOFFSETFROM:-0600
TZOFFSETTO:-0500
TZNAME:CDT
DTSTART:20260308T080000
END:DAYLIGHT
BEGIN:STANDARD
TZOFFSETFROM:-0500
TZOFFSETTO:-0600
TZNAME:CST
DTSTART:20261101T070000
END:STANDARD
END:VTIMEZONE
BEGIN:VEVENT
DTSTART;TZID=America/Chicago:20250907T101500
DTEND;TZID=America/Chicago:20250907T114500
DTSTAMP:20260421T063002
CREATED:20250829T195340Z
LAST-MODIFIED:20250829T195340Z
UID:14820-1757240100-1757245500@communityreporter.org
SUMMARY:Irvine Park Walking Tour
DESCRIPTION:Thursdays through September 25\, 10:15 AM – 11:45 a.m. Alexander Ramsey House. $0-$20. \nThe Irvine Park District was one of St. Paul’s first residential neighborhoods. Walk with our knowledgeable guides on a tour to learn about the history of the land and architecture. You’ll hear stories of the residents throughout time and take a deeper dive into the preservation efforts of this beautiful historic district. \nTours do not include house tours or self-guided access to building interiors. \nAll areas are accessible\, but some side streets are cobblestone and have historic stone curbs. \nTickets and more at mnhs.org/events.
URL:https://communityreporter.org/event/irvine-park-walking-tour-12/
LOCATION:Alexander Ramsey House
ATTACH;FMTTYPE=image/jpeg:https://communityreporter.org/wp-content/uploads/2025/05/Irvine-Park-Walking-Tour-e1748359548549.jpg
END:VEVENT
BEGIN:VEVENT
DTSTART;TZID=America/Chicago:20250907T110000
DTEND;TZID=America/Chicago:20250907T150000
DTSTAMP:20260421T063002
CREATED:20250825T163605Z
LAST-MODIFIED:20250825T163605Z
UID:14613-1757242800-1757257200@communityreporter.org
SUMMARY:Paws on Grand
DESCRIPTION:September 7\, 11:00 a.m. – 3:00 p.m. Grand Avenue. Free. \nA Tail Wagging Good Time \nGrand Avenue is going to the dogs this month when Paws on Grand returns to the corridor September 7. \nLocal businesses along Grand will be offering dog-gone good deals for you and your furry friends. Adopt a Pet\, shop the Pet Marketplace\, get pet portraits and cheer on the Wiener Dog Races. \nIn addition to the pet marketplace and deals along the Avenue\, this year’s festivities run from 11:00 a.m. – 3:00 p.m. this year\, and include: \n11:30 a.m. – Wiener Dog Race  \n1 p.m. – Paws for a Cause Walk begins at Pet Marketplace \n1 – 2 p.m. – Blessing of the Pets at St. Paul United Church of Christ \n3 – 4:30 p.m. – Happy Yappy Hour at Red Rabbit Patio \nSupport local animal rescues and nonprofits at Paws for a Cause Walk \nGet ready to enjoy a leisurely stroll while raising awareness and funds for our four-legged friends in need. Starting at 1 PM\, walk a mile along Grand Avenue with your furry friends to help support a great cause. The cost is $25 per family and includes one special treat for your 4-legged friend.  \nProceeds from this year’s event support local animal rescues and nonprofit organizations Animal Ark\, Animeow Control\, Inspire and Flourish\, Last Hope\, Legends Rescue\, MACC Pack\, Minneapolis Animal Care and Control\, Minnesota Pocket Pet Rescue\, No Dog Left Behind\, Pet Haven\, Red Lake Rosie’s Rescue\, Safe Hands Rescue\, Second Chance Animal Rescue\, Snapt\, The Bond Between\, Tubman\, Twin Cities Pet Rescue and Warrior Dog Rescue. \nIf you go: \nPaws on Grand \nSeptember 7\, 11:00 a.m. – 3:00 p.m.  \nMarketplace at Pet Evolution\, 1074 Grand Ave. \nMore information\, including a full list of vendors and how to sign up for the Paws for a Cause walk can be found at grandave.com/events/pawsongrand. 
URL:https://communityreporter.org/event/paws-on-grand/
LOCATION:Grand Avenue
ATTACH;FMTTYPE=image/webp:https://communityreporter.org/wp-content/uploads/2025/08/PawsOnGrand_2025_Webpage_1100x620-1.webp
END:VEVENT
BEGIN:VEVENT
DTSTART;TZID=America/Chicago:20250907T153000
DTEND;TZID=America/Chicago:20250907T170000
DTSTAMP:20260421T063002
CREATED:20250826T183241Z
LAST-MODIFIED:20250826T183241Z
UID:14658-1757259000-1757264400@communityreporter.org
SUMMARY:Nooks and Crannies Tour
DESCRIPTION:Sundays through November 16\, 3:30-5:00 p.m. James J. Hill House. $16-20.  \nGet a behind-the-scenes look at areas of the James J. Hill House that are not featured on the standard house tour including the attic theater space\, gate house and storage areas generally off-limits to visitors. Guides will highlight artifacts and fixtures in the home with personal stories from the Hill family and domestic workers. Tour runs 90 minutes. \nGet tickets and learn more at mnhs.org/events.
URL:https://communityreporter.org/event/nooks-and-crannies-tour/
LOCATION:James J. Hill House
ATTACH;FMTTYPE=image/webp:https://communityreporter.org/wp-content/uploads/2025/08/23_JJH_NooksCrannies_Calendar-3-e1756233089125.webp
END:VEVENT
END:VCALENDAR