BEGIN:VCALENDAR
VERSION:2.0
PRODID:-//Community Reporter - ECPv6.15.20//NONSGML v1.0//EN
CALSCALE:GREGORIAN
METHOD:PUBLISH
X-WR-CALNAME:Community Reporter
X-ORIGINAL-URL:https://communityreporter.org
X-WR-CALDESC:Events for Community Reporter
REFRESH-INTERVAL;VALUE=DURATION:PT1H
X-Robots-Tag:noindex
X-PUBLISHED-TTL:PT1H
BEGIN:VTIMEZONE
TZID:America/Chicago
BEGIN:DAYLIGHT
TZOFFSETFROM:-0600
TZOFFSETTO:-0500
TZNAME:CDT
DTSTART:20240310T080000
END:DAYLIGHT
BEGIN:STANDARD
TZOFFSETFROM:-0500
TZOFFSETTO:-0600
TZNAME:CST
DTSTART:20241103T070000
END:STANDARD
BEGIN:DAYLIGHT
TZOFFSETFROM:-0600
TZOFFSETTO:-0500
TZNAME:CDT
DTSTART:20250309T080000
END:DAYLIGHT
BEGIN:STANDARD
TZOFFSETFROM:-0500
TZOFFSETTO:-0600
TZNAME:CST
DTSTART:20251102T070000
END:STANDARD
BEGIN:DAYLIGHT
TZOFFSETFROM:-0600
TZOFFSETTO:-0500
TZNAME:CDT
DTSTART:20260308T080000
END:DAYLIGHT
BEGIN:STANDARD
TZOFFSETFROM:-0500
TZOFFSETTO:-0600
TZNAME:CST
DTSTART:20261101T070000
END:STANDARD
END:VTIMEZONE
BEGIN:VEVENT
DTSTART;TZID=America/Chicago:20250816T100000
DTEND;TZID=America/Chicago:20250816T140000
DTSTAMP:20260421T080226
CREATED:20250626T003548Z
LAST-MODIFIED:20250626T003548Z
UID:12377-1755338400-1755352800@communityreporter.org
SUMMARY:Minnesota Children's Museum Annual Summer Block Party
DESCRIPTION:August 16\, 10:00 a.m. – 2:00 p.m. Minnesota Children’s Museum. Free. \nThe block party is free to everyone and takes place right outside the museum on West Seventh Street. Museum admission is not included. For more information and museum tickets\, visit  mcm.org/events/summer-block-party-2025.
URL:https://communityreporter.org/event/minnesota-childrens-museum-annual-summer-block-party/
LOCATION:Minnesota Children’s Museum
ATTACH;FMTTYPE=image/jpeg:https://communityreporter.org/wp-content/uploads/2025/06/childrens-museum-summer-Block-party-e1750898117373.webp
END:VEVENT
END:VCALENDAR