BEGIN:VCALENDAR
VERSION:2.0
PRODID:-//Community Reporter - ECPv6.15.20//NONSGML v1.0//EN
CALSCALE:GREGORIAN
METHOD:PUBLISH
X-ORIGINAL-URL:https://communityreporter.org
X-WR-CALDESC:Events for Community Reporter
REFRESH-INTERVAL;VALUE=DURATION:PT1H
X-Robots-Tag:noindex
X-PUBLISHED-TTL:PT1H
BEGIN:VTIMEZONE
TZID:America/Chicago
BEGIN:DAYLIGHT
TZOFFSETFROM:-0600
TZOFFSETTO:-0500
TZNAME:CDT
DTSTART:20240310T080000
END:DAYLIGHT
BEGIN:STANDARD
TZOFFSETFROM:-0500
TZOFFSETTO:-0600
TZNAME:CST
DTSTART:20241103T070000
END:STANDARD
BEGIN:DAYLIGHT
TZOFFSETFROM:-0600
TZOFFSETTO:-0500
TZNAME:CDT
DTSTART:20250309T080000
END:DAYLIGHT
BEGIN:STANDARD
TZOFFSETFROM:-0500
TZOFFSETTO:-0600
TZNAME:CST
DTSTART:20251102T070000
END:STANDARD
BEGIN:DAYLIGHT
TZOFFSETFROM:-0600
TZOFFSETTO:-0500
TZNAME:CDT
DTSTART:20260308T080000
END:DAYLIGHT
BEGIN:STANDARD
TZOFFSETFROM:-0500
TZOFFSETTO:-0600
TZNAME:CST
DTSTART:20261101T070000
END:STANDARD
END:VTIMEZONE
BEGIN:VEVENT
DTSTART;TZID=America/Chicago:20250814T180000
DTEND;TZID=America/Chicago:20250814T210000
DTSTAMP:20260421T080404
CREATED:20250527T185136Z
LAST-MODIFIED:20250527T185136Z
UID:11466-1755194400-1755205200@communityreporter.org
SUMMARY:Lowertown Sounds
DESCRIPTION:Select Thursdays\, June 12-August 14. 6:00 p.m. Mears Park. Free.  \nLowertown Sounds is a free\, independent community concert series featuring live\, local music plus food trucks and local beer and wine — benefiting Cookie Cart\, all in St. Paul’s Mears Park. Learn more and see the full schedule at lowertownsounds.com.
URL:https://communityreporter.org/event/lowertown-sounds-13/
LOCATION:Mears Park
ATTACH;FMTTYPE=image/jpeg:https://communityreporter.org/wp-content/uploads/2025/05/Lowertown-sounds-cropped-e1748362313608.jpg
END:VEVENT
END:VCALENDAR