BEGIN:VCALENDAR
VERSION:2.0
PRODID:-//Community Reporter - ECPv6.15.20//NONSGML v1.0//EN
CALSCALE:GREGORIAN
METHOD:PUBLISH
X-WR-CALNAME:Community Reporter
X-ORIGINAL-URL:https://communityreporter.org
X-WR-CALDESC:Events for Community Reporter
REFRESH-INTERVAL;VALUE=DURATION:PT1H
X-Robots-Tag:noindex
X-PUBLISHED-TTL:PT1H
BEGIN:VTIMEZONE
TZID:America/Chicago
BEGIN:DAYLIGHT
TZOFFSETFROM:-0600
TZOFFSETTO:-0500
TZNAME:CDT
DTSTART:20240310T080000
END:DAYLIGHT
BEGIN:STANDARD
TZOFFSETFROM:-0500
TZOFFSETTO:-0600
TZNAME:CST
DTSTART:20241103T070000
END:STANDARD
BEGIN:DAYLIGHT
TZOFFSETFROM:-0600
TZOFFSETTO:-0500
TZNAME:CDT
DTSTART:20250309T080000
END:DAYLIGHT
BEGIN:STANDARD
TZOFFSETFROM:-0500
TZOFFSETTO:-0600
TZNAME:CST
DTSTART:20251102T070000
END:STANDARD
BEGIN:DAYLIGHT
TZOFFSETFROM:-0600
TZOFFSETTO:-0500
TZNAME:CDT
DTSTART:20260308T080000
END:DAYLIGHT
BEGIN:STANDARD
TZOFFSETFROM:-0500
TZOFFSETTO:-0600
TZNAME:CST
DTSTART:20261101T070000
END:STANDARD
END:VTIMEZONE
BEGIN:VEVENT
DTSTART;TZID=America/Chicago:20250725T190000
DTEND;TZID=America/Chicago:20250810T213000
DTSTAMP:20260421T080227
CREATED:20250626T002141Z
LAST-MODIFIED:20250626T002141Z
UID:12365-1753470000-1754861400@communityreporter.org
SUMMARY:Circus Juventas Summer 2025 Production: Lumière
DESCRIPTION:July 25-August 10. Circus Juventas. $25-$55. \nThis summer\, Circus Juventas rolls out the red carpet for a trip through time and Tinseltown with a twist of paranormal intrigue. Join a lively crew of ghostbuster-style teens who\, thanks to a lightning strike\, find themselves transported to 1939\, amidst the glitter and glamour of the Golden Age of Hollywood. Traverse the phantasmic fifth dimension\, filled with celebrities\, bellhops\, gangsters\, paparazzi\, and studio heads as they navigate the bright lights and haunting shadows of the mysterious Hotel Hollywood. It’s an adventure you won’t want to miss! \nFor tickets\, showtimes and more\, visit circusjuventas.org.
URL:https://communityreporter.org/event/circus-juventas-summer-2025-production-lumiere/
LOCATION:Circus Juventas
ATTACH;FMTTYPE=image/jpeg:https://communityreporter.org/wp-content/uploads/2025/06/Circus-Juventas-Summer-2025-Production-Lumiere-scaled-e1750897213258.webp
END:VEVENT
BEGIN:VEVENT
DTSTART;TZID=America/Chicago:20250807T170000
DTEND;TZID=America/Chicago:20250807T190000
DTSTAMP:20260421T080227
CREATED:20250528T133611Z
LAST-MODIFIED:20250528T133611Z
UID:11492-1754586000-1754593200@communityreporter.org
SUMMARY:Summer Nights in Rice
DESCRIPTION:Select Thursdays\, 5:00-7:00 p.m. Rice Park. Free. \nSummer Nights in Rice is a free outdoor summer concert series occurring on select Thursdays from 5:00 pm -7:00 pm\, June through September. Grab a hot dog at Deb’s Hot Dogs in the park\, visit local downtown Saint Paul restaurants for happy hour\, and head to Rice Park for FREE live music\, community connections\, and hot summer night dancing! In case of rain or inclement weather\, concerts will be moved into Landmark Center. Restroom facilities for the concerts will be available at Landmark Center throughout the series. Learn more at landmarkcenter.org/summer-nights-in-rice.  \n2025 Schedule \n\nJune 19: Pete Whitman & Mississippi (contemporary jazz)\nJune 26: Ethno USA ‘On the Road’ (folk\, world and traditional music by international musicians)\nJuly 10: Boiled in Lead (Celtic punk and world music)\nJuly 31: Kendra Glenn Band (R&B\, blues and soul)\nAugust 7: Café Accordion Orchestra (French flare\, Latin heat and Bohemian attitude)\nAugust 21: International Reggae All Stars (Reggae\, dancehall and Bob Marley classics)
URL:https://communityreporter.org/event/summer-nights-in-rice-7/
LOCATION:Rice Park
ATTACH;FMTTYPE=image/webp:https://communityreporter.org/wp-content/uploads/2025/05/Summer-Nights-in-Rice-e1748372569924.webp
END:VEVENT
BEGIN:VEVENT
DTSTART;TZID=America/Chicago:20250807T180000
DTEND;TZID=America/Chicago:20250807T210000
DTSTAMP:20260421T080227
CREATED:20250527T184941Z
LAST-MODIFIED:20250527T184941Z
UID:11464-1754589600-1754600400@communityreporter.org
SUMMARY:Lowertown Sounds
DESCRIPTION:Select Thursdays\, June 12-August 14. 6:00 p.m. Mears Park. Free.  \nLowertown Sounds is a free\, independent community concert series featuring live\, local music plus food trucks and local beer and wine — benefiting Cookie Cart\, all in St. Paul’s Mears Park. Learn more and see the full schedule at lowertownsounds.com.
URL:https://communityreporter.org/event/lowertown-sounds-12/
LOCATION:Mears Park
ATTACH;FMTTYPE=image/jpeg:https://communityreporter.org/wp-content/uploads/2025/05/Lowertown-sounds-cropped-e1748362313608.jpg
END:VEVENT
END:VCALENDAR