BEGIN:VCALENDAR
VERSION:2.0
PRODID:-//Community Reporter - ECPv6.15.20//NONSGML v1.0//EN
CALSCALE:GREGORIAN
METHOD:PUBLISH
X-ORIGINAL-URL:https://communityreporter.org
X-WR-CALDESC:Events for Community Reporter
REFRESH-INTERVAL;VALUE=DURATION:PT1H
X-Robots-Tag:noindex
X-PUBLISHED-TTL:PT1H
BEGIN:VTIMEZONE
TZID:America/Chicago
BEGIN:DAYLIGHT
TZOFFSETFROM:-0600
TZOFFSETTO:-0500
TZNAME:CDT
DTSTART:20240310T080000
END:DAYLIGHT
BEGIN:STANDARD
TZOFFSETFROM:-0500
TZOFFSETTO:-0600
TZNAME:CST
DTSTART:20241103T070000
END:STANDARD
BEGIN:DAYLIGHT
TZOFFSETFROM:-0600
TZOFFSETTO:-0500
TZNAME:CDT
DTSTART:20250309T080000
END:DAYLIGHT
BEGIN:STANDARD
TZOFFSETFROM:-0500
TZOFFSETTO:-0600
TZNAME:CST
DTSTART:20251102T070000
END:STANDARD
BEGIN:DAYLIGHT
TZOFFSETFROM:-0600
TZOFFSETTO:-0500
TZNAME:CDT
DTSTART:20260308T080000
END:DAYLIGHT
BEGIN:STANDARD
TZOFFSETFROM:-0500
TZOFFSETTO:-0600
TZNAME:CST
DTSTART:20261101T070000
END:STANDARD
END:VTIMEZONE
BEGIN:VEVENT
DTSTART;TZID=America/Chicago:20250725T190000
DTEND;TZID=America/Chicago:20250810T213000
DTSTAMP:20260421T080356
CREATED:20250626T002141Z
LAST-MODIFIED:20250626T002141Z
UID:12365-1753470000-1754861400@communityreporter.org
SUMMARY:Circus Juventas Summer 2025 Production: Lumière
DESCRIPTION:July 25-August 10. Circus Juventas. $25-$55. \nThis summer\, Circus Juventas rolls out the red carpet for a trip through time and Tinseltown with a twist of paranormal intrigue. Join a lively crew of ghostbuster-style teens who\, thanks to a lightning strike\, find themselves transported to 1939\, amidst the glitter and glamour of the Golden Age of Hollywood. Traverse the phantasmic fifth dimension\, filled with celebrities\, bellhops\, gangsters\, paparazzi\, and studio heads as they navigate the bright lights and haunting shadows of the mysterious Hotel Hollywood. It’s an adventure you won’t want to miss! \nFor tickets\, showtimes and more\, visit circusjuventas.org.
URL:https://communityreporter.org/event/circus-juventas-summer-2025-production-lumiere/
LOCATION:Circus Juventas
ATTACH;FMTTYPE=image/jpeg:https://communityreporter.org/wp-content/uploads/2025/06/Circus-Juventas-Summer-2025-Production-Lumiere-scaled-e1750897213258.webp
END:VEVENT
BEGIN:VEVENT
DTSTART;TZID=America/Chicago:20250730T100000
DTEND;TZID=America/Chicago:20250730T110000
DTSTAMP:20260421T080356
CREATED:20250625T161306Z
LAST-MODIFIED:20250625T161306Z
UID:12296-1753869600-1753873200@communityreporter.org
SUMMARY:St. Paul Walking Tours
DESCRIPTION:Wednesdays through August\, 10 a.m.Various Locations. Free (reservation required) \nSt. Paul Walking Tours are back! Appreciate the rich history\, architecture\, and nature of downtown on four different tours: Heart of the City Walking Tour (the 1st Wednesday of the month in June and August only)\, It Happened Right Here: St. Paul’s Origins Walking Tour (2nd Wednesdays of the month)\, Great River Walking Tour (3rd Wednesdays of the month)\, Rice Park Walking Tour (4th Wednesdays of the month)! \nAll tours are free but reservations are required. June tour date reservations will open on May 5. July tour date reservations will open on June 2\, and August tour date reservations will open on July 7. For more information\, call  651.292.3063 or visit landmarkcenter.org/saint-paul-walking-tours.
URL:https://communityreporter.org/event/st-paul-walking-tours-10/
LOCATION:Skinner’s Pub
ATTACH;FMTTYPE=image/jpeg:https://communityreporter.org/wp-content/uploads/2025/05/walking-tour-e1748358351288.jpeg
END:VEVENT
BEGIN:VEVENT
DTSTART;TZID=America/Chicago:20250730T120000
DTEND;TZID=America/Chicago:20250730T130000
DTSTAMP:20260421T080356
CREATED:20250625T163323Z
LAST-MODIFIED:20250625T163323Z
UID:12311-1753876800-1753880400@communityreporter.org
SUMMARY:Music on the Cortile - Laura Hugo
DESCRIPTION:July 30\, 12:00-1:00 p.m. Landmark Center. Free. \nMusic on the Cortile (previously known as Music from the Porch and Music in the Café) presents live performances by musicians in the picturesque Musser Cortile at Landmark Center. Taking place over four Wednesday lunch hours\, these concerts offer an opportunity to hear talented local musicians. Best of all\, they’re free and open to everyone. Attendees are encouraged to bring their lunch to enjoy during the concert. All concerts are 12-1 pm.  \nJuly 9: Laamar \nJuly 30: Laura Hugo \nAugust 13: Ray Bonneville \nLearn more at landmarkcenter.org/music-on-the-cortile. 
URL:https://communityreporter.org/event/music-on-the-cortile-laura-hugo/
LOCATION:Landmark Center
ATTACH;FMTTYPE=image/webp:https://communityreporter.org/wp-content/uploads/2025/06/Music-on-the-Cortile-LauraHugo_PhotoCreditAdamNantz-1-e1750869179131.webp
END:VEVENT
BEGIN:VEVENT
DTSTART;TZID=America/Chicago:20250730T180000
DTEND;TZID=America/Chicago:20250730T200000
DTSTAMP:20260421T080356
CREATED:20250527T160508Z
LAST-MODIFIED:20250527T160508Z
UID:11436-1753898400-1753905600@communityreporter.org
SUMMARY:Groovin' in the Garden
DESCRIPTION:Wednesdays June 11-July 30. 6-8 p.m. Marjorie McNeely Conservatory. Free. \nPack a picnic and dancing shoes\, spread out a blanket & join us for these free outdoor concerts & activities in front of the Marjorie McNeely Conservatory Wednesdays June 11 – July 30 from 6pm–8pm. Hotdogs\, ice cream treats\, beer and wine will be available to purchase. \nJune 11 – Innocent Reggae Band – Roots Reggae\nJune 18 – Maria & The Coins – Singer-Songwriter Driven Pop Hooks \nJune 25 – Flamin’ Oh’s – Minnesota Music Legends\nJuly 2 – Leslie Rich & The Rocket Soul Choir – Belfast Born Singer/Songwriter Fronting a 3-piece Rock Band\nJuly 9 – Salsa del Soul – High-Energy Latin Dance Music\nJuly 16 – Jellyjacket – All-Star Minnesota Rock & Roll Band\nJuly 23 – Favourite Girl – Katy Vernon Leads An Almost Exclusively Female Powered Rock Band \nJuly 30 – School of Rock –St. Paul & Plymouth House Bands \nLearn more at comozooconservatory.org/groovin2025.
URL:https://communityreporter.org/event/groovin-in-the-garden-8/
LOCATION:Como Zoo Conservatory
ATTACH;FMTTYPE=image/png:https://communityreporter.org/wp-content/uploads/2025/05/grooving-in-the-garden-e1748360903699.png
END:VEVENT
END:VCALENDAR