BEGIN:VCALENDAR
VERSION:2.0
PRODID:-//Community Reporter - ECPv6.15.20//NONSGML v1.0//EN
CALSCALE:GREGORIAN
METHOD:PUBLISH
X-ORIGINAL-URL:https://communityreporter.org
X-WR-CALDESC:Events for Community Reporter
REFRESH-INTERVAL;VALUE=DURATION:PT1H
X-Robots-Tag:noindex
X-PUBLISHED-TTL:PT1H
BEGIN:VTIMEZONE
TZID:America/Chicago
BEGIN:DAYLIGHT
TZOFFSETFROM:-0600
TZOFFSETTO:-0500
TZNAME:CDT
DTSTART:20240310T080000
END:DAYLIGHT
BEGIN:STANDARD
TZOFFSETFROM:-0500
TZOFFSETTO:-0600
TZNAME:CST
DTSTART:20241103T070000
END:STANDARD
BEGIN:DAYLIGHT
TZOFFSETFROM:-0600
TZOFFSETTO:-0500
TZNAME:CDT
DTSTART:20250309T080000
END:DAYLIGHT
BEGIN:STANDARD
TZOFFSETFROM:-0500
TZOFFSETTO:-0600
TZNAME:CST
DTSTART:20251102T070000
END:STANDARD
BEGIN:DAYLIGHT
TZOFFSETFROM:-0600
TZOFFSETTO:-0500
TZNAME:CDT
DTSTART:20260308T080000
END:DAYLIGHT
BEGIN:STANDARD
TZOFFSETFROM:-0500
TZOFFSETTO:-0600
TZNAME:CST
DTSTART:20261101T070000
END:STANDARD
END:VTIMEZONE
BEGIN:VEVENT
DTSTART;TZID=America/Chicago:20250709T073000
DTEND;TZID=America/Chicago:20250727T220000
DTSTAMP:20260421T092939
CREATED:20250625T165322Z
LAST-MODIFIED:20250625T165322Z
UID:12328-1752046200-1753653600@communityreporter.org
SUMMARY:Glensheen
DESCRIPTION:July 9-27. History Theatre. $30-$88. \nGlensheen premiered at History Theatre in 2015\, now 10 years later\, HT is thrilled to announce it will return for a limited run July 9-27\, 2025. Many original cast members\, led by Jen Maren\, Dane Stauffer\, and Wendy Lehr will reprise their roles created by playwright Jeffrey Hatcher and composer Chan Poling. Directed by former History Theatre Artistic Director\, Ron Peluso tickets for this limited run of the blockbuster musical are on sale! \nOn June 27\, 1977\, heiress Elisabeth Congdon was found dead in her bedroom in the Glensheen mansion\, smothered with a silk pillow. Outside her room\, the night nurse\, Velma Pietila had been violently beaten to death with a candlestick by an intruder. Roger Caldwell was arrested for the murder and sentenced to prison. Caldwell was husband to Marjorie Caldwell\, one of Elisabeth’s adopted daughters. What followed has become the most talked-about murder case in the history of Minnesota. \nFor tickets and more information\, visit historytheatre.com.
URL:https://communityreporter.org/event/glensheen/
LOCATION:History Theatre
ATTACH;FMTTYPE=image/jpeg:https://communityreporter.org/wp-content/uploads/2025/06/glensheen-e1750870386298.webp
END:VEVENT
BEGIN:VEVENT
DTSTART;TZID=America/Chicago:20250716T100000
DTEND;TZID=America/Chicago:20250716T110000
DTSTAMP:20260421T092939
CREATED:20250625T160952Z
LAST-MODIFIED:20250625T160952Z
UID:12290-1752660000-1752663600@communityreporter.org
SUMMARY:St. Paul Walking Tours
DESCRIPTION:Wednesdays through August\, 10 a.m.Various Locations. Free (reservation required) \nSt. Paul Walking Tours are back! Appreciate the rich history\, architecture\, and nature of downtown on four different tours: Heart of the City Walking Tour (the 1st Wednesday of the month in June and August only)\, It Happened Right Here: St. Paul’s Origins Walking Tour (2nd Wednesdays of the month)\, Great River Walking Tour (3rd Wednesdays of the month)\, Rice Park Walking Tour (4th Wednesdays of the month)! \nAll tours are free but reservations are required. June tour date reservations will open on May 5. July tour date reservations will open on June 2\, and August tour date reservations will open on July 7. For more information\, call  651.292.3063 or visit landmarkcenter.org/saint-paul-walking-tours.
URL:https://communityreporter.org/event/st-paul-walking-tours-8/
LOCATION:Landmark Center
ATTACH;FMTTYPE=image/jpeg:https://communityreporter.org/wp-content/uploads/2025/05/walking-tour-e1748358351288.jpeg
END:VEVENT
BEGIN:VEVENT
DTSTART;TZID=America/Chicago:20250716T180000
DTEND;TZID=America/Chicago:20250716T200000
DTSTAMP:20260421T092939
CREATED:20250527T160124Z
LAST-MODIFIED:20250527T160124Z
UID:11431-1752688800-1752696000@communityreporter.org
SUMMARY:Groovin' in the Garden
DESCRIPTION:Wednesdays June 11-July 30. 6-8 p.m. Marjorie McNeely Conservatory. Free. \nPack a picnic and dancing shoes\, spread out a blanket & join us for these free outdoor concerts & activities in front of the Marjorie McNeely Conservatory Wednesdays June 11 – July 30 from 6pm–8pm. Hotdogs\, ice cream treats\, beer and wine will be available to purchase. \nJune 11 – Innocent Reggae Band – Roots Reggae\nJune 18 – Maria & The Coins – Singer-Songwriter Driven Pop Hooks \nJune 25 – Flamin’ Oh’s – Minnesota Music Legends\nJuly 2 – Leslie Rich & The Rocket Soul Choir – Belfast Born Singer/Songwriter Fronting a 3-piece Rock Band\nJuly 9 – Salsa del Soul – High-Energy Latin Dance Music\nJuly 16 – Jellyjacket – All-Star Minnesota Rock & Roll Band\nJuly 23 – Favourite Girl – Katy Vernon Leads An Almost Exclusively Female Powered Rock Band \nJuly 30 – School of Rock –St. Paul & Plymouth House Bands \nLearn more at comozooconservatory.org/groovin2025.
URL:https://communityreporter.org/event/groovin-in-the-garden-6/
LOCATION:Como Zoo Conservatory
ATTACH;FMTTYPE=image/png:https://communityreporter.org/wp-content/uploads/2025/05/grooving-in-the-garden-e1748360903699.png
END:VEVENT
BEGIN:VEVENT
DTSTART;TZID=America/Chicago:20250716T183000
DTEND;TZID=America/Chicago:20250716T210000
DTSTAMP:20260421T092939
CREATED:20250625T235807Z
LAST-MODIFIED:20250625T235807Z
UID:12349-1752690600-1752699600@communityreporter.org
SUMMARY:Depot Dance Nights - Salsa Night
DESCRIPTION:July 16\, 6:30-9:00 p.m. Union Depot. Free. \nReady to get your groove on? Join us this summer for Depot Dance Nights! Union Depot is excited to be hosting free dance nights in the Waiting Room. Each dance night will feature a different dance style and will begin with 30 minutes of free professional dance instruction followed by two hours of dancing to a live band. Depot Dance Nights are free to attend and will feature live music by many of the Twin Cities’ most popular dance bands\, offering great entertainment! Dance lessons will be taught at all 3 events by professional instructor\, Denny Hukriede. \nTuesday\, July 16: Salsa Night with live music from Salsa del Soul \nTuesday\, August 20: Ballroom Night with live music from The Jerry O’Hagan Orchestra \nLearn more at uniondepot.org.
URL:https://communityreporter.org/event/depot-dance-nights-salsa-night/
LOCATION:Union Depot
ATTACH;FMTTYPE=image/jpeg:https://communityreporter.org/wp-content/uploads/2025/06/UD-6657-Depot-Dance-Nights_1920x1080_Digital-Screen.webp
END:VEVENT
END:VCALENDAR