BEGIN:VCALENDAR
VERSION:2.0
PRODID:-//Community Reporter - ECPv6.15.20//NONSGML v1.0//EN
CALSCALE:GREGORIAN
METHOD:PUBLISH
X-ORIGINAL-URL:https://communityreporter.org
X-WR-CALDESC:Events for Community Reporter
REFRESH-INTERVAL;VALUE=DURATION:PT1H
X-Robots-Tag:noindex
X-PUBLISHED-TTL:PT1H
BEGIN:VTIMEZONE
TZID:America/Chicago
BEGIN:DAYLIGHT
TZOFFSETFROM:-0600
TZOFFSETTO:-0500
TZNAME:CDT
DTSTART:20240310T080000
END:DAYLIGHT
BEGIN:STANDARD
TZOFFSETFROM:-0500
TZOFFSETTO:-0600
TZNAME:CST
DTSTART:20241103T070000
END:STANDARD
BEGIN:DAYLIGHT
TZOFFSETFROM:-0600
TZOFFSETTO:-0500
TZNAME:CDT
DTSTART:20250309T080000
END:DAYLIGHT
BEGIN:STANDARD
TZOFFSETFROM:-0500
TZOFFSETTO:-0600
TZNAME:CST
DTSTART:20251102T070000
END:STANDARD
BEGIN:DAYLIGHT
TZOFFSETFROM:-0600
TZOFFSETTO:-0500
TZNAME:CDT
DTSTART:20260308T080000
END:DAYLIGHT
BEGIN:STANDARD
TZOFFSETFROM:-0500
TZOFFSETTO:-0600
TZNAME:CST
DTSTART:20261101T070000
END:STANDARD
END:VTIMEZONE
BEGIN:VEVENT
DTSTART;TZID=America/Chicago:20250709T073000
DTEND;TZID=America/Chicago:20250727T220000
DTSTAMP:20260421T092859
CREATED:20250625T165322Z
LAST-MODIFIED:20250625T165322Z
UID:12328-1752046200-1753653600@communityreporter.org
SUMMARY:Glensheen
DESCRIPTION:July 9-27. History Theatre. $30-$88. \nGlensheen premiered at History Theatre in 2015\, now 10 years later\, HT is thrilled to announce it will return for a limited run July 9-27\, 2025. Many original cast members\, led by Jen Maren\, Dane Stauffer\, and Wendy Lehr will reprise their roles created by playwright Jeffrey Hatcher and composer Chan Poling. Directed by former History Theatre Artistic Director\, Ron Peluso tickets for this limited run of the blockbuster musical are on sale! \nOn June 27\, 1977\, heiress Elisabeth Congdon was found dead in her bedroom in the Glensheen mansion\, smothered with a silk pillow. Outside her room\, the night nurse\, Velma Pietila had been violently beaten to death with a candlestick by an intruder. Roger Caldwell was arrested for the murder and sentenced to prison. Caldwell was husband to Marjorie Caldwell\, one of Elisabeth’s adopted daughters. What followed has become the most talked-about murder case in the history of Minnesota. \nFor tickets and more information\, visit historytheatre.com.
URL:https://communityreporter.org/event/glensheen/
LOCATION:History Theatre
ATTACH;FMTTYPE=image/jpeg:https://communityreporter.org/wp-content/uploads/2025/06/glensheen-e1750870386298.webp
END:VEVENT
BEGIN:VEVENT
DTSTART;TZID=America/Chicago:20250712T100000
DTEND;TZID=America/Chicago:20250712T170000
DTSTAMP:20260421T092859
CREATED:20250528T184313Z
LAST-MODIFIED:20250528T184313Z
UID:11541-1752314400-1752339600@communityreporter.org
SUMMARY:Art At St. Kate’s
DESCRIPTION:July 12\, 10:00 A.M.-5:00 P.M. St. Catherine University. Free. \nArt at St. Kate’s features quality work by 100 local juried artists who create and sell fine art and fine crafts including clay\, fiber\, glass\, leather\, jewelry\, metal\, paper\, wood\, mixed media\, as well as fine arts including painting\, photography\, printmaking\, and sculpture. This art fair has everything from leather handbags\, cloisonné pendants\, and stained glass to hand-woven scarves\, wood and copper birdhouses\, woodcut prints\, acrylic and oil paintings\, collages\, original cards\, metal sculptures\, quilts\, hand-blown glass\, hand-made paper\, ceramic vases\, bowls and mugs. Strolling musicians and food trucks are also part of the art fair. \nLearn more at artistscircle.org.
URL:https://communityreporter.org/event/art-at-st-kates/
LOCATION:St. Catherine University
END:VEVENT
BEGIN:VEVENT
DTSTART;TZID=America/Chicago:20250712T130000
DTEND;TZID=America/Chicago:20250712T210000
DTSTAMP:20260421T092859
CREATED:20250625T170527Z
LAST-MODIFIED:20250625T170527Z
UID:12340-1752325200-1752354000@communityreporter.org
SUMMARY:First Annual Chicano Festival
DESCRIPTION:July 12\, 1:00-9:00 p.m. St. Paul College.  \nJoin us for the vibrant and exciting First Annual Chicano Fest! This dynamic celebration brings the rich and colorful culture of the Chicano community right to our city\, offering a day filled with entertainment\, culture and community spirit. Experience the thrill of the Lowrider and car show\, enjoy a lively dog show\, savor delicious flavors from a variety of food trucks featuring authentic and diverse culinary delights\, explore local vendors presenting unique crafts\, art\, and goods that highlight the creativity and heritage of the community. Whether you’re looking to learn\, celebrate\, or simply have a great time\, Chicano Fest is the place to be for a memorable day of culture\, connection\, and celebration. Learn more at twincitieschicanofest.com.
URL:https://communityreporter.org/event/first-annual-chicano-festival/
LOCATION:St. Paul College
ATTACH;FMTTYPE=image/jpeg:https://communityreporter.org/wp-content/uploads/2025/06/Chicano-Festival-header-e1750871055950.webp
END:VEVENT
END:VCALENDAR