BEGIN:VCALENDAR
VERSION:2.0
PRODID:-//Community Reporter - ECPv6.15.20//NONSGML v1.0//EN
CALSCALE:GREGORIAN
METHOD:PUBLISH
X-WR-CALNAME:Community Reporter
X-ORIGINAL-URL:https://communityreporter.org
X-WR-CALDESC:Events for Community Reporter
REFRESH-INTERVAL;VALUE=DURATION:PT1H
X-Robots-Tag:noindex
X-PUBLISHED-TTL:PT1H
BEGIN:VTIMEZONE
TZID:America/Chicago
BEGIN:DAYLIGHT
TZOFFSETFROM:-0600
TZOFFSETTO:-0500
TZNAME:CDT
DTSTART:20240310T080000
END:DAYLIGHT
BEGIN:STANDARD
TZOFFSETFROM:-0500
TZOFFSETTO:-0600
TZNAME:CST
DTSTART:20241103T070000
END:STANDARD
BEGIN:DAYLIGHT
TZOFFSETFROM:-0600
TZOFFSETTO:-0500
TZNAME:CDT
DTSTART:20250309T080000
END:DAYLIGHT
BEGIN:STANDARD
TZOFFSETFROM:-0500
TZOFFSETTO:-0600
TZNAME:CST
DTSTART:20251102T070000
END:STANDARD
BEGIN:DAYLIGHT
TZOFFSETFROM:-0600
TZOFFSETTO:-0500
TZNAME:CDT
DTSTART:20260308T080000
END:DAYLIGHT
BEGIN:STANDARD
TZOFFSETFROM:-0500
TZOFFSETTO:-0600
TZNAME:CST
DTSTART:20261101T070000
END:STANDARD
END:VTIMEZONE
BEGIN:VEVENT
DTSTART;TZID=America/Chicago:20250704T184500
DTEND;TZID=America/Chicago:20250704T223000
DTSTAMP:20260421T092452
CREATED:20250528T183455Z
LAST-MODIFIED:20250528T183455Z
UID:11533-1751654700-1751668200@communityreporter.org
SUMMARY:Rock the 4th with Hairball
DESCRIPTION:July 4\, 6:45 p.m. CHS Field. $15-$102.  \nCelebrate Independence Day at CHS Field with Rock the 4th featuring Hairball concert and fireworks. While the St. Paul Saints are away\, heavy metal\, pop-influenced hooks and guitar rifts with flamboyant costumes shall play. CHS Field\, the home of the Saints\, has been home to baseball\, entertainment\, and fireworks on the Fourth of July. This year\, however\, the team will be in Gwinnett\, Georgia\, but that doesn’t mean the ballpark will remain dormant. CHS Field will host a one-of-a-kind concert sure to bring back nostalgic memories of big hair\, neon clothes\, and music videos with a Hairball concert followed by an Independence Day Celebration Fireworks show. On Friday\, July 4\, one of the most unique concerts to grace CHS Field will hit the stage as Hairball\, who is celebrating 25 years\, will deliver their signature\, electrifying homage to the biggest names in 80s arena rock. Fans will be blown away by their flawless recreations of Van Halen\, KISS\, Motley Crue\, Queen\, and more\, complete with larger-than-life pyrotechnics\, lights\, and pure rock energy. \nLearn more and buy tickets at chsfield.com/events/detail/rock-the-4th.
URL:https://communityreporter.org/event/rock-the-4th-with-hairball/
LOCATION:CHS Field
ATTACH;FMTTYPE=image/webp:https://communityreporter.org/wp-content/uploads/2025/05/Rock-the-4th_1440x500-d302e96b19-scaled-e1748457234693.webp
END:VEVENT
END:VCALENDAR