BEGIN:VCALENDAR
VERSION:2.0
PRODID:-//Community Reporter - ECPv6.15.20//NONSGML v1.0//EN
CALSCALE:GREGORIAN
METHOD:PUBLISH
X-ORIGINAL-URL:https://communityreporter.org
X-WR-CALDESC:Events for Community Reporter
REFRESH-INTERVAL;VALUE=DURATION:PT1H
X-Robots-Tag:noindex
X-PUBLISHED-TTL:PT1H
BEGIN:VTIMEZONE
TZID:America/Chicago
BEGIN:DAYLIGHT
TZOFFSETFROM:-0600
TZOFFSETTO:-0500
TZNAME:CDT
DTSTART:20240310T080000
END:DAYLIGHT
BEGIN:STANDARD
TZOFFSETFROM:-0500
TZOFFSETTO:-0600
TZNAME:CST
DTSTART:20241103T070000
END:STANDARD
BEGIN:DAYLIGHT
TZOFFSETFROM:-0600
TZOFFSETTO:-0500
TZNAME:CDT
DTSTART:20250309T080000
END:DAYLIGHT
BEGIN:STANDARD
TZOFFSETFROM:-0500
TZOFFSETTO:-0600
TZNAME:CST
DTSTART:20251102T070000
END:STANDARD
BEGIN:DAYLIGHT
TZOFFSETFROM:-0600
TZOFFSETTO:-0500
TZNAME:CDT
DTSTART:20260308T080000
END:DAYLIGHT
BEGIN:STANDARD
TZOFFSETFROM:-0500
TZOFFSETTO:-0600
TZNAME:CST
DTSTART:20261101T070000
END:STANDARD
END:VTIMEZONE
BEGIN:VEVENT
DTSTART;TZID=America/Chicago:20250702T100000
DTEND;TZID=America/Chicago:20250702T110000
DTSTAMP:20260421T092944
CREATED:20250625T160525Z
LAST-MODIFIED:20250625T161415Z
UID:12284-1751450400-1751454000@communityreporter.org
SUMMARY:St. Paul Walking Tours
DESCRIPTION:Wednesdays through August\, 10 a.m.Various Locations. Free (reservation required) \nSt. Paul Walking Tours are back! Appreciate the rich history\, architecture\, and nature of downtown on four different tours: Heart of the City Walking Tour (the 1st Wednesday of the month in June and August only)\, It Happened Right Here: St. Paul’s Origins Walking Tour (2nd Wednesdays of the month)\, Great River Walking Tour (3rd Wednesdays of the month)\, Rice Park Walking Tour (4th Wednesdays of the month)! \nAll tours are free but reservations are required. June tour date reservations will open on May 5. July tour date reservations will open on June 2\, and August tour date reservations will open on July 7. For more information\, call  651.292.3063 or visit landmarkcenter.org/saint-paul-walking-tours.
URL:https://communityreporter.org/event/st-paul-walking-tours-6/
LOCATION:Landmark Center
ATTACH;FMTTYPE=image/jpeg:https://communityreporter.org/wp-content/uploads/2025/05/walking-tour-e1748358351288.jpeg
END:VEVENT
BEGIN:VEVENT
DTSTART;TZID=America/Chicago:20250702T110000
DTEND;TZID=America/Chicago:20250702T110000
DTSTAMP:20260421T092944
CREATED:20250527T151914Z
LAST-MODIFIED:20250527T151914Z
UID:11378-1751454000-1751454000@communityreporter.org
SUMMARY:Climb to the Top (North Tower)
DESCRIPTION:July 2\, 11:00 a.m.-1:00 p.m. Landmark Center. Free. \nEnjoy a rare opportunity to get a behind-the-scenes exploration of Landmark Center’s North Tower. Get a bird’s eye view of downtown St. Paul by climbing the steps and walking through a secret door to get to the top. This is the one rooftop you don’t want to miss this summer. Don’t forget your camera! \nFree\, Self-guided\, No reservations required. \nSummer 2025 Climb To The Top dates: \n\nWednesday\, June 4th: 11:00 am – 1:00 pm\nWednesday\, July 2nd: 11:00 am – 1:00 pm\nWednesday\, August 6th: 11:00am – 1:00 pm\n\nThe North Tower is accessible only via stairs\, 61 steps total from the 6th floor landing to the top. Or skip the elevator all together and climb the 198 stairs from the first floor. \nLearn more at landmarkcenter.org/climb-to-the-top-north-tower.
URL:https://communityreporter.org/event/climb-to-the-top-north-tower-2/
LOCATION:Landmark Center
ATTACH;FMTTYPE=image/webp:https://communityreporter.org/wp-content/uploads/2025/05/Climb-to-the-Top-header-e1748358974309.webp
END:VEVENT
BEGIN:VEVENT
DTSTART;TZID=America/Chicago:20250702T180000
DTEND;TZID=America/Chicago:20250702T200000
DTSTAMP:20260421T092944
CREATED:20250527T155605Z
LAST-MODIFIED:20250527T155605Z
UID:11425-1751479200-1751486400@communityreporter.org
SUMMARY:Groovin' in the Garden
DESCRIPTION:Wednesdays June 11-July 30. 6-8 p.m. Marjorie McNeely Conservatory. Free. \nPack a picnic and dancing shoes\, spread out a blanket & join us for these free outdoor concerts & activities in front of the Marjorie McNeely Conservatory Wednesdays June 11 – July 30 from 6pm–8pm. Hotdogs\, ice cream treats\, beer and wine will be available to purchase. \nJune 11 – Innocent Reggae Band – Roots Reggae\nJune 18 – Maria & The Coins – Singer-Songwriter Driven Pop Hooks \nJune 25 – Flamin’ Oh’s – Minnesota Music Legends\nJuly 2 – Leslie Rich & The Rocket Soul Choir – Belfast Born Singer/Songwriter Fronting a 3-piece Rock Band\nJuly 9 – Salsa del Soul – High-Energy Latin Dance Music\nJuly 16 – Jellyjacket – All-Star Minnesota Rock & Roll Band\nJuly 23 – Favourite Girl – Katy Vernon Leads An Almost Exclusively Female Powered Rock Band \nJuly 30 – School of Rock –St. Paul & Plymouth House Bands \nLearn more at comozooconservatory.org/groovin2025.
URL:https://communityreporter.org/event/groovin-in-the-garden-4/
LOCATION:Como Zoo Conservatory
ATTACH;FMTTYPE=image/png:https://communityreporter.org/wp-content/uploads/2025/05/grooving-in-the-garden-e1748360903699.png
END:VEVENT
END:VCALENDAR