BEGIN:VCALENDAR
VERSION:2.0
PRODID:-//Community Reporter - ECPv6.15.20//NONSGML v1.0//EN
CALSCALE:GREGORIAN
METHOD:PUBLISH
X-WR-CALNAME:Community Reporter
X-ORIGINAL-URL:https://communityreporter.org
X-WR-CALDESC:Events for Community Reporter
REFRESH-INTERVAL;VALUE=DURATION:PT1H
X-Robots-Tag:noindex
X-PUBLISHED-TTL:PT1H
BEGIN:VTIMEZONE
TZID:America/Chicago
BEGIN:DAYLIGHT
TZOFFSETFROM:-0600
TZOFFSETTO:-0500
TZNAME:CDT
DTSTART:20230312T080000
END:DAYLIGHT
BEGIN:STANDARD
TZOFFSETFROM:-0500
TZOFFSETTO:-0600
TZNAME:CST
DTSTART:20231105T070000
END:STANDARD
BEGIN:DAYLIGHT
TZOFFSETFROM:-0600
TZOFFSETTO:-0500
TZNAME:CDT
DTSTART:20240310T080000
END:DAYLIGHT
BEGIN:STANDARD
TZOFFSETFROM:-0500
TZOFFSETTO:-0600
TZNAME:CST
DTSTART:20241103T070000
END:STANDARD
BEGIN:DAYLIGHT
TZOFFSETFROM:-0600
TZOFFSETTO:-0500
TZNAME:CDT
DTSTART:20250309T080000
END:DAYLIGHT
BEGIN:STANDARD
TZOFFSETFROM:-0500
TZOFFSETTO:-0600
TZNAME:CST
DTSTART:20251102T070000
END:STANDARD
END:VTIMEZONE
BEGIN:VEVENT
DTSTART;TZID=America/Chicago:20240920T193000
DTEND;TZID=America/Chicago:20241012T220000
DTSTAMP:20260421T223406
CREATED:20240830T164925Z
LAST-MODIFIED:20240830T164925Z
UID:9354-1726860600-1728770400@communityreporter.org
SUMMARY:Survivors of the Fire: stories and songs remembering the Great Hinckley Fire of 1894
DESCRIPTION:September 20-October 12. Art House North Theater. $20-$50 \n“Survivors of the Fire: stories and songs remembering the Great Hinckley Fire of 1894” is a moving\, meaningful and at times surprisingly joyful new theatrical experience commemorating the 130th Anniversary of the fire. Featuring traditional music of the era\, harrowing first-hand accounts of the survivors and poignant tributes to those who perished. Performances at Art House North Fridays and Saturdays at 7:30pm\, with Saturday matinees at 3pm. Tiered Ticket Prices: $25\, $35\, $50 give patrons the option to save\, or give a little extra to support the company. $20 for opening weekend and a Pay-As-You’re-Able night September 30th. Tickets and more info at bucketbrigadetheater.com. 
URL:https://communityreporter.org/event/survivors-of-the-fire-stories-and-songs-remembering-the-great-hinckley-fire-of-1894/
LOCATION:Art House North Theater
ATTACH;FMTTYPE=image/png:https://communityreporter.org/wp-content/uploads/2024/08/Survivors-of-the-Fire-Promo-16x9-1.png
END:VEVENT
BEGIN:VEVENT
DTSTART;TZID=America/Chicago:20240921T190000
DTEND;TZID=America/Chicago:20241013T213000
DTSTAMP:20260421T223406
CREATED:20240925T155543Z
LAST-MODIFIED:20240925T155543Z
UID:9514-1726945200-1728855000@communityreporter.org
SUMMARY:Behind the Sun
DESCRIPTION:September 21-October 13. History Theatre. $15-$64. \nObie Kipper has finally found the house of his dreams\, but there’s one problem: it’s 1956 and Obie’s dream for the future of his family lies outside his redlined neighborhood\, in an all-white neighborhood. With help from an old friend and coworker\, Obie puts in motion a sensational scheme to purchase the house. This may either land him in jail or help chart the future for his family and all of Minneapolis. Based on the lives of playwright Stan Kipper’s family\, experience this story of community\, family\, and the lengths some had to go through to achieve the American Dream. \nTickets and more at historytheatre.com/2024-2025/behind-sun.
URL:https://communityreporter.org/event/behind-the-sun/
LOCATION:History Theatre
ATTACH;FMTTYPE=image/jpeg:https://communityreporter.org/wp-content/uploads/2024/09/1_behind-the-sun-playbill-cover-copy_0-e1727279729719.jpg
END:VEVENT
BEGIN:VEVENT
DTSTART;TZID=America/Chicago:20241009T190000
DTEND;TZID=America/Chicago:20241103T220000
DTSTAMP:20260421T223406
CREATED:20240925T152817Z
LAST-MODIFIED:20240925T152817Z
UID:9491-1728500400-1730671200@communityreporter.org
SUMMARY:Holmes/Poirot
DESCRIPTION:October 9-November 3. 7 p.m. & 2 p.m. Park Square Theater. $25-$65. \nA star studded cast brings this world premiere mystery by nationally acclaimed Twin Cities playwright Jeff Hatcher and Steve Hendrickson to life Sherlock Holmes never lost a case. Or did he? In this new mystery Holmes comes up against his most diabolical adversary in a tale of intrigue\, international politics\, wine and murder. And he’s stymied.  Enter Hercule Poirot 25 years later to investigate a new crime that rhymes with the first.  \nLearn more and purchase tickets at parksquaretheatre.org. 
URL:https://communityreporter.org/event/holmes-poirot/
LOCATION:Park Square Theater
ATTACH;FMTTYPE=image/png:https://communityreporter.org/wp-content/uploads/2024/09/Holmes-poirot-e1727278078152.png
END:VEVENT
BEGIN:VEVENT
DTSTART;TZID=America/Chicago:20241012T173000
DTEND;TZID=America/Chicago:20241012T203000
DTSTAMP:20260421T223406
CREATED:20240830T154650Z
LAST-MODIFIED:20240830T160546Z
UID:9288-1728754200-1728765000@communityreporter.org
SUMMARY:Mystery on the Mississippi
DESCRIPTION:September 27 and October 12\, 5:30-8:30 p.m. Crosby Farm Regional Park. $30-$35. \nBack by popular demand: Mystery on the Mississippi River is taking place at Crosby Farm Regional Park and has a bit of a supernatural twist this year! \n“Monsters of the Mississippi” is a completely real and not at all made up show about mythical monsters on and near the Mississippi river as they investigate a cold case murder believed to have been committed by a local legend Catfish McGee. Was the victim killed by a giant walking catfish or is the culprit a little less sensational? The mystery will unfold as you walk through Crosby Farm and you can help figure out who was responsible! The show will be an hour long from beginning to end. Please arrive 15 min before your timeslot to check in and get situated. Cost: $30 Members\, $35 Non-members. \nLearn more and get tickets at parkconnection.org/events/2024/9/27/motm.
URL:https://communityreporter.org/event/mystery-on-the-mississippi-2/
LOCATION:Crosby Farm Regional Park
ATTACH;FMTTYPE=image/jpeg:https://communityreporter.org/wp-content/uploads/2024/08/mystery-on-the-mississippi.jpg
END:VEVENT
END:VCALENDAR