BEGIN:VCALENDAR
VERSION:2.0
PRODID:-//Community Reporter - ECPv6.15.20//NONSGML v1.0//EN
CALSCALE:GREGORIAN
METHOD:PUBLISH
X-WR-CALNAME:Community Reporter
X-ORIGINAL-URL:https://communityreporter.org
X-WR-CALDESC:Events for Community Reporter
REFRESH-INTERVAL;VALUE=DURATION:PT1H
X-Robots-Tag:noindex
X-PUBLISHED-TTL:PT1H
BEGIN:VTIMEZONE
TZID:America/Chicago
BEGIN:DAYLIGHT
TZOFFSETFROM:-0600
TZOFFSETTO:-0500
TZNAME:CDT
DTSTART:20230312T080000
END:DAYLIGHT
BEGIN:STANDARD
TZOFFSETFROM:-0500
TZOFFSETTO:-0600
TZNAME:CST
DTSTART:20231105T070000
END:STANDARD
BEGIN:DAYLIGHT
TZOFFSETFROM:-0600
TZOFFSETTO:-0500
TZNAME:CDT
DTSTART:20240310T080000
END:DAYLIGHT
BEGIN:STANDARD
TZOFFSETFROM:-0500
TZOFFSETTO:-0600
TZNAME:CST
DTSTART:20241103T070000
END:STANDARD
BEGIN:DAYLIGHT
TZOFFSETFROM:-0600
TZOFFSETTO:-0500
TZNAME:CDT
DTSTART:20250309T080000
END:DAYLIGHT
BEGIN:STANDARD
TZOFFSETFROM:-0500
TZOFFSETTO:-0600
TZNAME:CST
DTSTART:20251102T070000
END:STANDARD
END:VTIMEZONE
BEGIN:VEVENT
DTSTART;TZID=America/Chicago:20240920T193000
DTEND;TZID=America/Chicago:20241012T220000
DTSTAMP:20260421T223404
CREATED:20240830T164925Z
LAST-MODIFIED:20240830T164925Z
UID:9354-1726860600-1728770400@communityreporter.org
SUMMARY:Survivors of the Fire: stories and songs remembering the Great Hinckley Fire of 1894
DESCRIPTION:September 20-October 12. Art House North Theater. $20-$50 \n“Survivors of the Fire: stories and songs remembering the Great Hinckley Fire of 1894” is a moving\, meaningful and at times surprisingly joyful new theatrical experience commemorating the 130th Anniversary of the fire. Featuring traditional music of the era\, harrowing first-hand accounts of the survivors and poignant tributes to those who perished. Performances at Art House North Fridays and Saturdays at 7:30pm\, with Saturday matinees at 3pm. Tiered Ticket Prices: $25\, $35\, $50 give patrons the option to save\, or give a little extra to support the company. $20 for opening weekend and a Pay-As-You’re-Able night September 30th. Tickets and more info at bucketbrigadetheater.com. 
URL:https://communityreporter.org/event/survivors-of-the-fire-stories-and-songs-remembering-the-great-hinckley-fire-of-1894/
LOCATION:Art House North Theater
ATTACH;FMTTYPE=image/png:https://communityreporter.org/wp-content/uploads/2024/08/Survivors-of-the-Fire-Promo-16x9-1.png
END:VEVENT
BEGIN:VEVENT
DTSTART;TZID=America/Chicago:20240921T190000
DTEND;TZID=America/Chicago:20241013T213000
DTSTAMP:20260421T223404
CREATED:20240925T155543Z
LAST-MODIFIED:20240925T155543Z
UID:9514-1726945200-1728855000@communityreporter.org
SUMMARY:Behind the Sun
DESCRIPTION:September 21-October 13. History Theatre. $15-$64. \nObie Kipper has finally found the house of his dreams\, but there’s one problem: it’s 1956 and Obie’s dream for the future of his family lies outside his redlined neighborhood\, in an all-white neighborhood. With help from an old friend and coworker\, Obie puts in motion a sensational scheme to purchase the house. This may either land him in jail or help chart the future for his family and all of Minneapolis. Based on the lives of playwright Stan Kipper’s family\, experience this story of community\, family\, and the lengths some had to go through to achieve the American Dream. \nTickets and more at historytheatre.com/2024-2025/behind-sun.
URL:https://communityreporter.org/event/behind-the-sun/
LOCATION:History Theatre
ATTACH;FMTTYPE=image/jpeg:https://communityreporter.org/wp-content/uploads/2024/09/1_behind-the-sun-playbill-cover-copy_0-e1727279729719.jpg
END:VEVENT
BEGIN:VEVENT
DTSTART;VALUE=DATE:20241004
DTEND;VALUE=DATE:20241007
DTSTAMP:20260421T223404
CREATED:20240830T154013Z
LAST-MODIFIED:20240830T154013Z
UID:9276-1728000000-1728259199@communityreporter.org
SUMMARY:Medtronic Twin Cities Marathon Weekend
DESCRIPTION:October 4-6. Minneapolis and St. Paul.  \nThe annual Twin Cities Marathon weekend kicks off October 4-6. Sunday’s race starts in downtown Minneapolis\, winding its way across the Mississippi\, along Summit Ave and ends at the State Capital.  \nLearn more\, register and find out how to get involved at tcmevents.org.
URL:https://communityreporter.org/event/medtronic-twin-cities-marathon-weekend-2/
ATTACH;FMTTYPE=image/webp:https://communityreporter.org/wp-content/uploads/2024/08/Twin-Cities-Marathon.webp
END:VEVENT
BEGIN:VEVENT
DTSTART;TZID=America/Chicago:20241006T180000
DTEND;TZID=America/Chicago:20241006T193000
DTSTAMP:20260421T223404
CREATED:20240925T154208Z
LAST-MODIFIED:20240925T154208Z
UID:9498-1728237600-1728243000@communityreporter.org
SUMMARY:Author Larry Millett to discuss his new collection of mystery novellas
DESCRIPTION:October 6\, 6:00 p.m. St. Paul City Catering. Free. \nBeloved local author Larry Millett will launch his newest collection of mystery novellas\, Mysterious Tales of Old St. Paul: Three Cases Featuring Shadwell Rafferty\, on Sunday\, October 6\, at 6:00 PM at Saint City Catering (218 7th St E Suite 100\, St Paul\, MN 55101)\, hosted and with book sales from SubText Books. \nShadwell Rafferty’s last case may have led to his murder\, but naturally—and fortunately\, for followers of the indefatigable St. Paul detective—there’s more to the story. Mysterious Tales of Old St. Paul gathers three novellas from Larry Millett\, casting back to Rafferty’s beginnings to recount a trio of intriguing cases that honed his skills before he joined forces with Sherlock Holmes.
URL:https://communityreporter.org/event/author-larry-millett-to-discuss-his-new-collection-of-mystery-novellas/
LOCATION:St. Paul City Catering
ATTACH;FMTTYPE=image/webp:https://communityreporter.org/wp-content/uploads/2024/09/Larry-Millett-e1727278902380.webp
END:VEVENT
BEGIN:VEVENT
DTSTART;TZID=America/Chicago:20241006T193000
DTEND;TZID=America/Chicago:20241006T213000
DTSTAMP:20260421T223404
CREATED:20240925T154510Z
LAST-MODIFIED:20240925T154510Z
UID:9503-1728243000-1728250200@communityreporter.org
SUMMARY:Landmark Live
DESCRIPTION:October 6\, 7:30 p.m. Landmark Center. $20-$70 \nAmericana\, indie rock\, blues\, and folk music fans can get tickets for Landmark Center’s fall concert series starting today. The 2024 Landmark Live concerts are October-December\, held in Landmark Center’s intimate F.K. Weyerhaeuser Auditorium. Performances begin at 7:30 p.m. and are preceded by a cocktail hour with a cash bar at 6:45 p.m. Tickets are $20 in advance\, $25 at the door\, or $70 for a full season package. This season’s standout lineup includes Ruth Moody on Oct. 6\, Pieta Brown on Oct. 18\, The Foxgloves on Nov. 15\, and Annie Mack on Dec. 20. \nTickets and info at landmarkcenter.org/landmark-live. 
URL:https://communityreporter.org/event/landmark-live/
LOCATION:Landmark Center
ATTACH;FMTTYPE=image/webp:https://communityreporter.org/wp-content/uploads/2024/09/Landmark-Live-e1727279086306.webp
END:VEVENT
END:VCALENDAR