BEGIN:VCALENDAR
VERSION:2.0
PRODID:-//Community Reporter - ECPv6.15.20//NONSGML v1.0//EN
CALSCALE:GREGORIAN
METHOD:PUBLISH
X-ORIGINAL-URL:https://communityreporter.org
X-WR-CALDESC:Events for Community Reporter
REFRESH-INTERVAL;VALUE=DURATION:PT1H
X-Robots-Tag:noindex
X-PUBLISHED-TTL:PT1H
BEGIN:VTIMEZONE
TZID:America/Chicago
BEGIN:DAYLIGHT
TZOFFSETFROM:-0600
TZOFFSETTO:-0500
TZNAME:CDT
DTSTART:20230312T080000
END:DAYLIGHT
BEGIN:STANDARD
TZOFFSETFROM:-0500
TZOFFSETTO:-0600
TZNAME:CST
DTSTART:20231105T070000
END:STANDARD
BEGIN:DAYLIGHT
TZOFFSETFROM:-0600
TZOFFSETTO:-0500
TZNAME:CDT
DTSTART:20240310T080000
END:DAYLIGHT
BEGIN:STANDARD
TZOFFSETFROM:-0500
TZOFFSETTO:-0600
TZNAME:CST
DTSTART:20241103T070000
END:STANDARD
BEGIN:DAYLIGHT
TZOFFSETFROM:-0600
TZOFFSETTO:-0500
TZNAME:CDT
DTSTART:20250309T080000
END:DAYLIGHT
BEGIN:STANDARD
TZOFFSETFROM:-0500
TZOFFSETTO:-0600
TZNAME:CST
DTSTART:20251102T070000
END:STANDARD
END:VTIMEZONE
BEGIN:VEVENT
DTSTART;TZID=America/Chicago:20240920T120000
DTEND;TZID=America/Chicago:20240929T220000
DTSTAMP:20260422T012849
CREATED:20240830T160133Z
LAST-MODIFIED:20240830T160133Z
UID:9302-1726833600-1727647200@communityreporter.org
SUMMARY:Waldmann Oktoberfest
DESCRIPTION:Sep 20-22 & 27-29. Fridays\, 12:00-10:00 p.m. Saturdays\, 12:00-10:00 p.m. Sundays\, 12:00-7:00 p.m. Waldmann Brewing. Free-$7.50.  \nWaldmann’s 7th Anniversary Oktoberfest is taking place Fridays through Sundays\, September 20-22 and 27-29 starting at noon each day. This year’s festival will be better than ever\, featuring even more great food\, more live music (with 25+ performances)\, dancing\, competitions\, comedy performances by zPuppets and of course\, our lovingly-brewed Oktoberfest lagers – all under a big tent covering the Twin Cities’ oldest outdoor biergarten. Bring the whole family\, there’s something for everyone. Hours\, ticket prices and other details at waldmannbrewery.com/oktoberfest.
URL:https://communityreporter.org/event/waldmann-oktoberfest/
ATTACH;FMTTYPE=image/png:https://communityreporter.org/wp-content/uploads/2024/08/Waldman-oct_hero_header.png
END:VEVENT
BEGIN:VEVENT
DTSTART;TZID=America/Chicago:20240920T193000
DTEND;TZID=America/Chicago:20241012T220000
DTSTAMP:20260422T012849
CREATED:20240830T164925Z
LAST-MODIFIED:20240830T164925Z
UID:9354-1726860600-1728770400@communityreporter.org
SUMMARY:Survivors of the Fire: stories and songs remembering the Great Hinckley Fire of 1894
DESCRIPTION:September 20-October 12. Art House North Theater. $20-$50 \n“Survivors of the Fire: stories and songs remembering the Great Hinckley Fire of 1894” is a moving\, meaningful and at times surprisingly joyful new theatrical experience commemorating the 130th Anniversary of the fire. Featuring traditional music of the era\, harrowing first-hand accounts of the survivors and poignant tributes to those who perished. Performances at Art House North Fridays and Saturdays at 7:30pm\, with Saturday matinees at 3pm. Tiered Ticket Prices: $25\, $35\, $50 give patrons the option to save\, or give a little extra to support the company. $20 for opening weekend and a Pay-As-You’re-Able night September 30th. Tickets and more info at bucketbrigadetheater.com. 
URL:https://communityreporter.org/event/survivors-of-the-fire-stories-and-songs-remembering-the-great-hinckley-fire-of-1894/
LOCATION:Art House North Theater
ATTACH;FMTTYPE=image/png:https://communityreporter.org/wp-content/uploads/2024/08/Survivors-of-the-Fire-Promo-16x9-1.png
END:VEVENT
BEGIN:VEVENT
DTSTART;TZID=America/Chicago:20240921T190000
DTEND;TZID=America/Chicago:20241013T213000
DTSTAMP:20260422T012849
CREATED:20240925T155543Z
LAST-MODIFIED:20240925T155543Z
UID:9514-1726945200-1728855000@communityreporter.org
SUMMARY:Behind the Sun
DESCRIPTION:September 21-October 13. History Theatre. $15-$64. \nObie Kipper has finally found the house of his dreams\, but there’s one problem: it’s 1956 and Obie’s dream for the future of his family lies outside his redlined neighborhood\, in an all-white neighborhood. With help from an old friend and coworker\, Obie puts in motion a sensational scheme to purchase the house. This may either land him in jail or help chart the future for his family and all of Minneapolis. Based on the lives of playwright Stan Kipper’s family\, experience this story of community\, family\, and the lengths some had to go through to achieve the American Dream. \nTickets and more at historytheatre.com/2024-2025/behind-sun.
URL:https://communityreporter.org/event/behind-the-sun/
LOCATION:History Theatre
ATTACH;FMTTYPE=image/jpeg:https://communityreporter.org/wp-content/uploads/2024/09/1_behind-the-sun-playbill-cover-copy_0-e1727279729719.jpg
END:VEVENT
BEGIN:VEVENT
DTSTART;TZID=America/Chicago:20240927T130000
DTEND;TZID=America/Chicago:20240927T150000
DTSTAMP:20260422T012849
CREATED:20240925T151504Z
LAST-MODIFIED:20240925T151504Z
UID:9473-1727442000-1727449200@communityreporter.org
SUMMARY:Sundays at Landmark
DESCRIPTION:Various Sundays through May. Landmark Center. Free unless noted. \nLandmark Center’s Sundays at Landmark series of community events returns this fall with new and exciting takes on annual favorites. The 2024-2025 season is a full calendar of cultural and art events that are designed to entertain\, enrich\, and celebrate the diversity within our community. Most programs begin at 1 pm and are free and open to the public unless otherwise noted. This program season features beloved returning events that have been updated to include new elements. The Great Pumpkin Halloween Celebration will feature a newly added interactive spooky sounds performance\, and returning for the second year is the Mosaic Festival\, a global exploration of cultures through music\, dance\, languages\, cuisine\, attire\, and arts and crafts. Additionally\, our Urban Expedition series will feature Venezuela this year for the first time.  \nSundays at Landmark is a wonderful opportunity to explore all that Landmark Center has to offer\, while experiencing new cultural perspectives through immersive and exciting programs.  \n2024-2025 Sundays at Landmark programs (free\, unless noted): \nOct. 20\, 1-3 p.m.:  Saint Paul Civic Symphony Concert \nOct. 27\, 1-3 p.m.:  Great Pumpkin Halloween Celebration \nNov. 17\, 1-3 p.m.: Minnesota Mandolin Orchestra \nDec. 15\, 1-3 p.m.:  Santa’s Workshop \nJan. 5\, 1 & 3:30 p.m.: Minnesota Boychoir Winter Concert \nJan. 12\, 1-3 p.m.:  Urban Expedition: India \nJan. 26\, 2 p.m.:  Saint Paul Civic Symphony Concert          \nFeb. 16\, 11 a.m. – 3 p.m.:  Mosaic Festival: Dance and Music of World Cultures ($4/$6) \nFeb. 23\, 1-3 p.m.: Urban Expedition: Country To Be Announced \nMar. 16\, 10 a.m. – 5 p.m.:  An Irish Day of Dance ($7/$9) \nMar. 17\, 9 a.m. – 5 p.m.:  St. Patrick’s Day Irish Celebration* ($7/$9) *This event is on a Monday \nMar. 30\, 1-3 p.m.: Urban Expedition: Guatemala \nApr. 6\, 1-3 p.m.: Skylark Opera \nApr. 13\, 1-3 p.m.: Urban Expedition: Venezuela \nApr. 27\, 12-6 p.m.: BandWidth Community Band Festival \nMay 4\, 1-3 p.m.: Urban Expedition: Country To Be Announced \nMay 11\, 1-3 p.m.: Saint Paul Civic Symphony Mother’s Day Concert  \nFor more information visit www.landmarkcenter.org/sundays-at-landmark. 
URL:https://communityreporter.org/event/sundays-at-landmark-2/
LOCATION:Landmark Center
ATTACH;FMTTYPE=image/webp:https://communityreporter.org/wp-content/uploads/2024/09/Sundays-at-landmark-e1727277112265.webp
END:VEVENT
BEGIN:VEVENT
DTSTART;TZID=America/Chicago:20240927T173000
DTEND;TZID=America/Chicago:20240927T203000
DTSTAMP:20260422T012849
CREATED:20240830T154526Z
LAST-MODIFIED:20240830T154526Z
UID:9284-1727458200-1727469000@communityreporter.org
SUMMARY:Mystery on the Mississippi
DESCRIPTION:September 27 and October 12\, 5:30-8:30 p.m. Crosby Farm Regional Park. $30-$35. \nBack by popular demand: Mystery on the Mississippi River is taking place at Crosby Farm Regional Park and has a bit of a supernatural twist this year! \n“Monsters of the Mississippi” is a completely real and not at all made up show about mythical monsters on and near the Mississippi river as they investigate a cold case murder believed to have been committed by a local legend Catfish McGee. Was the victim killed by a giant walking catfish or is the culprit a little less sensational? The mystery will unfold as you walk through Crosby Farm and you can help figure out who was responsible! The show will be an hour long from beginning to end. Please arrive 15 min before your timeslot to check in and get situated. Cost: $30 Members\, $35 Non-members. \nLearn more and get tickets at parkconnection.org/events/2024/9/27/motm.
URL:https://communityreporter.org/event/mystery-on-the-mississippi/
LOCATION:Crosby Farm Regional Park
ATTACH;FMTTYPE=image/jpeg:https://communityreporter.org/wp-content/uploads/2024/08/mystery-on-the-mississippi.jpg
END:VEVENT
END:VCALENDAR