BEGIN:VCALENDAR
VERSION:2.0
PRODID:-//Community Reporter - ECPv6.15.20//NONSGML v1.0//EN
CALSCALE:GREGORIAN
METHOD:PUBLISH
X-WR-CALNAME:Community Reporter
X-ORIGINAL-URL:https://communityreporter.org
X-WR-CALDESC:Events for Community Reporter
REFRESH-INTERVAL;VALUE=DURATION:PT1H
X-Robots-Tag:noindex
X-PUBLISHED-TTL:PT1H
BEGIN:VTIMEZONE
TZID:America/Chicago
BEGIN:DAYLIGHT
TZOFFSETFROM:-0600
TZOFFSETTO:-0500
TZNAME:CDT
DTSTART:20230312T080000
END:DAYLIGHT
BEGIN:STANDARD
TZOFFSETFROM:-0500
TZOFFSETTO:-0600
TZNAME:CST
DTSTART:20231105T070000
END:STANDARD
BEGIN:DAYLIGHT
TZOFFSETFROM:-0600
TZOFFSETTO:-0500
TZNAME:CDT
DTSTART:20240310T080000
END:DAYLIGHT
BEGIN:STANDARD
TZOFFSETFROM:-0500
TZOFFSETTO:-0600
TZNAME:CST
DTSTART:20241103T070000
END:STANDARD
BEGIN:DAYLIGHT
TZOFFSETFROM:-0600
TZOFFSETTO:-0500
TZNAME:CDT
DTSTART:20250309T080000
END:DAYLIGHT
BEGIN:STANDARD
TZOFFSETFROM:-0500
TZOFFSETTO:-0600
TZNAME:CST
DTSTART:20251102T070000
END:STANDARD
END:VTIMEZONE
BEGIN:VEVENT
DTSTART;TZID=America/Chicago:20240915T073000
DTEND;TZID=America/Chicago:20240915T130000
DTSTAMP:20260422T001155
CREATED:20240830T160411Z
LAST-MODIFIED:20240830T160411Z
UID:9307-1726385400-1726405200@communityreporter.org
SUMMARY:Twin Cities Bike Tour
DESCRIPTION:September 15\, 7:30 a.m. Minnehaha Falls Park. $0-$46 \nA New Annual Tradition! Help us celebrate everything that makes Minnesota and the Twin Cities a top bicycling destination! Our inaugural Twin Cities Bicycle Tour will roll every September! Be a part of this exciting cycling event\, destined to be a celebration of the trails and communities that fuel thriving bicycling culture. The TCBT aims to unite neighbors\, coworkers\, family\, friends with community organizations\, local and national businesses\, in a joyous celebration of biking and community. \nLearn more and register at bikemn.org/all-events/tcbt. 
URL:https://communityreporter.org/event/twin-cities-bike-tour/
ATTACH;FMTTYPE=image/webp:https://communityreporter.org/wp-content/uploads/2024/08/Copy-of-Twin-Cities-Bike-Tour-Banner-Image-Modified-Mel-Design.webp
END:VEVENT
END:VCALENDAR