BEGIN:VCALENDAR
VERSION:2.0
PRODID:-//Community Reporter - ECPv6.15.20//NONSGML v1.0//EN
CALSCALE:GREGORIAN
METHOD:PUBLISH
X-WR-CALNAME:Community Reporter
X-ORIGINAL-URL:https://communityreporter.org
X-WR-CALDESC:Events for Community Reporter
REFRESH-INTERVAL;VALUE=DURATION:PT1H
X-Robots-Tag:noindex
X-PUBLISHED-TTL:PT1H
BEGIN:VTIMEZONE
TZID:America/Chicago
BEGIN:DAYLIGHT
TZOFFSETFROM:-0600
TZOFFSETTO:-0500
TZNAME:CDT
DTSTART:20230312T080000
END:DAYLIGHT
BEGIN:STANDARD
TZOFFSETFROM:-0500
TZOFFSETTO:-0600
TZNAME:CST
DTSTART:20231105T070000
END:STANDARD
BEGIN:DAYLIGHT
TZOFFSETFROM:-0600
TZOFFSETTO:-0500
TZNAME:CDT
DTSTART:20240310T080000
END:DAYLIGHT
BEGIN:STANDARD
TZOFFSETFROM:-0500
TZOFFSETTO:-0600
TZNAME:CST
DTSTART:20241103T070000
END:STANDARD
BEGIN:DAYLIGHT
TZOFFSETFROM:-0600
TZOFFSETTO:-0500
TZNAME:CDT
DTSTART:20250309T080000
END:DAYLIGHT
BEGIN:STANDARD
TZOFFSETFROM:-0500
TZOFFSETTO:-0600
TZNAME:CST
DTSTART:20251102T070000
END:STANDARD
END:VTIMEZONE
BEGIN:VEVENT
DTSTART;VALUE=DATE:20240913
DTEND;VALUE=DATE:20240915
DTSTAMP:20260421T235615
CREATED:20240830T161633Z
LAST-MODIFIED:20240830T161633Z
UID:9314-1726185600-1726358399@communityreporter.org
SUMMARY:Germanic-American Institute St. Paul Oktoberfest
DESCRIPTION:September 13\, 4:00-10:00 p.m. and September 14\, 10:00 a.m.-10:00 p.m. Germanic-American Institute. Free admission\, $10 wristbands required for alcohol purchase.  \nThe St. Paul Oktoberfest returns September 13 and 14th to the beautiful grounds of the Germanic-American Institute in St. Paul\, MN. Like the Munich original dating back to 1810\, this annual event is celebrated in September to take advantage of the nice weather. The Germanic-American Institute (GAI) partners with local partner sponsors to feature beer imported directly from Paulaner in Munich as well as brewed locally by Utepils in Minneapolis\, MN. St. Paul Oktoberfest will feature an array of international food fare\, from bratwurst to strudel\, pretzels and more! With non-stop entertainment and fun for the whole family\, it’s a two-day celebration of German food\, beer\, and culture! \n More details at gaimn.org/oktoberfest.
URL:https://communityreporter.org/event/germanic-american-institute-st-paul-oktoberfest/
LOCATION:Germanic-American Institute
ATTACH;FMTTYPE=image/jpeg:https://communityreporter.org/wp-content/uploads/2024/08/Oktoberfest-GAIMN.jpg
END:VEVENT
END:VCALENDAR