BEGIN:VCALENDAR
VERSION:2.0
PRODID:-//Community Reporter - ECPv6.15.20//NONSGML v1.0//EN
CALSCALE:GREGORIAN
METHOD:PUBLISH
X-ORIGINAL-URL:https://communityreporter.org
X-WR-CALDESC:Events for Community Reporter
REFRESH-INTERVAL;VALUE=DURATION:PT1H
X-Robots-Tag:noindex
X-PUBLISHED-TTL:PT1H
BEGIN:VTIMEZONE
TZID:America/Chicago
BEGIN:DAYLIGHT
TZOFFSETFROM:-0600
TZOFFSETTO:-0500
TZNAME:CDT
DTSTART:20230312T080000
END:DAYLIGHT
BEGIN:STANDARD
TZOFFSETFROM:-0500
TZOFFSETTO:-0600
TZNAME:CST
DTSTART:20231105T070000
END:STANDARD
BEGIN:DAYLIGHT
TZOFFSETFROM:-0600
TZOFFSETTO:-0500
TZNAME:CDT
DTSTART:20240310T080000
END:DAYLIGHT
BEGIN:STANDARD
TZOFFSETFROM:-0500
TZOFFSETTO:-0600
TZNAME:CST
DTSTART:20241103T070000
END:STANDARD
BEGIN:DAYLIGHT
TZOFFSETFROM:-0600
TZOFFSETTO:-0500
TZNAME:CDT
DTSTART:20250309T080000
END:DAYLIGHT
BEGIN:STANDARD
TZOFFSETFROM:-0500
TZOFFSETTO:-0600
TZNAME:CST
DTSTART:20251102T070000
END:STANDARD
END:VTIMEZONE
BEGIN:VEVENT
DTSTART;TZID=America/Chicago:20240912T160000
DTEND;TZID=America/Chicago:20240912T170000
DTSTAMP:20260422T001331
CREATED:20240830T161817Z
LAST-MODIFIED:20240830T161817Z
UID:9319-1726156800-1726160400@communityreporter.org
SUMMARY:Community Conversations with Rebecca Noecker
DESCRIPTION:September 12\, 4:00-5:00 p.m. Microsoft Teams. Free. \nJoin Ward 2 Councilmember Rebecca Noecker for a monthly drop-in conversation about issues in our community. \nThe September Community Conversation is with Lisa Hiebert\, Saint Paul Public Works\, on reimagining snow operations. \nLearn more at stpaul.gov/department/city-council/ward-2.
URL:https://communityreporter.org/event/community-conversations-with-rebecca-noecker/
LOCATION:Online
ATTACH;FMTTYPE=image/jpeg:https://communityreporter.org/wp-content/uploads/2023/09/Rebecca-Noecker-16x9-1-scaled-e1695415183529.jpg
END:VEVENT
BEGIN:VEVENT
DTSTART;TZID=America/Chicago:20240912T190000
DTEND;TZID=America/Chicago:20240912T210000
DTSTAMP:20260422T001331
CREATED:20240830T164202Z
LAST-MODIFIED:20240830T164202Z
UID:9344-1726167600-1726174800@communityreporter.org
SUMMARY:Summer Nights in Rice
DESCRIPTION:Thursdays\, 5:00-7:00 p.m. Rice Park. Free \nJoin the Rice Park Association and Landmark Center for a free concert series\, Summer Nights in Rice\, on select Thursdays\, 5-7 p.m.\, from June through September. Guests may grab a drink or a bite to eat at a local restaurant and then stop by for live music\, dancing and community connections in Rice Park! Make it a night of outdoor music by attending Summer Nights in Rice and then making your way down to Lowertown Sounds in Mears Park! Performers for the 2024 season are soon to be announced!\n\nFor more information for dates and upcoming performers\, please visit landmarkcenter.org/event/summer-nights-in-rice.
URL:https://communityreporter.org/event/summer-nights-in-rice-2/
LOCATION:Rice Park
ATTACH;FMTTYPE=image/jpeg:https://communityreporter.org/wp-content/uploads/2023/08/Jeff-Bartlett-Rice-Park-13-scaled-e1716947565656.jpeg
END:VEVENT
END:VCALENDAR