BEGIN:VCALENDAR
VERSION:2.0
PRODID:-//Community Reporter - ECPv6.15.20//NONSGML v1.0//EN
CALSCALE:GREGORIAN
METHOD:PUBLISH
X-ORIGINAL-URL:https://communityreporter.org
X-WR-CALDESC:Events for Community Reporter
REFRESH-INTERVAL;VALUE=DURATION:PT1H
X-Robots-Tag:noindex
X-PUBLISHED-TTL:PT1H
BEGIN:VTIMEZONE
TZID:America/Chicago
BEGIN:DAYLIGHT
TZOFFSETFROM:-0600
TZOFFSETTO:-0500
TZNAME:CDT
DTSTART:20230312T080000
END:DAYLIGHT
BEGIN:STANDARD
TZOFFSETFROM:-0500
TZOFFSETTO:-0600
TZNAME:CST
DTSTART:20231105T070000
END:STANDARD
BEGIN:DAYLIGHT
TZOFFSETFROM:-0600
TZOFFSETTO:-0500
TZNAME:CDT
DTSTART:20240310T080000
END:DAYLIGHT
BEGIN:STANDARD
TZOFFSETFROM:-0500
TZOFFSETTO:-0600
TZNAME:CST
DTSTART:20241103T070000
END:STANDARD
BEGIN:DAYLIGHT
TZOFFSETFROM:-0600
TZOFFSETTO:-0500
TZNAME:CDT
DTSTART:20250309T080000
END:DAYLIGHT
BEGIN:STANDARD
TZOFFSETFROM:-0500
TZOFFSETTO:-0600
TZNAME:CST
DTSTART:20251102T070000
END:STANDARD
END:VTIMEZONE
BEGIN:VEVENT
DTSTART;TZID=America/Chicago:20240907T130000
DTEND;TZID=America/Chicago:20240907T150000
DTSTAMP:20260422T000918
CREATED:20240830T162816Z
LAST-MODIFIED:20240830T162816Z
UID:9333-1725714000-1725721200@communityreporter.org
SUMMARY:Fruits of Labor Cocktail Class at Parlour Saint Paul
DESCRIPTION:September 7. 1:00-3:00 p.m. Parlour St. Paul. $95 \nSpend two hours delving into the world of craft cocktails in our atmospheric Parlour Bar! We look forward to sharing our skill with you in a comfortable\, cool environment. Class will be lead by Parlour St. Paul Bar Manager Tonia Brown and small coursed plates will be prepared by our Chef\, Dain Holter. \nLearn more and register at parlourbar.com/st-paul-events.
URL:https://communityreporter.org/event/fruits-of-labor-cocktail-class-at-parlour-saint-paul/
LOCATION:Parlour St. Paul
ATTACH;FMTTYPE=image/png:https://communityreporter.org/wp-content/uploads/2024/08/Parlour-Cocktails-class-September-7.png
END:VEVENT
END:VCALENDAR