BEGIN:VCALENDAR
VERSION:2.0
PRODID:-//Community Reporter - ECPv6.15.20//NONSGML v1.0//EN
CALSCALE:GREGORIAN
METHOD:PUBLISH
X-WR-CALNAME:Community Reporter
X-ORIGINAL-URL:https://communityreporter.org
X-WR-CALDESC:Events for Community Reporter
REFRESH-INTERVAL;VALUE=DURATION:PT1H
X-Robots-Tag:noindex
X-PUBLISHED-TTL:PT1H
BEGIN:VTIMEZONE
TZID:America/Chicago
BEGIN:DAYLIGHT
TZOFFSETFROM:-0600
TZOFFSETTO:-0500
TZNAME:CDT
DTSTART:20230312T080000
END:DAYLIGHT
BEGIN:STANDARD
TZOFFSETFROM:-0500
TZOFFSETTO:-0600
TZNAME:CST
DTSTART:20231105T070000
END:STANDARD
BEGIN:DAYLIGHT
TZOFFSETFROM:-0600
TZOFFSETTO:-0500
TZNAME:CDT
DTSTART:20240310T080000
END:DAYLIGHT
BEGIN:STANDARD
TZOFFSETFROM:-0500
TZOFFSETTO:-0600
TZNAME:CST
DTSTART:20241103T070000
END:STANDARD
BEGIN:DAYLIGHT
TZOFFSETFROM:-0600
TZOFFSETTO:-0500
TZNAME:CDT
DTSTART:20250309T080000
END:DAYLIGHT
BEGIN:STANDARD
TZOFFSETFROM:-0500
TZOFFSETTO:-0600
TZNAME:CST
DTSTART:20251102T070000
END:STANDARD
END:VTIMEZONE
BEGIN:VEVENT
DTSTART;TZID=America/Chicago:20240904T063000
DTEND;TZID=America/Chicago:20240904T203000
DTSTAMP:20260422T012911
CREATED:20240830T163838Z
LAST-MODIFIED:20240830T163838Z
UID:9341-1725431400-1725481800@communityreporter.org
SUMMARY:Taiko series at the Women's Drum Center
DESCRIPTION:September 4\, 11\, 18 & 25\, 6:30-8:00 p.m. Women’s Drum Center. $95. \nAnnouncing another of our popular Taiko series! Learn basic taiko form (kata)\, rhythms\, and a bit of history. Instructor: Sandi Likely of Taikollaborative. Drums provided. No experience necessary. All gender identities are welcome. Cost $95. PRE-REGISTRATION REQUIRED. This class fills up fast\, so click here to register today. This four-part class will teach basic taiko form (kata)\, rhythms\, and a bit of history. Taiko is the Japanese word for drum and refers to the modern style of playing these drums. Wadaiko (in Japan) and kumi daiko (in North America) is movement infused\, heart-pounding\, dynamic group drumming. \nLearn more and register at womensdrumcenter.org/workshops-special-series.
URL:https://communityreporter.org/event/taiko-series-at-the-womens-drum-center/
LOCATION:Women’s Drum Center
ATTACH;FMTTYPE=image/jpeg:https://communityreporter.org/wp-content/uploads/2024/08/taiko-drumming-e1725035903928.jpg
END:VEVENT
END:VCALENDAR