BEGIN:VCALENDAR
VERSION:2.0
PRODID:-//Community Reporter - ECPv6.15.20//NONSGML v1.0//EN
CALSCALE:GREGORIAN
METHOD:PUBLISH
X-ORIGINAL-URL:https://communityreporter.org
X-WR-CALDESC:Events for Community Reporter
REFRESH-INTERVAL;VALUE=DURATION:PT1H
X-Robots-Tag:noindex
X-PUBLISHED-TTL:PT1H
BEGIN:VTIMEZONE
TZID:America/Chicago
BEGIN:DAYLIGHT
TZOFFSETFROM:-0600
TZOFFSETTO:-0500
TZNAME:CDT
DTSTART:20230312T080000
END:DAYLIGHT
BEGIN:STANDARD
TZOFFSETFROM:-0500
TZOFFSETTO:-0600
TZNAME:CST
DTSTART:20231105T070000
END:STANDARD
BEGIN:DAYLIGHT
TZOFFSETFROM:-0600
TZOFFSETTO:-0500
TZNAME:CDT
DTSTART:20240310T080000
END:DAYLIGHT
BEGIN:STANDARD
TZOFFSETFROM:-0500
TZOFFSETTO:-0600
TZNAME:CST
DTSTART:20241103T070000
END:STANDARD
BEGIN:DAYLIGHT
TZOFFSETFROM:-0600
TZOFFSETTO:-0500
TZNAME:CDT
DTSTART:20250309T080000
END:DAYLIGHT
BEGIN:STANDARD
TZOFFSETFROM:-0500
TZOFFSETTO:-0600
TZNAME:CST
DTSTART:20251102T070000
END:STANDARD
END:VTIMEZONE
BEGIN:VEVENT
DTSTART;TZID=America/Chicago:20240620T193000
DTEND;TZID=America/Chicago:20240714T213000
DTSTAMP:20260422T044159
CREATED:20240529T022224Z
LAST-MODIFIED:20240529T022224Z
UID:8915-1718911800-1720992600@communityreporter.org
SUMMARY:Glensheen at History Theatre
DESCRIPTION:June 20 – July 14. History Theatre. 2:00 p.m. or 7:30 p.m. $15-$82. \nHistory Theatre is thrilled to announce the cast of Glensheen returning this summer for a limited run! Jen Maren will reprise her role of Marjorie Caldwell and Dane Stauffer will portray her husband\, Roger. The talented ensemble features Gary Briggle\, Ruthie Baker\, Wendy Lehr\, Randy Schmeling\, and Sandra Struthers. Ron Peluso\, former History Theatre Artistic Director\, will direct. \n For tickets and more info\, visit historytheatre.com/2023-2024/glensheen.
URL:https://communityreporter.org/event/glensheen-at-history-theatre/
LOCATION:Minnesota History Theatre
ATTACH;FMTTYPE=image/jpeg:https://communityreporter.org/wp-content/uploads/2023/05/glensheen127-scaled-e1716949321487.jpg
END:VEVENT
BEGIN:VEVENT
DTSTART;TZID=America/Chicago:20240622T160000
DTEND;TZID=America/Chicago:20240705T200000
DTSTAMP:20260422T044159
CREATED:20240529T020318Z
LAST-MODIFIED:20240529T020318Z
UID:8893-1719072000-1720209600@communityreporter.org
SUMMARY:Avian Night Sky Art Exhibition
DESCRIPTION:June 22 – July 5. 4:00 – 8:00 p.m. Schmidt Artists Lofts. \nAvian Night Sky: A Collaborative Exploration of Darkness and Transition. Artists  MaryBeth Garrigan and Petra Johnita Lommen invite you to immerse yourself in  the celestial wonder of their “Avian Night Sky” exhibition at the Schmidt Artist Lofts Landmark Gallery in St Paul.   \nThis captivating display celebrates the fading beauty of our night skies\,  threatened by light pollution. Through ethereal paintings\, the artists explore the  transformative power of darkness. As birds soar through starlit heavens\, they  become metaphors for our own journeys through the subconscious realms of life.   \nCall 651-564-1026 or email uglydaisystudio@gmail.com for private tours or visit www.uglydaisy.com for more information.  
URL:https://communityreporter.org/event/avian-night-sky-art-exhibition/
LOCATION:Schmidt Artists Lofts
ATTACH;FMTTYPE=image/png:https://communityreporter.org/wp-content/uploads/2024/05/avian-night-sky-e1716948173290.png
END:VEVENT
BEGIN:VEVENT
DTSTART;TZID=America/Chicago:20240627T170000
DTEND;TZID=America/Chicago:20240627T190000
DTSTAMP:20260422T044159
CREATED:20240529T015311Z
LAST-MODIFIED:20240529T015311Z
UID:8879-1719507600-1719514800@communityreporter.org
SUMMARY:Summer Nights in Rice
DESCRIPTION:Thursdays\, 5:00-7:00 p.m. Rice Park. Free \nJoin the Rice Park Association and Landmark Center for a free concert series\, Summer Nights in Rice\, on select Thursdays\, 5-7 p.m.\, from June through September. Guests may grab a drink or a bite to eat at a local restaurant and then stop by for live music\, dancing and community connections in Rice Park! Make it a night of outdoor music by attending Summer Nights in Rice and then making your way down to Lowertown Sounds in Mears Park! Performers for the 2024 season are soon to be announced!\n\nPerformance Schedule: \n\nJune 27th\nJuly 11th\nJuly 18th\nAugust 15th\nAugust 29th\nSeptember 12th\n\nFor more information for dates and upcoming performers\, please visit landmarkcenter.org/event/summer-nights-in-rice.
URL:https://communityreporter.org/event/summer-nights-in-rice/
LOCATION:Rice Park
ATTACH;FMTTYPE=image/jpeg:https://communityreporter.org/wp-content/uploads/2023/08/Jeff-Bartlett-Rice-Park-13-scaled-e1716947565656.jpeg
END:VEVENT
BEGIN:VEVENT
DTSTART;TZID=America/Chicago:20240627T180000
DTEND;TZID=America/Chicago:20240627T200000
DTSTAMP:20260422T044159
CREATED:20240529T014940Z
LAST-MODIFIED:20240529T014940Z
UID:8874-1719511200-1719518400@communityreporter.org
SUMMARY:Lowertown sounds
DESCRIPTION:Thursdays\, 6:00 p.m. Mears Park. Free \nLowertown Sounds is a free\, independent community concert series held on Thursday nights in Mears Park. Concerts begin at 6 p.m. and end around 9:30 p.m. Guests are invited to bring blankets and chairs to enjoy the show. Check out the schedule below for more information on our upcoming shows! *Schedule and lineup subject to change. \nThe June 27 show will feature The Scarlet Goodbye with The Cole Allen Band.  \nLearn more at lowertownsounds.com/schedule.
URL:https://communityreporter.org/event/lowertown-sounds/
LOCATION:Mears Park
ATTACH;FMTTYPE=image/jpeg:https://communityreporter.org/wp-content/uploads/2024/05/LTS-6.27-Show-1200x628-1.jpg
END:VEVENT
END:VCALENDAR