BEGIN:VCALENDAR
VERSION:2.0
PRODID:-//Community Reporter - ECPv6.15.20//NONSGML v1.0//EN
CALSCALE:GREGORIAN
METHOD:PUBLISH
X-ORIGINAL-URL:https://communityreporter.org
X-WR-CALDESC:Events for Community Reporter
REFRESH-INTERVAL;VALUE=DURATION:PT1H
X-Robots-Tag:noindex
X-PUBLISHED-TTL:PT1H
BEGIN:VTIMEZONE
TZID:America/Chicago
BEGIN:DAYLIGHT
TZOFFSETFROM:-0600
TZOFFSETTO:-0500
TZNAME:CDT
DTSTART:20230312T080000
END:DAYLIGHT
BEGIN:STANDARD
TZOFFSETFROM:-0500
TZOFFSETTO:-0600
TZNAME:CST
DTSTART:20231105T070000
END:STANDARD
BEGIN:DAYLIGHT
TZOFFSETFROM:-0600
TZOFFSETTO:-0500
TZNAME:CDT
DTSTART:20240310T080000
END:DAYLIGHT
BEGIN:STANDARD
TZOFFSETFROM:-0500
TZOFFSETTO:-0600
TZNAME:CST
DTSTART:20241103T070000
END:STANDARD
BEGIN:DAYLIGHT
TZOFFSETFROM:-0600
TZOFFSETTO:-0500
TZNAME:CDT
DTSTART:20250309T080000
END:DAYLIGHT
BEGIN:STANDARD
TZOFFSETFROM:-0500
TZOFFSETTO:-0600
TZNAME:CST
DTSTART:20251102T070000
END:STANDARD
END:VTIMEZONE
BEGIN:VEVENT
DTSTART;TZID=America/Chicago:20240620T113000
DTEND;TZID=America/Chicago:20240620T123000
DTSTAMP:20260422T044201
CREATED:20240430T152228Z
LAST-MODIFIED:20240501T150007Z
UID:8695-1718883000-1718886600@communityreporter.org
SUMMARY:Community Conversations with Councilmember Rebecca Noecker
DESCRIPTION:June 20\, 11:30 a.m.-12:30 p.m. Wildflyer Coffee. \nCommunity Conversations are an opportunity for anyone to drop by\, ask questions\, follow up on concerns\, and get to know other Ward 2 neighbors. \nJune 20\, 11:30 am-12:30 pm\nWildflyer Coffee\n1362 7th Street
URL:https://communityreporter.org/event/community-conversations-with-councilmember-rebecca-noecker/
LOCATION:Wildflyer Coffee
ATTACH;FMTTYPE=image/jpeg:https://communityreporter.org/wp-content/uploads/2019/10/19-October-Rebecca-Noecker-1-e1699464348868.jpg
END:VEVENT
BEGIN:VEVENT
DTSTART;TZID=America/Chicago:20240620T180000
DTEND;TZID=America/Chicago:20240620T200000
DTSTAMP:20260422T044201
CREATED:20240529T021648Z
LAST-MODIFIED:20240529T021648Z
UID:8911-1718906400-1718913600@communityreporter.org
SUMMARY:Lowertown sounds
DESCRIPTION:Thursdays\, 6:00 p.m. Mears Park. Free \nLowertown Sounds is a free\, independent community concert series held on Thursday nights in Mears Park. Concerts begin at 6 p.m. and end around 9:30 p.m. Guests are invited to bring blankets and chairs to enjoy the show. Check out the schedule below for more information on our upcoming shows! *Schedule and lineup subject to change. \nThe June 20 show will feature The New Standards with Laamar.  \nLearn more at lowertownsounds.com/schedule.
URL:https://communityreporter.org/event/lowertown-sounds-2/
LOCATION:Mears Park
ATTACH;FMTTYPE=image/jpeg:https://communityreporter.org/wp-content/uploads/2024/05/LTS-6.20-Show-1200x628-1.jpg
END:VEVENT
BEGIN:VEVENT
DTSTART;TZID=America/Chicago:20240620T193000
DTEND;TZID=America/Chicago:20240714T213000
DTSTAMP:20260422T044201
CREATED:20240529T022224Z
LAST-MODIFIED:20240529T022224Z
UID:8915-1718911800-1720992600@communityreporter.org
SUMMARY:Glensheen at History Theatre
DESCRIPTION:June 20 – July 14. History Theatre. 2:00 p.m. or 7:30 p.m. $15-$82. \nHistory Theatre is thrilled to announce the cast of Glensheen returning this summer for a limited run! Jen Maren will reprise her role of Marjorie Caldwell and Dane Stauffer will portray her husband\, Roger. The talented ensemble features Gary Briggle\, Ruthie Baker\, Wendy Lehr\, Randy Schmeling\, and Sandra Struthers. Ron Peluso\, former History Theatre Artistic Director\, will direct. \n For tickets and more info\, visit historytheatre.com/2023-2024/glensheen.
URL:https://communityreporter.org/event/glensheen-at-history-theatre/
LOCATION:Minnesota History Theatre
ATTACH;FMTTYPE=image/jpeg:https://communityreporter.org/wp-content/uploads/2023/05/glensheen127-scaled-e1716949321487.jpg
END:VEVENT
END:VCALENDAR