BEGIN:VCALENDAR
VERSION:2.0
PRODID:-//Community Reporter - ECPv6.15.20//NONSGML v1.0//EN
CALSCALE:GREGORIAN
METHOD:PUBLISH
X-WR-CALNAME:Community Reporter
X-ORIGINAL-URL:https://communityreporter.org
X-WR-CALDESC:Events for Community Reporter
REFRESH-INTERVAL;VALUE=DURATION:PT1H
X-Robots-Tag:noindex
X-PUBLISHED-TTL:PT1H
BEGIN:VTIMEZONE
TZID:America/Chicago
BEGIN:DAYLIGHT
TZOFFSETFROM:-0600
TZOFFSETTO:-0500
TZNAME:CDT
DTSTART:20230312T080000
END:DAYLIGHT
BEGIN:STANDARD
TZOFFSETFROM:-0500
TZOFFSETTO:-0600
TZNAME:CST
DTSTART:20231105T070000
END:STANDARD
BEGIN:DAYLIGHT
TZOFFSETFROM:-0600
TZOFFSETTO:-0500
TZNAME:CDT
DTSTART:20240310T080000
END:DAYLIGHT
BEGIN:STANDARD
TZOFFSETFROM:-0500
TZOFFSETTO:-0600
TZNAME:CST
DTSTART:20241103T070000
END:STANDARD
BEGIN:DAYLIGHT
TZOFFSETFROM:-0600
TZOFFSETTO:-0500
TZNAME:CDT
DTSTART:20250309T080000
END:DAYLIGHT
BEGIN:STANDARD
TZOFFSETFROM:-0500
TZOFFSETTO:-0600
TZNAME:CST
DTSTART:20251102T070000
END:STANDARD
END:VTIMEZONE
BEGIN:VEVENT
DTSTART;TZID=America/Chicago:20240613T180000
DTEND;TZID=America/Chicago:20240613T200000
DTSTAMP:20260422T045428
CREATED:20240529T023027Z
LAST-MODIFIED:20240529T023027Z
UID:8922-1718301600-1718308800@communityreporter.org
SUMMARY:Lowertown sounds
DESCRIPTION:Thursdays\, 6:00 p.m. Mears Park. Free \nLowertown Sounds is a free\, independent community concert series held on Thursday nights in Mears Park. Concerts begin at 6 p.m. and end around 9:30 p.m. Guests are invited to bring blankets and chairs to enjoy the show. Check out the schedule below for more information on our upcoming shows! *Schedule and lineup subject to change. \nThe June 13 show will feature Erik Koskinen with Molly Maher & Her Disbelievers.  \nLearn more at lowertownsounds.com/schedule.
URL:https://communityreporter.org/event/lowertown-sounds-3/
LOCATION:Mears Park
ATTACH;FMTTYPE=image/jpeg:https://communityreporter.org/wp-content/uploads/2024/05/LTS-6.13-Show-1200x628-UPDATED.jpg
END:VEVENT
BEGIN:VEVENT
DTSTART;TZID=America/Chicago:20240613T180000
DTEND;TZID=America/Chicago:20240613T200000
DTSTAMP:20260422T045428
CREATED:20240529T023208Z
LAST-MODIFIED:20240610T195646Z
UID:8926-1718301600-1718308800@communityreporter.org
SUMMARY:Music in Irvine Park
DESCRIPTION:June 13\, 4:00 pm. Irvine Park. Free \nThe Historic Irvine Park Association presents Music In Irvine Park throughout the summer. This month’s concert will feature Rolf Haas\, Alicia McQuerrey and Richard Belcher of the St. Paul Chamber Orchestra.
URL:https://communityreporter.org/event/music-in-irvine-park-2/
LOCATION:Irvine Park
ATTACH;FMTTYPE=image/png:https://communityreporter.org/wp-content/uploads/2024/05/music-in-irvine-park.png
END:VEVENT
END:VCALENDAR