BEGIN:VCALENDAR
VERSION:2.0
PRODID:-//Community Reporter - ECPv6.15.20//NONSGML v1.0//EN
CALSCALE:GREGORIAN
METHOD:PUBLISH
X-WR-CALNAME:Community Reporter
X-ORIGINAL-URL:https://communityreporter.org
X-WR-CALDESC:Events for Community Reporter
REFRESH-INTERVAL;VALUE=DURATION:PT1H
X-Robots-Tag:noindex
X-PUBLISHED-TTL:PT1H
BEGIN:VTIMEZONE
TZID:America/Chicago
BEGIN:DAYLIGHT
TZOFFSETFROM:-0600
TZOFFSETTO:-0500
TZNAME:CDT
DTSTART:20230312T080000
END:DAYLIGHT
BEGIN:STANDARD
TZOFFSETFROM:-0500
TZOFFSETTO:-0600
TZNAME:CST
DTSTART:20231105T070000
END:STANDARD
BEGIN:DAYLIGHT
TZOFFSETFROM:-0600
TZOFFSETTO:-0500
TZNAME:CDT
DTSTART:20240310T080000
END:DAYLIGHT
BEGIN:STANDARD
TZOFFSETFROM:-0500
TZOFFSETTO:-0600
TZNAME:CST
DTSTART:20241103T070000
END:STANDARD
BEGIN:DAYLIGHT
TZOFFSETFROM:-0600
TZOFFSETTO:-0500
TZNAME:CDT
DTSTART:20250309T080000
END:DAYLIGHT
BEGIN:STANDARD
TZOFFSETFROM:-0500
TZOFFSETTO:-0600
TZNAME:CST
DTSTART:20251102T070000
END:STANDARD
END:VTIMEZONE
BEGIN:VEVENT
DTSTART;TZID=America/Chicago:20240529T090000
DTEND;TZID=America/Chicago:20240601T170000
DTSTAMP:20260422T045340
CREATED:20240501T150414Z
LAST-MODIFIED:20240501T150414Z
UID:8708-1716973200-1717261200@communityreporter.org
SUMMARY:Flint Hills Family Festival
DESCRIPTION:May 29-June 1. Rice Park. Free with some paid performances. \nDance\, discover\, and dream at the 2024 Flint Hills Family Festival! At this annual event\, kids can dance to local and nationally renowned artists like Davina and the Vagabonds; 123 Andres!; NOOMA\, an opera for babies; and Cirque Kalabanté with low-priced tickets. Plus\, local music and dance groups\, including fan favorites B2wins and Salsa del Soul\, will give FREE performances on two outdoor stages Friday night and Saturday. \nThe whole family can discover all that St. Paul has to offer by creating their own adventure through Rice Park\, enjoying interactive artmaking activities with Festival Partners including Children’s Theatre Company\, Hoang Anh Vietnamese Dance Group\, George Latimer Central Library\, Math Happens and so many more. With free crafts\, STEAM activities\, henna artists\, face painting\, balloon artists\, and so much more\, there is something for everyone! \nLearn more at ordway.org/festival.
URL:https://communityreporter.org/event/flint-hills-family-festival/
LOCATION:Ordway Center for the Performing Arts
ATTACH;FMTTYPE=image/webp:https://communityreporter.org/wp-content/uploads/2024/02/FlintHills2023-7281032_-e1708794323204.webp
END:VEVENT
BEGIN:VEVENT
DTSTART;TZID=America/Chicago:20240601T090000
DTEND;TZID=America/Chicago:20240601T130000
DTSTAMP:20260422T045340
CREATED:20240416T185947Z
LAST-MODIFIED:20240416T185947Z
UID:8670-1717232400-1717246800@communityreporter.org
SUMMARY:St. Peter’s Lutheran Church Give Away-Everything is Free
DESCRIPTION:June 1. 9:00 a.m. – 1:00 p.m. St. Peter’s Lutheran Church.\nSt. Peter’s Lutheran Church is hosting a “Give Away-Everything is Free” Event at 530 So. Victoria (corner of Armstrong and Victoria) on Saturday\, June 1st from 9 a.m. -1 p.m. The rummage sale where everything is free will have clothing and household items available for the community.
URL:https://communityreporter.org/event/st-peters-lutheran-church-give-away-everything-is-free/
LOCATION:St. Peter’s Lutheran Church
END:VEVENT
BEGIN:VEVENT
DTSTART;TZID=America/Chicago:20240601T100000
DTEND;TZID=America/Chicago:20240602T160000
DTSTAMP:20260422T045340
CREATED:20240529T030008Z
LAST-MODIFIED:20240529T030008Z
UID:8951-1717236000-1717344000@communityreporter.org
SUMMARY:Train Days at Union Depot
DESCRIPTION:June 1-2. 10:00 a.m.-4:00 p.m. Union Depot. Free \nTrain Days will take place at Union Depot on Saturday\, June 1 and Sunday\, June 2\, 2024\, from 10 a.m. to 4 p.m. This annual fun-filled weekend celebrates railroad transportation and features train-themed activities and attractions. This is a free\, family-friendly event that features entertainment for all ages. \n There will be a dedicated kids activity area where children will find crafts\, coloring kits\, train play tables and more. The South Lawn will feature a DJ\, dance zone\, bounce house\, chalk-drawing area\, and a llama experience where guests can feed\, pet and take pictures with llamas. Kids of all ages can marvel at large model trains as they weave in and around eye-catching miniature landscapes. \n Visitors will be able to browse a rail-themed marketplace featuring a wide selection of vendors. Toys\, apparel\, model trains\, photography and other locomotive items will be on display and available for purchase. \n Visit uniondepot.org/traindays and Union Depot social media channels to see vendor highlights and learn more about Train Days.
URL:https://communityreporter.org/event/train-days-at-union-depot/
LOCATION:Union Depot
ATTACH;FMTTYPE=image/jpeg:https://communityreporter.org/wp-content/uploads/2024/05/train-days-e1716951581755.jpg
END:VEVENT
END:VCALENDAR