BEGIN:VCALENDAR
VERSION:2.0
PRODID:-//Community Reporter - ECPv6.15.20//NONSGML v1.0//EN
CALSCALE:GREGORIAN
METHOD:PUBLISH
X-WR-CALNAME:Community Reporter
X-ORIGINAL-URL:https://communityreporter.org
X-WR-CALDESC:Events for Community Reporter
REFRESH-INTERVAL;VALUE=DURATION:PT1H
X-Robots-Tag:noindex
X-PUBLISHED-TTL:PT1H
BEGIN:VTIMEZONE
TZID:America/Chicago
BEGIN:DAYLIGHT
TZOFFSETFROM:-0600
TZOFFSETTO:-0500
TZNAME:CDT
DTSTART:20220313T080000
END:DAYLIGHT
BEGIN:STANDARD
TZOFFSETFROM:-0500
TZOFFSETTO:-0600
TZNAME:CST
DTSTART:20221106T070000
END:STANDARD
BEGIN:DAYLIGHT
TZOFFSETFROM:-0600
TZOFFSETTO:-0500
TZNAME:CDT
DTSTART:20230312T080000
END:DAYLIGHT
BEGIN:STANDARD
TZOFFSETFROM:-0500
TZOFFSETTO:-0600
TZNAME:CST
DTSTART:20231105T070000
END:STANDARD
BEGIN:DAYLIGHT
TZOFFSETFROM:-0600
TZOFFSETTO:-0500
TZNAME:CDT
DTSTART:20240310T080000
END:DAYLIGHT
BEGIN:STANDARD
TZOFFSETFROM:-0500
TZOFFSETTO:-0600
TZNAME:CST
DTSTART:20241103T070000
END:STANDARD
BEGIN:DAYLIGHT
TZOFFSETFROM:-0600
TZOFFSETTO:-0500
TZNAME:CDT
DTSTART:20250309T080000
END:DAYLIGHT
BEGIN:STANDARD
TZOFFSETFROM:-0500
TZOFFSETTO:-0600
TZNAME:CST
DTSTART:20251102T070000
END:STANDARD
END:VTIMEZONE
BEGIN:VEVENT
DTSTART;TZID=America/Chicago:20231104T100000
DTEND;TZID=America/Chicago:20240524T160000
DTSTAMP:20260422T110712
CREATED:20231129T164558Z
LAST-MODIFIED:20231129T164558Z
UID:7403-1699092000-1716566400@communityreporter.org
SUMMARY:Hazel Belvo: For Love
DESCRIPTION:November 4\, 2023–May 24\, 2024. Minnesota Museum of American Art \nHazel Belvo is a significant American artist\, art educator and feminist leader. This series of exquisite artworks\, representing couples in positions of intimacy\, tenderness\, and reciprocity\, began in 1967 as a counter to the dry and shame-inducing sex education her son was receiving in school and continued until 1982. The Love Drawings are about so much more than intimacy and pleasure\, although these are important themes. They are exquisite representations of loving connections\, tenderness\, and reciprocity—a call for love and respect instead of war and violence\, dignity and joy instead of shame and insensitivity.   \nLearn more at mmaa.org/hazel-belvo-for-love 
URL:https://communityreporter.org/event/hazel-belvo-for-love/
LOCATION:Minnesota Museum of American Art
END:VEVENT
BEGIN:VEVENT
DTSTART;TZID=America/Chicago:20240216T163000
DTEND;TZID=America/Chicago:20240329T193000
DTSTAMP:20260422T110712
CREATED:20240223T185559Z
LAST-MODIFIED:20240223T185713Z
UID:8321-1708101000-1711740600@communityreporter.org
SUMMARY:St. Matthew’s Church Lenten fish fry
DESCRIPTION:February 16-March 29. 4:30-7:30 p.m. St. Matthew’s. Free-$15. \nOur 35th annual dine-in or curbside-to-go Lenten Fish Fry. Serving from 4:30 to 7:30 pm  every Friday from February 16 through and including Good Friday on March 29. Meal includes choice of fried or baked Wild Caught Alaskan Pollock\, baked potato\, vegetable\, coleslaw\, roll and dessert. Coffee\, milk\, and water included. Adults $15\, Children 5-12 $7\, under 5 free. Non-fish options are spaghetti or grilled cheese meals. Adults $13. Children 5-12 $6\, under 5 free. Beer\, wine and pop available for purchase at dine-in. Cash\, check or card. Dine-in via Social Hall entrance\, door 5\, at the back of the church. Curbside-to-go enter line off Humboldt Ave onto Robie St to Hall Ave at front of the church. St. Matthew’s\, 510 Hall Ave. st-matts.org.
URL:https://communityreporter.org/event/st-matthews-church-lenten-fish-fry/
LOCATION:St. Matthew’s Church
ATTACH;FMTTYPE=image/jpeg:https://communityreporter.org/wp-content/uploads/2024/02/St-Matthew-Fish-Fry-Feb-2024-thumbnail-440x600-1.jpg
END:VEVENT
BEGIN:VEVENT
DTSTART;TZID=America/Chicago:20240222T120000
DTEND;TZID=America/Chicago:20240222T130000
DTSTAMP:20260422T110712
CREATED:20240216T195930Z
LAST-MODIFIED:20240216T195930Z
UID:8214-1708603200-1708606800@communityreporter.org
SUMMARY:Crash Course for Caregivers at JFS
DESCRIPTION:Feb. 22 – Aug. 22. 12:00-1:00 p.m. Shalom Home East Campus. Free \nJewish Family Service of St. Paul (JFS)\, in partnership with Sholom\, invites anyone searching  for help with their caregiver journey to the Crash Course for Caregivers\, a six-class educational series  covering different aspects of caregiving. These classes will be part educational and part participatory with an  opportunity for caregivers to learn from and share with each other. They are free and will all be offered from  noon to 1:00PM at Sholom East Campus\, 740 Kay in St. Paul.   \nThe series begins on Thursday\, February 22 with Working with Emotions and Emotional Wellbeing followed by  Caregiver Grief and Loss on March 28. Quality Caregiving in the Home will be the topic of the May 23 meeting\,  followed by Improving Communication Skills on June 27\, Quality Caregiving in a Facility on July 25\, and finally\, Caregiver Resources on August 22.   \nRegister for one\, two or all six classes\, all free and open to the public. A free lunch will also be provided.  Contact Ali Lilja at alilja@sholom.com or (651) 328-2258 for more information and to registration.  
URL:https://communityreporter.org/event/crash-course-for-caregivers-at-jfs/
LOCATION:Shalom Home East Campus
ATTACH;FMTTYPE=image/jpeg:https://communityreporter.org/wp-content/uploads/2021/04/jewish-family-services.jpg
END:VEVENT
BEGIN:VEVENT
DTSTART;TZID=America/Chicago:20240222T180000
DTEND;TZID=America/Chicago:20240222T190000
DTSTAMP:20260422T110712
CREATED:20240216T195531Z
LAST-MODIFIED:20240216T195642Z
UID:8211-1708624800-1708628400@communityreporter.org
SUMMARY:Community Meeting with Office of Neighborhood Safety
DESCRIPTION:Feb 22. Palace Community Center. 6:00-7:00 p.m. \nThe Office of Neighborhood Safety was launched in 2022 and reflects the expansion of Mayor Carter’s Community-First Public Safety (CFPS) Framework which incorporates balanced investments in policing and an array of strategies focused on addressing the root causes of crime in pursuit of the most comprehensive\, coordinated and data-driven approach to public safety Saint Paul has ever endeavored.\n\nJoin us on February 22\, 2024 6pm – 7pm for a West 7th community chat with the Director of the Office of Neighborhood Safety\, Brooke Blakey. \n\nVisit stpaul.gov/departments/neighborhood-safety for more details.
URL:https://communityreporter.org/event/community-meeting-with-office-of-neighborhood-safety/
LOCATION:Palace Community Center
ATTACH;FMTTYPE=image/jpeg:https://communityreporter.org/wp-content/uploads/2021/02/bw-no-bkgrd-cr-logo-e1614573822135.jpg
END:VEVENT
BEGIN:VEVENT
DTSTART;TZID=America/Chicago:20240222T183000
DTEND;TZID=America/Chicago:20240222T193000
DTSTAMP:20260422T110712
CREATED:20240117T193836Z
LAST-MODIFIED:20240117T193836Z
UID:7928-1708626600-1708630200@communityreporter.org
SUMMARY:All About Seeds
DESCRIPTION:February 22\, 6:30 p.m. Online \nSeeds are the foundation of a garden. In this class\, you will learn about choosing seeds\, growing seeds and saving seeds. It’s all in the name: this class is All About Seeds. This  class is taught by the Master Gardeners volunteers of Ramsey  County\, MN. Our mission is to share research-based\, eco-friendly gardening with residents in an effort to improve physical and environmental health. This program is a partnership with the University of Minnesota Extension Master Gardener Volunteer Program and Ramsey County Department of Environmental Health. \nVisit our website to find reference tools\, including handouts\, websites\, and book suggestions that can help you take the information from the class to the next level\, ramseymastergardeners.org/event-details/all-about-seeds. \nRegistration closes Feb 21\, 2024\, 6:30 PM CST
URL:https://communityreporter.org/event/all-about-seeds/
ATTACH;FMTTYPE=image/webp:https://communityreporter.org/wp-content/uploads/2024/01/seeds.webp
END:VEVENT
END:VCALENDAR