BEGIN:VCALENDAR
VERSION:2.0
PRODID:-//Community Reporter - ECPv6.15.20//NONSGML v1.0//EN
CALSCALE:GREGORIAN
METHOD:PUBLISH
X-WR-CALNAME:Community Reporter
X-ORIGINAL-URL:https://communityreporter.org
X-WR-CALDESC:Events for Community Reporter
REFRESH-INTERVAL;VALUE=DURATION:PT1H
X-Robots-Tag:noindex
X-PUBLISHED-TTL:PT1H
BEGIN:VTIMEZONE
TZID:America/Chicago
BEGIN:DAYLIGHT
TZOFFSETFROM:-0600
TZOFFSETTO:-0500
TZNAME:CDT
DTSTART:20220313T080000
END:DAYLIGHT
BEGIN:STANDARD
TZOFFSETFROM:-0500
TZOFFSETTO:-0600
TZNAME:CST
DTSTART:20221106T070000
END:STANDARD
BEGIN:DAYLIGHT
TZOFFSETFROM:-0600
TZOFFSETTO:-0500
TZNAME:CDT
DTSTART:20230312T080000
END:DAYLIGHT
BEGIN:STANDARD
TZOFFSETFROM:-0500
TZOFFSETTO:-0600
TZNAME:CST
DTSTART:20231105T070000
END:STANDARD
BEGIN:DAYLIGHT
TZOFFSETFROM:-0600
TZOFFSETTO:-0500
TZNAME:CDT
DTSTART:20240310T080000
END:DAYLIGHT
BEGIN:STANDARD
TZOFFSETFROM:-0500
TZOFFSETTO:-0600
TZNAME:CST
DTSTART:20241103T070000
END:STANDARD
BEGIN:DAYLIGHT
TZOFFSETFROM:-0600
TZOFFSETTO:-0500
TZNAME:CDT
DTSTART:20250309T080000
END:DAYLIGHT
BEGIN:STANDARD
TZOFFSETFROM:-0500
TZOFFSETTO:-0600
TZNAME:CST
DTSTART:20251102T070000
END:STANDARD
END:VTIMEZONE
BEGIN:VEVENT
DTSTART;TZID=America/Chicago:20231104T100000
DTEND;TZID=America/Chicago:20240524T160000
DTSTAMP:20260422T110719
CREATED:20231129T164558Z
LAST-MODIFIED:20231129T164558Z
UID:7403-1699092000-1716566400@communityreporter.org
SUMMARY:Hazel Belvo: For Love
DESCRIPTION:November 4\, 2023–May 24\, 2024. Minnesota Museum of American Art \nHazel Belvo is a significant American artist\, art educator and feminist leader. This series of exquisite artworks\, representing couples in positions of intimacy\, tenderness\, and reciprocity\, began in 1967 as a counter to the dry and shame-inducing sex education her son was receiving in school and continued until 1982. The Love Drawings are about so much more than intimacy and pleasure\, although these are important themes. They are exquisite representations of loving connections\, tenderness\, and reciprocity—a call for love and respect instead of war and violence\, dignity and joy instead of shame and insensitivity.   \nLearn more at mmaa.org/hazel-belvo-for-love 
URL:https://communityreporter.org/event/hazel-belvo-for-love/
LOCATION:Minnesota Museum of American Art
END:VEVENT
BEGIN:VEVENT
DTSTART;TZID=America/Chicago:20240202T193000
DTEND;TZID=America/Chicago:20240217T210000
DTSTAMP:20260422T110719
CREATED:20240117T190916Z
LAST-MODIFIED:20240117T190916Z
UID:7896-1706902200-1708203600@communityreporter.org
SUMMARY:‘Til Death
DESCRIPTION:February 2 – 17. Art House North Theater. $20-$30 \nThe hit musical comedy that’s become a Twin Cities Valentine’s tradition returns for its 12th season! Ethan and Olivia are stuck in marital midlife crisis and in a tiny cabin with a honeymooning couple who are perfectly perfect for each other. Will their marriages last… the weekend? The hit musical that’s ridiculous\, heart-wrenching\, squirm-inducing and lovely… just like marriage. \nEnjoy a concert of love songs from our own Michael Pearce Donley\, whilst enjoying complimentary coffee and cupcakes from our neighborhood bakery\, Brake Bread\, during intermission! \nTickets: (All seating is reserved)  $30\, $25 for Seniors\, Students and Groups 6+\n$20 Opening Weekend! For tickets\, showtimes and more information\, visit bucketbrigadetheater.com/shows/til-death.
URL:https://communityreporter.org/event/til-death/
LOCATION:Art House North Theater
ATTACH;FMTTYPE=image/png:https://communityreporter.org/wp-content/uploads/2024/01/Til-Death.png
END:VEVENT
BEGIN:VEVENT
DTSTART;TZID=America/Chicago:20240211T130000
DTEND;TZID=America/Chicago:20240211T150000
DTSTAMP:20260422T110719
CREATED:20240117T193354Z
LAST-MODIFIED:20240117T193354Z
UID:7921-1707656400-1707663600@communityreporter.org
SUMMARY:Sundays at Landmark: Urban Expedition - Australia and New Zealand
DESCRIPTION:February 11\, 1:00-3:00 p.m. Landmark Center. Free \nUrban Expedition is back for its 20th season to provide the community with an opportunity to travel the world without leaving St. Paul! Celebrate authentic cultural experiences including music\, dance\, crafts and traditions for a truly immersive program. Attendees will be provided with a “passport” for the series and are encouraged to get theirs stamped at each event for a chance to win a special prize! Upcoming Urban Expeditions include Australia and New Zealand on February 11\, France on February 25\, Brazil on March 10 and Ivory Coast on April 7. \nThe events will run from 1-3 pm and are free to attend. Learn more at landmarkcenter.org/sundays-at-landmark.
URL:https://communityreporter.org/event/sundays-at-landmark-urban-expedition-australia-and-new-zealand/
LOCATION:Landmark Center
ATTACH;FMTTYPE=image/jpeg:https://communityreporter.org/wp-content/uploads/2024/01/urban-expedition-scaled.jpg
END:VEVENT
END:VCALENDAR