BEGIN:VCALENDAR
VERSION:2.0
PRODID:-//Community Reporter - ECPv6.15.20//NONSGML v1.0//EN
CALSCALE:GREGORIAN
METHOD:PUBLISH
X-ORIGINAL-URL:https://communityreporter.org
X-WR-CALDESC:Events for Community Reporter
REFRESH-INTERVAL;VALUE=DURATION:PT1H
X-Robots-Tag:noindex
X-PUBLISHED-TTL:PT1H
BEGIN:VTIMEZONE
TZID:America/Chicago
BEGIN:DAYLIGHT
TZOFFSETFROM:-0600
TZOFFSETTO:-0500
TZNAME:CDT
DTSTART:20220313T080000
END:DAYLIGHT
BEGIN:STANDARD
TZOFFSETFROM:-0500
TZOFFSETTO:-0600
TZNAME:CST
DTSTART:20221106T070000
END:STANDARD
BEGIN:DAYLIGHT
TZOFFSETFROM:-0600
TZOFFSETTO:-0500
TZNAME:CDT
DTSTART:20230312T080000
END:DAYLIGHT
BEGIN:STANDARD
TZOFFSETFROM:-0500
TZOFFSETTO:-0600
TZNAME:CST
DTSTART:20231105T070000
END:STANDARD
BEGIN:DAYLIGHT
TZOFFSETFROM:-0600
TZOFFSETTO:-0500
TZNAME:CDT
DTSTART:20240310T080000
END:DAYLIGHT
BEGIN:STANDARD
TZOFFSETFROM:-0500
TZOFFSETTO:-0600
TZNAME:CST
DTSTART:20241103T070000
END:STANDARD
BEGIN:DAYLIGHT
TZOFFSETFROM:-0600
TZOFFSETTO:-0500
TZNAME:CDT
DTSTART:20250309T080000
END:DAYLIGHT
BEGIN:STANDARD
TZOFFSETFROM:-0500
TZOFFSETTO:-0600
TZNAME:CST
DTSTART:20251102T070000
END:STANDARD
END:VTIMEZONE
BEGIN:VEVENT
DTSTART;TZID=America/Chicago:20231104T100000
DTEND;TZID=America/Chicago:20240524T160000
DTSTAMP:20260422T105733
CREATED:20231129T164558Z
LAST-MODIFIED:20231129T164558Z
UID:7403-1699092000-1716566400@communityreporter.org
SUMMARY:Hazel Belvo: For Love
DESCRIPTION:November 4\, 2023–May 24\, 2024. Minnesota Museum of American Art \nHazel Belvo is a significant American artist\, art educator and feminist leader. This series of exquisite artworks\, representing couples in positions of intimacy\, tenderness\, and reciprocity\, began in 1967 as a counter to the dry and shame-inducing sex education her son was receiving in school and continued until 1982. The Love Drawings are about so much more than intimacy and pleasure\, although these are important themes. They are exquisite representations of loving connections\, tenderness\, and reciprocity—a call for love and respect instead of war and violence\, dignity and joy instead of shame and insensitivity.   \nLearn more at mmaa.org/hazel-belvo-for-love 
URL:https://communityreporter.org/event/hazel-belvo-for-love/
LOCATION:Minnesota Museum of American Art
END:VEVENT
BEGIN:VEVENT
DTSTART;TZID=America/Chicago:20240202T190000
DTEND;TZID=America/Chicago:20240210T213000
DTSTAMP:20260422T105733
CREATED:20240117T190617Z
LAST-MODIFIED:20240117T190617Z
UID:7892-1706900400-1707600600@communityreporter.org
SUMMARY:Joseph and the Amazing Technicolor Dreamcoat
DESCRIPTION:February 2-10. King of Kings Lutheran Church\, Woodbury. $15-$25. \n“Sha la la\, Joseph\, you’re doing fine! You and your dream coat\, ahead of your time!” One of the most enduring shows of all time\, Joseph is a reimagining of the Biblical story of Joseph\, his father Jacob\, eleven brothers and their wives and the coat of many colors is being staged by Open Door Community Theater (ODCT) from February 2-10.  \nODCT will be sharing a portion of our ticket sale proceeds to Joseph’s Coat and accepting donations of hygiene products like new full-size shampoo\, body wash\, deodorant and lotion. Your gifts will help ensure that they are able to serve shoppers and maintain our store through the winter and beyond. Learn more and purchase tickets at opendoorcommunitytheatre.thundertix.com/events/222107.
URL:https://communityreporter.org/event/joseph-and-the-amazing-technicolor-dreamcoat/
LOCATION:King of Kings Lutheran Church\, Woodbury\, MN\, United States
ATTACH;FMTTYPE=image/webp:https://communityreporter.org/wp-content/uploads/2024/01/joseph.webp
END:VEVENT
BEGIN:VEVENT
DTSTART;TZID=America/Chicago:20240202T193000
DTEND;TZID=America/Chicago:20240217T210000
DTSTAMP:20260422T105733
CREATED:20240117T190916Z
LAST-MODIFIED:20240117T190916Z
UID:7896-1706902200-1708203600@communityreporter.org
SUMMARY:‘Til Death
DESCRIPTION:February 2 – 17. Art House North Theater. $20-$30 \nThe hit musical comedy that’s become a Twin Cities Valentine’s tradition returns for its 12th season! Ethan and Olivia are stuck in marital midlife crisis and in a tiny cabin with a honeymooning couple who are perfectly perfect for each other. Will their marriages last… the weekend? The hit musical that’s ridiculous\, heart-wrenching\, squirm-inducing and lovely… just like marriage. \nEnjoy a concert of love songs from our own Michael Pearce Donley\, whilst enjoying complimentary coffee and cupcakes from our neighborhood bakery\, Brake Bread\, during intermission! \nTickets: (All seating is reserved)  $30\, $25 for Seniors\, Students and Groups 6+\n$20 Opening Weekend! For tickets\, showtimes and more information\, visit bucketbrigadetheater.com/shows/til-death.
URL:https://communityreporter.org/event/til-death/
LOCATION:Art House North Theater
ATTACH;FMTTYPE=image/png:https://communityreporter.org/wp-content/uploads/2024/01/Til-Death.png
END:VEVENT
BEGIN:VEVENT
DTSTART;TZID=America/Chicago:20240203T100000
DTEND;TZID=America/Chicago:20240203T150000
DTSTAMP:20260422T105733
CREATED:20240117T191519Z
LAST-MODIFIED:20240117T191519Z
UID:7903-1706954400-1706972400@communityreporter.org
SUMMARY:Doggie Depot
DESCRIPTION:February 3\, 10:00 a.m. – 3:00 p.m. Union Depot \nUnion Depot is going to the dogs for this year’s Doggie Depot. Start the day with a doga session (dog yoga) taught by Studio 9-to-5 at 9 a.m. The main event kicks off on Saturday\, February 3 at 10 a.m. Shop local pet vendors in the Waiting Room and celebrate the grand crowning ceremony of the 2024 St. Paul Winter Carnival Canine King & Queen with the St. Paul Winter Carnival Royal Family. Follow Union Depot on social media for highlights of local vendors\, rescues\, dog products and adoptable pups. \nVisit uniondepot.org/doggiedepot for details and to vote for your favorite pup.
URL:https://communityreporter.org/event/doggie-depot/
LOCATION:Union Depot
ATTACH;FMTTYPE=image/jpeg:https://communityreporter.org/wp-content/uploads/2024/01/UD-6304-Doggie-Depot.jpg
END:VEVENT
BEGIN:VEVENT
DTSTART;TZID=America/Chicago:20240203T171500
DTEND;TZID=America/Chicago:20240203T193000
DTSTAMP:20260422T105733
CREATED:20240117T191810Z
LAST-MODIFIED:20240117T191810Z
UID:7907-1706980500-1706988600@communityreporter.org
SUMMARY:Vulcan Victory Torchlight Parade
DESCRIPTION:February 3\, 5:15 – 7:30 p.m. Downtown St. Paul \nVulcanus Rex will use his wily ways to light up the streets of downtown St. Paul for the Vulcan Victory Torchlight Parade\, marking the Vulcans march to overthrow King Boreas and bring summer back to the city of St. Paul. \nWatch as Vulcanus Rex storms the magnificent “ice” castle and confronts the Royal King’s Guard.  Upon the good counsel of the Queen\, Boreas waves farewell to the people of his winter capitol and Vulcanus once again rules the land. Fireworks and live music immediately follow in Rice Park! \nSee the route and learn more at wintercarnival.com/event/vulcan-victory-torchlight-parade
URL:https://communityreporter.org/event/vulcan-victory-torchlight-parade/
ATTACH;FMTTYPE=image/jpeg:https://communityreporter.org/wp-content/uploads/2024/01/Torchlight-Parade.jpg
END:VEVENT
END:VCALENDAR