BEGIN:VCALENDAR
VERSION:2.0
PRODID:-//Community Reporter - ECPv6.15.20//NONSGML v1.0//EN
CALSCALE:GREGORIAN
METHOD:PUBLISH
X-WR-CALNAME:Community Reporter
X-ORIGINAL-URL:https://communityreporter.org
X-WR-CALDESC:Events for Community Reporter
REFRESH-INTERVAL;VALUE=DURATION:PT1H
X-Robots-Tag:noindex
X-PUBLISHED-TTL:PT1H
BEGIN:VTIMEZONE
TZID:America/Chicago
BEGIN:DAYLIGHT
TZOFFSETFROM:-0600
TZOFFSETTO:-0500
TZNAME:CDT
DTSTART:20220313T080000
END:DAYLIGHT
BEGIN:STANDARD
TZOFFSETFROM:-0500
TZOFFSETTO:-0600
TZNAME:CST
DTSTART:20221106T070000
END:STANDARD
BEGIN:DAYLIGHT
TZOFFSETFROM:-0600
TZOFFSETTO:-0500
TZNAME:CDT
DTSTART:20230312T080000
END:DAYLIGHT
BEGIN:STANDARD
TZOFFSETFROM:-0500
TZOFFSETTO:-0600
TZNAME:CST
DTSTART:20231105T070000
END:STANDARD
BEGIN:DAYLIGHT
TZOFFSETFROM:-0600
TZOFFSETTO:-0500
TZNAME:CDT
DTSTART:20240310T080000
END:DAYLIGHT
BEGIN:STANDARD
TZOFFSETFROM:-0500
TZOFFSETTO:-0600
TZNAME:CST
DTSTART:20241103T070000
END:STANDARD
BEGIN:DAYLIGHT
TZOFFSETFROM:-0600
TZOFFSETTO:-0500
TZNAME:CDT
DTSTART:20250309T080000
END:DAYLIGHT
BEGIN:STANDARD
TZOFFSETFROM:-0500
TZOFFSETTO:-0600
TZNAME:CST
DTSTART:20251102T070000
END:STANDARD
END:VTIMEZONE
BEGIN:VEVENT
DTSTART;VALUE=DATE:20231103
DTEND;VALUE=DATE:20240101
DTSTAMP:20260422T135658
CREATED:20231023T165928Z
LAST-MODIFIED:20231124T204601Z
UID:7010-1698969600-1704067199@communityreporter.org
SUMMARY:“We Are Still Here” Indigenous Art Showcase at Friedli Gallery
DESCRIPTION:Opening Reception November 3\, 6:00 – 8:00 p.m. Friedli Gallery\n“We Are Still Here” moves into its fourth year at Friedli Gallery. Featuring native artists from across Turtle Island\, “We Are Still Here” brings to the fore the life\, histories and politics of what it means to be Indigenous in the 21st Century. Artists featured in this year’s show include Jennifer Adams\, Armond Antonio\, Tamara Aupaumut\, Racquel Banaszak\, Aiyana Beaulieu\, Carly Bordeau\, Jamie Z Brown\, Awanigiizhik Bruce\, Shaun Chosa\, Robert DesJarlait\, Kent Estey\, Gidinatiy Hartman\, Madeline Hernandez\, Rayshele Kamke\, Chanti Manon-Ferguson\, Niki Pico\, Abby Sunde. Tammy Villegas\, and Sam Zimmerman. “We Are Still Here” Opening Reception is Friday November 3rd from 6-8pm. Learn more about this event at friedliartsgallery.com.
URL:https://communityreporter.org/event/we-are-still-here-indigenous-art-showcase-at-friedli-gallery/
LOCATION:Friedli Gallery
CATEGORIES:Cultural Events
ATTACH;FMTTYPE=image/jpeg:https://communityreporter.org/wp-content/uploads/2023/10/we-are-still-here.jpg
END:VEVENT
BEGIN:VEVENT
DTSTART;TZID=America/Chicago:20231104T100000
DTEND;TZID=America/Chicago:20240524T160000
DTSTAMP:20260422T135658
CREATED:20231129T164558Z
LAST-MODIFIED:20231129T164558Z
UID:7403-1699092000-1716566400@communityreporter.org
SUMMARY:Hazel Belvo: For Love
DESCRIPTION:November 4\, 2023–May 24\, 2024. Minnesota Museum of American Art \nHazel Belvo is a significant American artist\, art educator and feminist leader. This series of exquisite artworks\, representing couples in positions of intimacy\, tenderness\, and reciprocity\, began in 1967 as a counter to the dry and shame-inducing sex education her son was receiving in school and continued until 1982. The Love Drawings are about so much more than intimacy and pleasure\, although these are important themes. They are exquisite representations of loving connections\, tenderness\, and reciprocity—a call for love and respect instead of war and violence\, dignity and joy instead of shame and insensitivity.   \nLearn more at mmaa.org/hazel-belvo-for-love 
URL:https://communityreporter.org/event/hazel-belvo-for-love/
LOCATION:Minnesota Museum of American Art
END:VEVENT
BEGIN:VEVENT
DTSTART;VALUE=DATE:20231201
DTEND;VALUE=DATE:20240101
DTSTAMP:20260422T135658
CREATED:20231129T164036Z
LAST-MODIFIED:20231129T164036Z
UID:7401-1701388800-1704067199@communityreporter.org
SUMMARY:Indigenous Cultural Event Series at Friedli Gallery
DESCRIPTION:Throughout December. Friedli Gallery.  \nFriedli Gallery is highlighting Indigenous Artists through a series of cultural events throughout the next month. \nOngoing: “We Are Still Here\,” moves into its fourth year at Friedli Gallery.  Featuring native artists from across Turtle Island\, “We Are Still Here” brings to the fore the life\, histories and politics of what it means to be Indigenous in the 21st Century. This show continues on through the end of December 2023. \nDecember 2\, 3 p.m. an afternoon with renowned Indigenous Artist Sam Zimmerman. Zimmerman will share insights into their artistic journey\, discussing the influence\, techniques and inspirations that have shaped their unique style. He will also delve into the storytelling aspect of his art\, highlighting the cultural significance and narratives embedded in each unique piece. RSVP on Eventbrite at bit.ly/46AhKXT \nDecember 12\, 6 p.m. Native American storytelling with Seneca Elder Hope Flanagan. Immerse yourself in rich cultural heritage as Hope weaves tales passed down through generations. Through her captivating stories\, she will transport you to a world filled with ancient wisdom\, legends\, and traditions. Don’t miss this unique opportunity to experience the power of storytelling firsthand. RSVP on Eventbrite at bit.ly/49SIsy8 \nLearn more at friedliartsgallery.com
URL:https://communityreporter.org/event/indigenous-cultural-event-series-at-friedli-gallery/
LOCATION:Friedli Gallery
ATTACH;FMTTYPE=image/jpeg:https://communityreporter.org/wp-content/uploads/2023/10/we-are-still-here.jpg
END:VEVENT
BEGIN:VEVENT
DTSTART;TZID=America/Chicago:20231213T190000
DTEND;TZID=America/Chicago:20231213T210000
DTSTAMP:20260422T135658
CREATED:20231129T161452Z
LAST-MODIFIED:20231129T163426Z
UID:7389-1702494000-1702501200@communityreporter.org
SUMMARY:The 75th Anniversary of the Genocide Convention: The Challenge of Prevention
DESCRIPTION:December 13\, 7:00 – 9:00 p.m. Online. $5-$25 \nThis program examines the efforts to prevent and punish genocide perpetrators at tribunals from Nuremberg to the International Criminal Court\, including the story of an undercover agent operating in Europe during World War II. This webinar is open to the public: $10 general public; $5 students and seniors; $25 for two Continuing Legal Education credits for Minnesota lawyers (pending); and free to Mitchell Hamline students. Diversity credits are available for Mitchell Hamline students and mentor externship credit is available for University of St. Thomas Law students. \nRegistration is required by Wednesday\, December 13 at 5:00 pm: worldwithoutgenocide.org/prevention
URL:https://communityreporter.org/event/the-75th-anniversary-of-the-genocide-convention-the-challenge-of-prevention/
END:VEVENT
END:VCALENDAR