BEGIN:VCALENDAR
VERSION:2.0
PRODID:-//Community Reporter - ECPv6.15.20//NONSGML v1.0//EN
CALSCALE:GREGORIAN
METHOD:PUBLISH
X-ORIGINAL-URL:https://communityreporter.org
X-WR-CALDESC:Events for Community Reporter
REFRESH-INTERVAL;VALUE=DURATION:PT1H
X-Robots-Tag:noindex
X-PUBLISHED-TTL:PT1H
BEGIN:VTIMEZONE
TZID:America/Chicago
BEGIN:DAYLIGHT
TZOFFSETFROM:-0600
TZOFFSETTO:-0500
TZNAME:CDT
DTSTART:20220313T080000
END:DAYLIGHT
BEGIN:STANDARD
TZOFFSETFROM:-0500
TZOFFSETTO:-0600
TZNAME:CST
DTSTART:20221106T070000
END:STANDARD
BEGIN:DAYLIGHT
TZOFFSETFROM:-0600
TZOFFSETTO:-0500
TZNAME:CDT
DTSTART:20230312T080000
END:DAYLIGHT
BEGIN:STANDARD
TZOFFSETFROM:-0500
TZOFFSETTO:-0600
TZNAME:CST
DTSTART:20231105T070000
END:STANDARD
BEGIN:DAYLIGHT
TZOFFSETFROM:-0600
TZOFFSETTO:-0500
TZNAME:CDT
DTSTART:20240310T080000
END:DAYLIGHT
BEGIN:STANDARD
TZOFFSETFROM:-0500
TZOFFSETTO:-0600
TZNAME:CST
DTSTART:20241103T070000
END:STANDARD
END:VTIMEZONE
BEGIN:VEVENT
DTSTART;TZID=America/Chicago:20231101T193000
DTEND;TZID=America/Chicago:20231119T213000
DTSTAMP:20260422T164806
CREATED:20231023T165422Z
LAST-MODIFIED:20231025T191414Z
UID:7001-1698867000-1700429400@communityreporter.org
SUMMARY:ANON(YMOUS)
DESCRIPTION:November 1-19\, Park Square Theater\, Pay as you are able \nTempest-tossed and lost at sea\, a young refugee called Anon embarks on a harrowing journey across the United States to find his mother. Based on Homer’s epic poem\, The Odyssey\, Anon(ymous) weaves together ancient truths and contemporary realities about re-membering one’s identity and finding home in a strange new land. The fair market price per ticket is $35\, but every performance of Anon(ymous) is pay as you are able. Learn more and purchase tickets at fullcircletheatermn.org/tickets.
URL:https://communityreporter.org/event/anonymous/
LOCATION:Park Square Theater
CATEGORIES:Cultural Events,Theater
ATTACH;FMTTYPE=image/jpeg:https://communityreporter.org/wp-content/uploads/2023/10/Anonymous-IMAGE.jpeg
END:VEVENT
BEGIN:VEVENT
DTSTART;TZID=America/Chicago:20231102T080000
DTEND;TZID=America/Chicago:20231102T120000
DTSTAMP:20260422T164806
CREATED:20231023T165604Z
LAST-MODIFIED:20231023T171001Z
UID:7004-1698912000-1698926400@communityreporter.org
SUMMARY:Sweater Vest Fest
DESCRIPTION:November 2\, 8:00 a.m.-12:00 p.m.\, Break Bread \nSweater vest cookies! New seasonal drink menu! Who wore it vest? Photo collection! Plus\, wear your sweater vest and get 10% off your order. Learn more and pre-order your sweater vest cookies at brakebread.com.
URL:https://communityreporter.org/event/sweater-vest-fest/
LOCATION:Brake Bread
CATEGORIES:Food
ATTACH;FMTTYPE=image/png:https://communityreporter.org/wp-content/uploads/2023/10/unnamed-1.png
END:VEVENT
END:VCALENDAR