BEGIN:VCALENDAR
VERSION:2.0
PRODID:-//Community Reporter - ECPv6.15.20//NONSGML v1.0//EN
CALSCALE:GREGORIAN
METHOD:PUBLISH
X-ORIGINAL-URL:https://communityreporter.org
X-WR-CALDESC:Events for Community Reporter
REFRESH-INTERVAL;VALUE=DURATION:PT1H
X-Robots-Tag:noindex
X-PUBLISHED-TTL:PT1H
BEGIN:VTIMEZONE
TZID:America/Chicago
BEGIN:DAYLIGHT
TZOFFSETFROM:-0600
TZOFFSETTO:-0500
TZNAME:CDT
DTSTART:20220313T080000
END:DAYLIGHT
BEGIN:STANDARD
TZOFFSETFROM:-0500
TZOFFSETTO:-0600
TZNAME:CST
DTSTART:20221106T070000
END:STANDARD
BEGIN:DAYLIGHT
TZOFFSETFROM:-0600
TZOFFSETTO:-0500
TZNAME:CDT
DTSTART:20230312T080000
END:DAYLIGHT
BEGIN:STANDARD
TZOFFSETFROM:-0500
TZOFFSETTO:-0600
TZNAME:CST
DTSTART:20231105T070000
END:STANDARD
BEGIN:DAYLIGHT
TZOFFSETFROM:-0600
TZOFFSETTO:-0500
TZNAME:CDT
DTSTART:20240310T080000
END:DAYLIGHT
BEGIN:STANDARD
TZOFFSETFROM:-0500
TZOFFSETTO:-0600
TZNAME:CST
DTSTART:20241103T070000
END:STANDARD
END:VTIMEZONE
BEGIN:VEVENT
DTSTART;TZID=America/Chicago:20230929T190000
DTEND;TZID=America/Chicago:20231020T210000
DTSTAMP:20260422T164728
CREATED:20230921T193417Z
LAST-MODIFIED:20231009T184514Z
UID:6498-1696014000-1697835600@communityreporter.org
SUMMARY:Fall Movies in the Parks
DESCRIPTION:Get in the fall spirit with our fall Movies in the Parks Scary Movie series! All shows are free. Bring a blanket or lawn chair. Shows begin at dusk. Food trucks and pre-show activities will be available 1 hour before showtime. Costumes are encouraged! For a list of movies and to learn more\, visit stpaul.gov/departments/parks-and-recreation/activities-events/summer-activities-events/movies-parks
URL:https://communityreporter.org/event/fall-movies-in-the-parks/
CATEGORIES:Cultural Events
ATTACH;FMTTYPE=image/png:https://communityreporter.org/wp-content/uploads/2023/09/unnamed.png
END:VEVENT
BEGIN:VEVENT
DTSTART;TZID=America/Chicago:20231001T090000
DTEND;TZID=America/Chicago:20231015T120000
DTSTAMP:20260422T164728
CREATED:20230926T195242Z
LAST-MODIFIED:20231009T184514Z
UID:6607-1696150800-1697371200@communityreporter.org
SUMMARY:St. John’s-Holy Apostles Farmers’ Market
DESCRIPTION:The St. John’s-Holy Apostles Farmers’ Market runs in the parking lot of St. John’s every Sunday morning starting at 9am\, June through mid-October. \nThis joint effort brings farmers from the Hmong parish of Holy Apostles Episcopal Church to sell fresh produce each summer. Learn more at stjohnsstpaul.org/community/outreach/farmers-market-fields-to-families.
URL:https://communityreporter.org/event/st-johns-holy-apostles-farmers-market/
CATEGORIES:Food
END:VEVENT
BEGIN:VEVENT
DTSTART;TZID=America/Chicago:20231004T153000
DTEND;TZID=America/Chicago:20231004T170000
DTSTAMP:20260422T164728
CREATED:20230921T193758Z
LAST-MODIFIED:20231009T184513Z
UID:6502-1696433400-1696438800@communityreporter.org
SUMMARY:Zoning code public hearing
DESCRIPTION:The St. Paul City Council will hold a public hearing on proposed Zoning Code and Zoning Map amendments\, as well as other changes to the Legislative Code regarding additional zoning flexibility to support greater housing diversity in residential zoning districts\, on Wednesday\, October 4\, 2023\, at 3:30 p.m at St. Paul City Hall.   \nProposed amendments include new residential zoning districts to replace existing one-family districts\, adding two-family districts\, townhouse districts and lower-density planned development districts\, along with new standards regulating lot area\, height\, setbacks and lot coverage\, among others. \nFor those not able to attend\, comments can be submitted in writing to Contact-Council@ci.stpaul.mn.us or mailed to Office of the City Council\, 310 City Hall\, 15 Kellogg Blvd. West\, St. Paul\, MN 55102   \nLearn more at stpaul.gov/departments/planning-and-economic-development/planning/current-activities/1-4-unit-housing-study. 
URL:https://communityreporter.org/event/public-hearing/
LOCATION:St. Paul City Hall
CATEGORIES:Misc
ATTACH;FMTTYPE=image/png:https://communityreporter.org/wp-content/uploads/2023/09/stpaul-logo-vertical-3color_0.png
END:VEVENT
END:VCALENDAR